BEGIN:VCALENDAR
VERSION:2.0
PRODID:-//Barlows Primary School - ECPv6.15.20//NONSGML v1.0//EN
CALSCALE:GREGORIAN
METHOD:PUBLISH
X-ORIGINAL-URL:https://barlowsprimary.co.uk
X-WR-CALDESC:Events for Barlows Primary School
REFRESH-INTERVAL;VALUE=DURATION:PT1H
X-Robots-Tag:noindex
X-PUBLISHED-TTL:PT1H
BEGIN:VTIMEZONE
TZID:Europe/London
BEGIN:DAYLIGHT
TZOFFSETFROM:+0000
TZOFFSETTO:+0100
TZNAME:BST
DTSTART:20240331T010000
END:DAYLIGHT
BEGIN:STANDARD
TZOFFSETFROM:+0100
TZOFFSETTO:+0000
TZNAME:GMT
DTSTART:20241027T010000
END:STANDARD
BEGIN:DAYLIGHT
TZOFFSETFROM:+0000
TZOFFSETTO:+0100
TZNAME:BST
DTSTART:20250330T010000
END:DAYLIGHT
BEGIN:STANDARD
TZOFFSETFROM:+0100
TZOFFSETTO:+0000
TZNAME:GMT
DTSTART:20251026T010000
END:STANDARD
BEGIN:DAYLIGHT
TZOFFSETFROM:+0000
TZOFFSETTO:+0100
TZNAME:BST
DTSTART:20260329T010000
END:DAYLIGHT
BEGIN:STANDARD
TZOFFSETFROM:+0100
TZOFFSETTO:+0000
TZNAME:GMT
DTSTART:20261025T010000
END:STANDARD
END:VTIMEZONE
BEGIN:VEVENT
DTSTART;VALUE=DATE:20250501
DTEND;VALUE=DATE:20250502
DTSTAMP:20260424T013344
CREATED:20250606T001205Z
LAST-MODIFIED:20250606T001205Z
UID:13336-1746057600-1746143999@barlowsprimary.co.uk
SUMMARY:Tag Rugby Skills Sessions - Saints Rugby Team  Year 2
DESCRIPTION:Tag Rugby Skills Sessions – Saints Rugby Team \nYear 2 \n01/05/25 \nOn 01/05/25\, our Year 2 pupils will take part in an \nexciting Tag Rugby Festival from Saints Rugby Club \nand Liverpool Lions at our local sports venue at \nAdlam Park. \nAt the session\, pupils will be led through a series of \ndrills and exercises by professional coaches to \ndevelop their Tag Rugby skills and enhance their \nunderstanding of invasion games and competition. \nFurther information of this will be available through \nour parent communications on Arbor.
URL:https://barlowsprimary.co.uk/event/tag-rugby-skills-sessions-saints-rugby-team-year-2/
END:VEVENT
END:VCALENDAR