BEGIN:VCALENDAR
VERSION:2.0
PRODID:-//Barlows Primary School - ECPv6.15.20//NONSGML v1.0//EN
CALSCALE:GREGORIAN
METHOD:PUBLISH
X-ORIGINAL-URL:https://barlowsprimary.co.uk
X-WR-CALDESC:Events for Barlows Primary School
REFRESH-INTERVAL;VALUE=DURATION:PT1H
X-Robots-Tag:noindex
X-PUBLISHED-TTL:PT1H
BEGIN:VTIMEZONE
TZID:Europe/London
BEGIN:DAYLIGHT
TZOFFSETFROM:+0000
TZOFFSETTO:+0100
TZNAME:BST
DTSTART:20240331T010000
END:DAYLIGHT
BEGIN:STANDARD
TZOFFSETFROM:+0100
TZOFFSETTO:+0000
TZNAME:GMT
DTSTART:20241027T010000
END:STANDARD
BEGIN:DAYLIGHT
TZOFFSETFROM:+0000
TZOFFSETTO:+0100
TZNAME:BST
DTSTART:20250330T010000
END:DAYLIGHT
BEGIN:STANDARD
TZOFFSETFROM:+0100
TZOFFSETTO:+0000
TZNAME:GMT
DTSTART:20251026T010000
END:STANDARD
BEGIN:DAYLIGHT
TZOFFSETFROM:+0000
TZOFFSETTO:+0100
TZNAME:BST
DTSTART:20260329T010000
END:DAYLIGHT
BEGIN:STANDARD
TZOFFSETFROM:+0100
TZOFFSETTO:+0000
TZNAME:GMT
DTSTART:20261025T010000
END:STANDARD
END:VTIMEZONE
BEGIN:VEVENT
DTSTART;VALUE=DATE:20250512
DTEND;VALUE=DATE:20250516
DTSTAMP:20260424T013342
CREATED:20250326T101455Z
LAST-MODIFIED:20250326T101455Z
UID:12977-1747008000-1747353599@barlowsprimary.co.uk
SUMMARY:Key Stage 2 SATS
DESCRIPTION:
URL:https://barlowsprimary.co.uk/event/key-stage-2-sats/
END:VEVENT
BEGIN:VEVENT
DTSTART;TZID=Europe/London:20250512T080000
DTEND;TZID=Europe/London:20250516T170000
DTSTAMP:20260424T013342
CREATED:20250606T001409Z
LAST-MODIFIED:20250606T001409Z
UID:13344-1747036800-1747414800@barlowsprimary.co.uk
SUMMARY:Mental Health Awareness Week  12/05/25  -  16/05/25
DESCRIPTION:Mental Health Awareness Week \n12/05/25–16/05/25 \nMental Health Awareness Week starts on Monday 12th May to Friday 16th May 2025. This year\, we will be \ncelebrating the theme of ‘Communities That Support Us’ to protect and nurture good mental health. \nWe know that we thrive when we have strong connections with others and supportive communities around us. We \nalso know that people who are more socially connected to family\, friends\, or their community are happier\, \nphysically healthier\, and live longer\, with fewer mental health problems than people who are less well connected. \nMrs Berry will be planning engaging activities this week to promote good mental health during this week and \nbeyond for our pupils.
URL:https://barlowsprimary.co.uk/event/mental-health-awareness-week-12-05-25-16-05-25/
END:VEVENT
BEGIN:VEVENT
DTSTART;TZID=Europe/London:20250515T090000
DTEND;TZID=Europe/London:20250515T153000
DTSTAMP:20260424T013342
CREATED:20250606T001703Z
LAST-MODIFIED:20250606T001703Z
UID:13353-1747299600-1747323000@barlowsprimary.co.uk
SUMMARY:Key Stage Two SATS  Year 6  12/05/25-15/05/25
DESCRIPTION:Key Stage Two SATS \nYear 6 \n12/05/25–15/05/25 \nThe end of Key stage 2 Assessment Tests (SATs) for Year 6 take place the week commencing 12th -15th May \n2025. These are the statutory tests which take place each year for Year 6 pupils. \nThese tests are a tool to help measure the progress pupils have made and identify if they need additional support \nin a particular area. The children and staff have been working extremely hard to prepare for these assessments \nwhich include tests in English Grammar Punctuation and Spelling\, Reading and Mathematics. \nOur Year 6 pupils are invited to join their friends in school for breakfast from 8:15am each morning of the tests. \nMore information regarding the tests will be sent out by Mrs Taylor via Arbor.
URL:https://barlowsprimary.co.uk/event/key-stage-two-sats-year-6-12-05-25-15-05-25-4/
END:VEVENT
BEGIN:VEVENT
DTSTART;TZID=Europe/London:20250515T153000
DTEND;TZID=Europe/London:20250515T180000
DTSTAMP:20260424T013342
CREATED:20250606T001135Z
LAST-MODIFIED:20250606T001135Z
UID:13334-1747323000-1747332000@barlowsprimary.co.uk
SUMMARY:SEND Parent/Carer Meetings with SENDCO
DESCRIPTION:SEND Parent/Carer Meetings with SENDCO \nwc 06/05/25 and wc 12/05/25 \nAs part of our developments in SEND\, Mrs Berry \n(SENDCO) has arranged times for all parents and \ncarers to be able to make an appointment to discuss \nany issues or concerns you may have relating to \nSEND and your child. \nAppointments are available on the following dates: \nTuesday 06/05/25 – 3:30pm -6pm \nWednesday 07/05/25 – 3:30pm – 6pm \nThursday 15/05/25 – 3:30pm – 6pm \nA link will be sent via Arbor to book your appointment.
URL:https://barlowsprimary.co.uk/event/send-parent-carer-meetings-with-sendco-3/
END:VEVENT
END:VCALENDAR