BEGIN:VCALENDAR
VERSION:2.0
PRODID:-//Barlows Primary School - ECPv6.15.20//NONSGML v1.0//EN
CALSCALE:GREGORIAN
METHOD:PUBLISH
X-WR-CALNAME:Barlows Primary School
X-ORIGINAL-URL:https://barlowsprimary.co.uk
X-WR-CALDESC:Events for Barlows Primary School
REFRESH-INTERVAL;VALUE=DURATION:PT1H
X-Robots-Tag:noindex
X-PUBLISHED-TTL:PT1H
BEGIN:VTIMEZONE
TZID:Europe/London
BEGIN:DAYLIGHT
TZOFFSETFROM:+0000
TZOFFSETTO:+0100
TZNAME:BST
DTSTART:20240331T010000
END:DAYLIGHT
BEGIN:STANDARD
TZOFFSETFROM:+0100
TZOFFSETTO:+0000
TZNAME:GMT
DTSTART:20241027T010000
END:STANDARD
BEGIN:DAYLIGHT
TZOFFSETFROM:+0000
TZOFFSETTO:+0100
TZNAME:BST
DTSTART:20250330T010000
END:DAYLIGHT
BEGIN:STANDARD
TZOFFSETFROM:+0100
TZOFFSETTO:+0000
TZNAME:GMT
DTSTART:20251026T010000
END:STANDARD
BEGIN:DAYLIGHT
TZOFFSETFROM:+0000
TZOFFSETTO:+0100
TZNAME:BST
DTSTART:20260329T010000
END:DAYLIGHT
BEGIN:STANDARD
TZOFFSETFROM:+0100
TZOFFSETTO:+0000
TZNAME:GMT
DTSTART:20261025T010000
END:STANDARD
END:VTIMEZONE
BEGIN:VEVENT
DTSTART;TZID=Europe/London:20250512T080000
DTEND;TZID=Europe/London:20250516T170000
DTSTAMP:20260424T030000
CREATED:20250606T001409Z
LAST-MODIFIED:20250606T001409Z
UID:13344-1747036800-1747414800@barlowsprimary.co.uk
SUMMARY:Mental Health Awareness Week  12/05/25  -  16/05/25
DESCRIPTION:Mental Health Awareness Week \n12/05/25–16/05/25 \nMental Health Awareness Week starts on Monday 12th May to Friday 16th May 2025. This year\, we will be \ncelebrating the theme of ‘Communities That Support Us’ to protect and nurture good mental health. \nWe know that we thrive when we have strong connections with others and supportive communities around us. We \nalso know that people who are more socially connected to family\, friends\, or their community are happier\, \nphysically healthier\, and live longer\, with fewer mental health problems than people who are less well connected. \nMrs Berry will be planning engaging activities this week to promote good mental health during this week and \nbeyond for our pupils.
URL:https://barlowsprimary.co.uk/event/mental-health-awareness-week-12-05-25-16-05-25/
END:VEVENT
BEGIN:VEVENT
DTSTART;VALUE=DATE:20250516
DTEND;VALUE=DATE:20250517
DTSTAMP:20260424T030000
CREATED:20250606T001824Z
LAST-MODIFIED:20250606T001824Z
UID:13358-1747353600-1747439999@barlowsprimary.co.uk
SUMMARY:Science Lab Visit to Dixons’ Academy  Fazakerley  Year 5 Parks
DESCRIPTION:Science Lab Visit to Dixons’ Academy \nFazakerley \nYear 5 Parks \n16/05/2025 \nFollowing on from the successful visit to the \nscience labs at Dixon’s Academy Fazakerley for 5 \nWilberforce earlier in the year\, we have been able \nto rearrange the opportunity for Year 5 Parks to \nexperience a secondary school science \nlaboratory and participate in some of the exciting \ninvestigations which can take place in a scientific \nenvironment. \nThe sessions will have a focus on lab safety and \nthrilling experiments will develop the children’s \nunderstanding of changing properties of \nmaterials. Thank you to Dixon’s Academy \nFazakerley for this wonderful opportunity.
URL:https://barlowsprimary.co.uk/event/science-lab-visit-to-dixons-academy-fazakerley-year-5-parks/
END:VEVENT
BEGIN:VEVENT
DTSTART;TZID=Europe/London:20250516T083000
DTEND;TZID=Europe/London:20250516T113000
DTSTAMP:20260424T030000
CREATED:20250506T085135Z
LAST-MODIFIED:20250506T085135Z
UID:13070-1747384200-1747395000@barlowsprimary.co.uk
SUMMARY:5 Parks visit to Dixons Academy for Science session
DESCRIPTION:
URL:https://barlowsprimary.co.uk/event/5-parks-visit-to-dixons-academy-for-science-session/
END:VEVENT
END:VCALENDAR