BEGIN:VCALENDAR
VERSION:2.0
PRODID:-//Barlows Primary School - ECPv6.15.20//NONSGML v1.0//EN
CALSCALE:GREGORIAN
METHOD:PUBLISH
X-ORIGINAL-URL:https://barlowsprimary.co.uk
X-WR-CALDESC:Events for Barlows Primary School
REFRESH-INTERVAL;VALUE=DURATION:PT1H
X-Robots-Tag:noindex
X-PUBLISHED-TTL:PT1H
BEGIN:VTIMEZONE
TZID:Europe/London
BEGIN:DAYLIGHT
TZOFFSETFROM:+0000
TZOFFSETTO:+0100
TZNAME:BST
DTSTART:20240331T010000
END:DAYLIGHT
BEGIN:STANDARD
TZOFFSETFROM:+0100
TZOFFSETTO:+0000
TZNAME:GMT
DTSTART:20241027T010000
END:STANDARD
BEGIN:DAYLIGHT
TZOFFSETFROM:+0000
TZOFFSETTO:+0100
TZNAME:BST
DTSTART:20250330T010000
END:DAYLIGHT
BEGIN:STANDARD
TZOFFSETFROM:+0100
TZOFFSETTO:+0000
TZNAME:GMT
DTSTART:20251026T010000
END:STANDARD
BEGIN:DAYLIGHT
TZOFFSETFROM:+0000
TZOFFSETTO:+0100
TZNAME:BST
DTSTART:20260329T010000
END:DAYLIGHT
BEGIN:STANDARD
TZOFFSETFROM:+0100
TZOFFSETTO:+0000
TZNAME:GMT
DTSTART:20261025T010000
END:STANDARD
END:VTIMEZONE
BEGIN:VEVENT
DTSTART;VALUE=DATE:20250519
DTEND;VALUE=DATE:20250520
DTSTAMP:20260424T013344
CREATED:20250606T001749Z
LAST-MODIFIED:20250606T001805Z
UID:13355-1747612800-1747699199@barlowsprimary.co.uk
SUMMARY:Positive Footprints Career Conversation  Year 5 and 6- Rachael Taylor\, an account  manager. Rachael works for No Isolation who provide AV1 robots to schools
DESCRIPTION:Positive Footprints Career Conversation \nYear 5 and 6 \n19/05/25 \nOn Monday 19/05/25\, as part of their personal \ndevelopment education\, we are pleased to announce \nthat Year 5 and 6 pupils will be attending an online \ncareer conversation with Rachael Taylor\, an account \nmanager. Rachael works for No Isolation who provide \nAV1 robots to schools – a robot will join the children on \nthe call as Rachael discusses how it works. The primary \nobjective of this session is to expose our students to \nvarious career pathways and to help them understand \nthe importance of setting goals and aspirations for their \nfuture. \nThe online session\, which is being hosted by Positive \nFutures as part of our Positive Futures Careers \nAspiration Programme\, will engage students in \ndiscussions about the skills and attributes needed in \ntoday’s job market. This initiative is designed to inspire \nand empower our students as they begin to consider \ntheir futures beyond primary education. We encourage \nyou to discuss this opportunity with your child and to \nsupport them in reflecting on their own interests and \npotential careers they may wish to explore.
URL:https://barlowsprimary.co.uk/event/positive-footprints-career-conversation-year-5-and-6/
END:VEVENT
END:VCALENDAR