BEGIN:VCALENDAR
VERSION:2.0
PRODID:-//Barlows Primary School - ECPv6.15.20//NONSGML v1.0//EN
CALSCALE:GREGORIAN
METHOD:PUBLISH
X-WR-CALNAME:Barlows Primary School
X-ORIGINAL-URL:https://barlowsprimary.co.uk
X-WR-CALDESC:Events for Barlows Primary School
REFRESH-INTERVAL;VALUE=DURATION:PT1H
X-Robots-Tag:noindex
X-PUBLISHED-TTL:PT1H
BEGIN:VTIMEZONE
TZID:Europe/London
BEGIN:DAYLIGHT
TZOFFSETFROM:+0000
TZOFFSETTO:+0100
TZNAME:BST
DTSTART:20240331T010000
END:DAYLIGHT
BEGIN:STANDARD
TZOFFSETFROM:+0100
TZOFFSETTO:+0000
TZNAME:GMT
DTSTART:20241027T010000
END:STANDARD
BEGIN:DAYLIGHT
TZOFFSETFROM:+0000
TZOFFSETTO:+0100
TZNAME:BST
DTSTART:20250330T010000
END:DAYLIGHT
BEGIN:STANDARD
TZOFFSETFROM:+0100
TZOFFSETTO:+0000
TZNAME:GMT
DTSTART:20251026T010000
END:STANDARD
BEGIN:DAYLIGHT
TZOFFSETFROM:+0000
TZOFFSETTO:+0100
TZNAME:BST
DTSTART:20260329T010000
END:DAYLIGHT
BEGIN:STANDARD
TZOFFSETFROM:+0100
TZOFFSETTO:+0000
TZNAME:GMT
DTSTART:20261025T010000
END:STANDARD
END:VTIMEZONE
BEGIN:VEVENT
DTSTART;VALUE=DATE:20250602
DTEND;VALUE=DATE:20250603
DTSTAMP:20260424T000946
CREATED:20250326T101844Z
LAST-MODIFIED:20250326T101844Z
UID:12983-1748822400-1748908799@barlowsprimary.co.uk
SUMMARY:All Pupils Return To School
DESCRIPTION:
URL:https://barlowsprimary.co.uk/event/all-pupils-return-to-school-3/
END:VEVENT
BEGIN:VEVENT
DTSTART;VALUE=DATE:20250602
DTEND;VALUE=DATE:20250603
DTSTAMP:20260424T000946
CREATED:20250605T231501Z
LAST-MODIFIED:20250605T231501Z
UID:13161-1748822400-1748908799@barlowsprimary.co.uk
SUMMARY:Merseyside Youth Association  Resilience Training Sessions  Year 5 and Year 6
DESCRIPTION:Merseyside Youth Association  \nResilience Training Sessions \nYear 5 and Year 6 \n02/06/2025 \nFollowing the success of our Growing Stronger Together family art project\, that took place in the Spring term\, Merseyside Youth Association have offered our pupils in Year 5 and 6 to take part in a ‘How to Build Resilience’ session in school on 02/06/2025. \nChildren will learn about what it means to be resilient in different situations and strategies they might use and apply to build their resilience. \nWe are sure this will be a worthwhile session as our pupils prepare to transition into the next step of the education.
URL:https://barlowsprimary.co.uk/event/merseyside-youth-association-resilience-training-sessions-year-5-and-year-6/
END:VEVENT
BEGIN:VEVENT
DTSTART;VALUE=DATE:20250602
DTEND;VALUE=DATE:20250607
DTSTAMP:20260424T000946
CREATED:20250605T231336Z
LAST-MODIFIED:20250605T231412Z
UID:13157-1748822400-1749254399@barlowsprimary.co.uk
SUMMARY:Year 4 Multiplication Tables Check
DESCRIPTION:Year 4 Multiplication Tables Check \n02/06/25 – 06/06/25 \nBetween 902/06/25 and 06/06/25 our Year 4 pupils will be undertaking their Multiplication Tables Check. This will be led by our Assessment Lead\, Mrs Kirby-Foy who is familiar to the children. \nThe children have been working hard towards this throughout their time in school\, developing the fluency and knowledge of multiplication tables up to 12 x 12. The children should not be concerned by the Multiplication Tables Check as this will be delivered with a supportive and caring approach.
URL:https://barlowsprimary.co.uk/event/year-4-multiplication-tables-check/
END:VEVENT
END:VCALENDAR