BEGIN:VCALENDAR
VERSION:2.0
PRODID:-//Barlows Primary School - ECPv6.15.20//NONSGML v1.0//EN
CALSCALE:GREGORIAN
METHOD:PUBLISH
X-ORIGINAL-URL:https://barlowsprimary.co.uk
X-WR-CALDESC:Events for Barlows Primary School
REFRESH-INTERVAL;VALUE=DURATION:PT1H
X-Robots-Tag:noindex
X-PUBLISHED-TTL:PT1H
BEGIN:VTIMEZONE
TZID:Europe/London
BEGIN:DAYLIGHT
TZOFFSETFROM:+0000
TZOFFSETTO:+0100
TZNAME:BST
DTSTART:20240331T010000
END:DAYLIGHT
BEGIN:STANDARD
TZOFFSETFROM:+0100
TZOFFSETTO:+0000
TZNAME:GMT
DTSTART:20241027T010000
END:STANDARD
BEGIN:DAYLIGHT
TZOFFSETFROM:+0000
TZOFFSETTO:+0100
TZNAME:BST
DTSTART:20250330T010000
END:DAYLIGHT
BEGIN:STANDARD
TZOFFSETFROM:+0100
TZOFFSETTO:+0000
TZNAME:GMT
DTSTART:20251026T010000
END:STANDARD
BEGIN:DAYLIGHT
TZOFFSETFROM:+0000
TZOFFSETTO:+0100
TZNAME:BST
DTSTART:20260329T010000
END:DAYLIGHT
BEGIN:STANDARD
TZOFFSETFROM:+0100
TZOFFSETTO:+0000
TZNAME:GMT
DTSTART:20261025T010000
END:STANDARD
END:VTIMEZONE
BEGIN:VEVENT
DTSTART;VALUE=DATE:20250602
DTEND;VALUE=DATE:20250607
DTSTAMP:20260424T001133
CREATED:20250605T231336Z
LAST-MODIFIED:20250605T231412Z
UID:13157-1748822400-1749254399@barlowsprimary.co.uk
SUMMARY:Year 4 Multiplication Tables Check
DESCRIPTION:Year 4 Multiplication Tables Check \n02/06/25 – 06/06/25 \nBetween 902/06/25 and 06/06/25 our Year 4 pupils will be undertaking their Multiplication Tables Check. This will be led by our Assessment Lead\, Mrs Kirby-Foy who is familiar to the children. \nThe children have been working hard towards this throughout their time in school\, developing the fluency and knowledge of multiplication tables up to 12 x 12. The children should not be concerned by the Multiplication Tables Check as this will be delivered with a supportive and caring approach.
URL:https://barlowsprimary.co.uk/event/year-4-multiplication-tables-check/
END:VEVENT
BEGIN:VEVENT
DTSTART;VALUE=DATE:20250603
DTEND;VALUE=DATE:20250604
DTSTAMP:20260424T001133
CREATED:20250605T232400Z
LAST-MODIFIED:20250605T232400Z
UID:13189-1748908800-1748995199@barlowsprimary.co.uk
SUMMARY:Liverpool City Council ASD Training Team  One to One sessions for parents & carers  June and July 2025
DESCRIPTION:Liverpool City Council ASD Training Team \nOne to One sessions for parents & carers \nJune and July 2025 \nThe Liverpool ASD Training Team are providing a series of virtual drop in advisory sessions via zoom. They are for parent/carers wishing to talk in a private one to one setting about any questions or concerns they may have about their child. You do not require a diagnosis of ASD to book your place. \nPlaces are available on \nTuesday 03/06/25 \nWednesday 04/06/25 \nFriday 06/06/25 \nMonday 09/06/25 \nTuesday 10/06/25 \nMonday 16/06/25 \nMonday 23/06/25 \nWednesday 25/06/25 \nFriday 27/06/25 \nTuesday 01/07/25 \nWednesday 02/07/25 \nThursday 03/07/25 \nTo book your place please email asdtrainingteam@liverpool.gov.uk \nWith a choice of your date and time and you will be emailed a zoom link. \nFor more information about our service please view the Liverpool Local offer Page / Liverpool ASD training team for future training and workshops. \nLiverpool ASD Training Team | Liverpool Family Information & SEND Directory
URL:https://barlowsprimary.co.uk/event/liverpool-city-council-asd-training-team-one-to-one-sessions-for-parents-carers-june-and-july-2025/
END:VEVENT
END:VCALENDAR