BEGIN:VCALENDAR
VERSION:2.0
PRODID:-//Barlows Primary School - ECPv6.15.20//NONSGML v1.0//EN
CALSCALE:GREGORIAN
METHOD:PUBLISH
X-WR-CALNAME:Barlows Primary School
X-ORIGINAL-URL:https://barlowsprimary.co.uk
X-WR-CALDESC:Events for Barlows Primary School
REFRESH-INTERVAL;VALUE=DURATION:PT1H
X-Robots-Tag:noindex
X-PUBLISHED-TTL:PT1H
BEGIN:VTIMEZONE
TZID:Europe/London
BEGIN:DAYLIGHT
TZOFFSETFROM:+0000
TZOFFSETTO:+0100
TZNAME:BST
DTSTART:20240331T010000
END:DAYLIGHT
BEGIN:STANDARD
TZOFFSETFROM:+0100
TZOFFSETTO:+0000
TZNAME:GMT
DTSTART:20241027T010000
END:STANDARD
BEGIN:DAYLIGHT
TZOFFSETFROM:+0000
TZOFFSETTO:+0100
TZNAME:BST
DTSTART:20250330T010000
END:DAYLIGHT
BEGIN:STANDARD
TZOFFSETFROM:+0100
TZOFFSETTO:+0000
TZNAME:GMT
DTSTART:20251026T010000
END:STANDARD
BEGIN:DAYLIGHT
TZOFFSETFROM:+0000
TZOFFSETTO:+0100
TZNAME:BST
DTSTART:20260329T010000
END:DAYLIGHT
BEGIN:STANDARD
TZOFFSETFROM:+0100
TZOFFSETTO:+0000
TZNAME:GMT
DTSTART:20261025T010000
END:STANDARD
END:VTIMEZONE
BEGIN:VEVENT
DTSTART;VALUE=DATE:20250609
DTEND;VALUE=DATE:20250614
DTSTAMP:20260424T000949
CREATED:20250605T231721Z
LAST-MODIFIED:20250605T231721Z
UID:13169-1749427200-1749859199@barlowsprimary.co.uk
SUMMARY:Y1 Phonics Screening Check & Y2 Recheck for some pupils
DESCRIPTION:Y1 Phonics Screening Check & Y2 Recheck for some pupils  \n09/06/25 – 13/06/25 \nBetween 9th June 2025 – 13th June 2025 our Year 1 pupils will be undertaking their Phonics Screening Check. This will be led by our EYFS Lead\, Miss Evans who also leads on the school’s Phonics Program and is familiar to the children. \nThe children should not be concerned by the Phonics Screening Check as this will be delivered with a supportive and caring approach.
URL:https://barlowsprimary.co.uk/event/y1-phonics-screening-check-y2-recheck-for-some-pupils/
END:VEVENT
BEGIN:VEVENT
DTSTART;VALUE=DATE:20250612
DTEND;VALUE=DATE:20250613
DTSTAMP:20260424T000949
CREATED:20250605T231804Z
LAST-MODIFIED:20250605T231804Z
UID:13171-1749686400-1749772799@barlowsprimary.co.uk
SUMMARY:Positive Footprints Career Conversation  Year 5 and 6 - Megan Webb\, a Sustainability Manager
DESCRIPTION:Positive Footprints Career Conversation \nYear 5 and 6  \n12/06/25 \n\nOn Thursday 12/06/25\, as part of their personal development education\, we are pleased to announce that Year 5 and 6 pupils will be attending an online career conversation with Megan Webb\, a sustainability manager. Megan works for Kier Construction\, who are an infrastructure and construction company. The primary objective of this session is to expose our students to various career pathways and to help them understand the importance of setting goals and aspirations for their future. \nThe online session\, which is being hosted by Positive Futures as part of our Positive Futures Careers Aspiration Programme\, will engage students in discussions about the skills and attributes needed in today’s job market. This initiative is designed to inspire and empower our students as they begin to consider their futures beyond primary education. We encourage you to discuss this opportunity with your child and to support them in reflecting on their own interests and potential careers they may wish to explore.
URL:https://barlowsprimary.co.uk/event/positive-footprints-career-conversation-year-5-and-6-megan-webb-a-sustainability-manager/
END:VEVENT
BEGIN:VEVENT
DTSTART;TZID=Europe/London:20250612T093000
DTEND;TZID=Europe/London:20250612T110000
DTSTAMP:20260424T000949
CREATED:20250605T233505Z
LAST-MODIFIED:20250605T233505Z
UID:13224-1749720600-1749726000@barlowsprimary.co.uk
SUMMARY:Liverpool City Council ASD Training Team  Social interaction and Play Workshop for parents & carers
DESCRIPTION:Liverpool City Council ASD Training Team \nSocial interaction and Play Workshop for parents & carers \n12th June 2025 \nThe Liverpool ASD Training Team are providing a Social Interaction/Play Workshop for Parents and carers. \nTarget audience – Parents/Carer who have attended a course to understand social communication/social behaviour or an ASD course who wish to gain a better understanding of the impact it may have on their child’s behaviour. \nAge group – Reception – year 6. \nAims: After attending this training session you will have: \n· A better understanding of how ASD may affect your child Social Interaction/Play with other’s \n· Sharing – Turn- taking- Winning/Losing – Social Rules \nDates:         12th June 2025 \nTime:             9.30am -11am \nVenue:  Zoom – Virtual \nProvider:  Liverpool ASD Training team \nContact: asdtrainingteam@liverpool.gov.uk \nCost: Free \nPlease email asdtrainingteam@liverpool.gov.uk to book a place.
URL:https://barlowsprimary.co.uk/event/liverpool-city-council-asd-training-team-social-interaction-and-play-workshop-for-parents-carers/
END:VEVENT
END:VCALENDAR