BEGIN:VCALENDAR
VERSION:2.0
PRODID:-//Barlows Primary School - ECPv6.15.20//NONSGML v1.0//EN
CALSCALE:GREGORIAN
METHOD:PUBLISH
X-ORIGINAL-URL:https://barlowsprimary.co.uk
X-WR-CALDESC:Events for Barlows Primary School
REFRESH-INTERVAL;VALUE=DURATION:PT1H
X-Robots-Tag:noindex
X-PUBLISHED-TTL:PT1H
BEGIN:VTIMEZONE
TZID:Europe/London
BEGIN:DAYLIGHT
TZOFFSETFROM:+0000
TZOFFSETTO:+0100
TZNAME:BST
DTSTART:20240331T010000
END:DAYLIGHT
BEGIN:STANDARD
TZOFFSETFROM:+0100
TZOFFSETTO:+0000
TZNAME:GMT
DTSTART:20241027T010000
END:STANDARD
BEGIN:DAYLIGHT
TZOFFSETFROM:+0000
TZOFFSETTO:+0100
TZNAME:BST
DTSTART:20250330T010000
END:DAYLIGHT
BEGIN:STANDARD
TZOFFSETFROM:+0100
TZOFFSETTO:+0000
TZNAME:GMT
DTSTART:20251026T010000
END:STANDARD
BEGIN:DAYLIGHT
TZOFFSETFROM:+0000
TZOFFSETTO:+0100
TZNAME:BST
DTSTART:20260329T010000
END:DAYLIGHT
BEGIN:STANDARD
TZOFFSETFROM:+0100
TZOFFSETTO:+0000
TZNAME:GMT
DTSTART:20261025T010000
END:STANDARD
END:VTIMEZONE
BEGIN:VEVENT
DTSTART;VALUE=DATE:20250616
DTEND;VALUE=DATE:20250621
DTSTAMP:20260424T001134
CREATED:20250605T231622Z
LAST-MODIFIED:20250605T231622Z
UID:13165-1750032000-1750463999@barlowsprimary.co.uk
SUMMARY:CUSP Design Technology Mexican Food Fiesta! Year 2 & Year 6
DESCRIPTION:CUSP Design Technology \nMexican Food Fiesta! Year 2 & Year 6 \n16/06/25 – 20/06/25  \nDuring the CUSP Mexican Food Festival\, pupils from the Early Years to Year 6 will engage in exciting ‘cook-a-long’ interactive lessons to create Mexican cuisines from fresh ingredients. \nPupils will create the following dishes\, in what we are sure will be a wonderful learning opportunity: \nEYFS (Nursery and Reception): Burrito Bowls \nKS1 (Year 1 & Year 2): Spiced Smashed Potatoes with Pico de Gallo \nLKS2 (Year 3 & Year 4): Sweetcorn Fitters and Pea Guacamole \nUKS2 (Year 5 & Year 6): Authentic tacos with roasted courgette\, smashed broad beans & pink onions
URL:https://barlowsprimary.co.uk/event/cusp-design-technology-mexican-food-fiesta-year-2-year-6/
END:VEVENT
BEGIN:VEVENT
DTSTART;VALUE=DATE:20250620
DTEND;VALUE=DATE:20250621
DTSTAMP:20260424T001134
CREATED:20250605T232056Z
LAST-MODIFIED:20250605T232056Z
UID:13181-1750377600-1750463999@barlowsprimary.co.uk
SUMMARY:World Museum Visit  The Little Star that Could Year 1 - 1 Carle (Miss Hamilton) 20/06/25
DESCRIPTION:World Museum Visit \nThe Little Star that Could Year 1 \n20/06/25 & 27/06/25 \n1 Carle (Miss Hamilton) 20/06/25 \n1 Kerr (Mr Wood) 27/06/25 \nIn June\, Year 1 will be visiting the Planetarium in the World Museum in Liverpool City Centre to support their learning on significant individuals in history. In the workshop “The Little Star that Could’\, children will follow the journey of a new star to find out about the planets in our solar system.
URL:https://barlowsprimary.co.uk/event/world-museum-visit-the-little-star-that-could-year-1-1-carle-miss-hamilton-20-06-25/
END:VEVENT
BEGIN:VEVENT
DTSTART;VALUE=DATE:20250620
DTEND;VALUE=DATE:20250621
DTSTAMP:20260424T001134
CREATED:20250605T233122Z
LAST-MODIFIED:20250605T233122Z
UID:13219-1750377600-1750463999@barlowsprimary.co.uk
SUMMARY:Own Clothes Day  Friday 20/06/25 - Donations of bag of sweets\, lollipops etc.
DESCRIPTION:Own Clothes Day \nFriday 20/06/25 \nOn Friday 20/06/25 we will be holiday an own clothes day. \nAs part of our own clothes day we are requesting donations of sweets towards our Fun Day for example a £1 size bag of Haribo\, lollipops etc. \nAll donations will be greatly received and can be passed into class with your child on the day.
URL:https://barlowsprimary.co.uk/event/own-clothes-day-friday-20-06-25-donations-of-bag-of-sweets-lollipops-etc/
END:VEVENT
BEGIN:VEVENT
DTSTART;TZID=Europe/London:20250620T084500
DTEND;TZID=Europe/London:20250620T150000
DTSTAMP:20260424T001134
CREATED:20250506T102352Z
LAST-MODIFIED:20250506T102352Z
UID:13076-1750409100-1750431600@barlowsprimary.co.uk
SUMMARY:1 Carle World Museum Visit
DESCRIPTION:
URL:https://barlowsprimary.co.uk/event/1-carle-world-museum-visit/
END:VEVENT
END:VCALENDAR