BEGIN:VCALENDAR
VERSION:2.0
PRODID:-//Barlows Primary School - ECPv6.15.20//NONSGML v1.0//EN
CALSCALE:GREGORIAN
METHOD:PUBLISH
X-ORIGINAL-URL:https://barlowsprimary.co.uk
X-WR-CALDESC:Events for Barlows Primary School
REFRESH-INTERVAL;VALUE=DURATION:PT1H
X-Robots-Tag:noindex
X-PUBLISHED-TTL:PT1H
BEGIN:VTIMEZONE
TZID:Europe/London
BEGIN:DAYLIGHT
TZOFFSETFROM:+0000
TZOFFSETTO:+0100
TZNAME:BST
DTSTART:20240331T010000
END:DAYLIGHT
BEGIN:STANDARD
TZOFFSETFROM:+0100
TZOFFSETTO:+0000
TZNAME:GMT
DTSTART:20241027T010000
END:STANDARD
BEGIN:DAYLIGHT
TZOFFSETFROM:+0000
TZOFFSETTO:+0100
TZNAME:BST
DTSTART:20250330T010000
END:DAYLIGHT
BEGIN:STANDARD
TZOFFSETFROM:+0100
TZOFFSETTO:+0000
TZNAME:GMT
DTSTART:20251026T010000
END:STANDARD
BEGIN:DAYLIGHT
TZOFFSETFROM:+0000
TZOFFSETTO:+0100
TZNAME:BST
DTSTART:20260329T010000
END:DAYLIGHT
BEGIN:STANDARD
TZOFFSETFROM:+0100
TZOFFSETTO:+0000
TZNAME:GMT
DTSTART:20261025T010000
END:STANDARD
END:VTIMEZONE
BEGIN:VEVENT
DTSTART;VALUE=DATE:20250623
DTEND;VALUE=DATE:20250624
DTSTAMP:20260424T001059
CREATED:20250605T231543Z
LAST-MODIFIED:20250605T231543Z
UID:13163-1750636800-1750723199@barlowsprimary.co.uk
SUMMARY:Year 3 Visit to Roman Chester
DESCRIPTION:Visit to Roman Chester  \nYear 3 – 23/06/25 \nIn June\, Year 3 will be visiting the Grosvenor Museum in Chester to support their learning on the Roman Empire and its Impact on Britain. The children will have the opportunity to explore the magnificent Roman walls of Chester alongside a knowledgeable Roman Soldier\, investigate intriguing artefacts from the Roman era\, and visit a captivating Roman amphitheatre. \nIt promises to be an unforgettable journey into history that enriches their understanding in an engaging way! \nMore information will follow through our parental communications on Arbor.
URL:https://barlowsprimary.co.uk/event/year-3-visit-to-roman-chester/
END:VEVENT
BEGIN:VEVENT
DTSTART;VALUE=DATE:20250623
DTEND;VALUE=DATE:20250624
DTSTAMP:20260424T001059
CREATED:20250605T232651Z
LAST-MODIFIED:20250605T232651Z
UID:13201-1750636800-1750723199@barlowsprimary.co.uk
SUMMARY:Liverpool City Council ASD Training Team  One to One sessions for parents & carers
DESCRIPTION:Liverpool City Council ASD Training Team \nOne to One sessions for parents & carers \nJune and July 2025 \nThe Liverpool ASD Training Team are providing a series of virtual drop in advisory sessions via zoom. They are for parent/carers wishing to talk in a private one to one setting about any questions or concerns they may have about their child. You do not require a diagnosis of ASD to book your place. \nPlaces are available on \nTuesday 03/06/25 \nWednesday 04/06/25 \nFriday 06/06/25 \nMonday 09/06/25 \nTuesday 10/06/25 \nMonday 16/06/25 \nMonday 23/06/25 \nWednesday 25/06/25 \nFriday 27/06/25 \nTuesday 01/07/25 \nWednesday 02/07/25 \nThursday 03/07/25 \nTo book your place please email asdtrainingteam@liverpool.gov.uk \nWith a choice of your date and time and you will be emailed a zoom link. \nFor more information about our service please view the Liverpool Local offer Page / Liverpool ASD training team for future training and workshops. \nLiverpool ASD Training Team | Liverpool Family Information & SEND Directory
URL:https://barlowsprimary.co.uk/event/liverpool-city-council-asd-training-team-one-to-one-sessions-for-parents-carers-6/
END:VEVENT
END:VCALENDAR