BEGIN:VCALENDAR
VERSION:2.0
PRODID:-//Barlows Primary School - ECPv6.15.20//NONSGML v1.0//EN
CALSCALE:GREGORIAN
METHOD:PUBLISH
X-WR-CALNAME:Barlows Primary School
X-ORIGINAL-URL:https://barlowsprimary.co.uk
X-WR-CALDESC:Events for Barlows Primary School
REFRESH-INTERVAL;VALUE=DURATION:PT1H
X-Robots-Tag:noindex
X-PUBLISHED-TTL:PT1H
BEGIN:VTIMEZONE
TZID:Europe/London
BEGIN:DAYLIGHT
TZOFFSETFROM:+0000
TZOFFSETTO:+0100
TZNAME:BST
DTSTART:20240331T010000
END:DAYLIGHT
BEGIN:STANDARD
TZOFFSETFROM:+0100
TZOFFSETTO:+0000
TZNAME:GMT
DTSTART:20241027T010000
END:STANDARD
BEGIN:DAYLIGHT
TZOFFSETFROM:+0000
TZOFFSETTO:+0100
TZNAME:BST
DTSTART:20250330T010000
END:DAYLIGHT
BEGIN:STANDARD
TZOFFSETFROM:+0100
TZOFFSETTO:+0000
TZNAME:GMT
DTSTART:20251026T010000
END:STANDARD
BEGIN:DAYLIGHT
TZOFFSETFROM:+0000
TZOFFSETTO:+0100
TZNAME:BST
DTSTART:20260329T010000
END:DAYLIGHT
BEGIN:STANDARD
TZOFFSETFROM:+0100
TZOFFSETTO:+0000
TZNAME:GMT
DTSTART:20261025T010000
END:STANDARD
END:VTIMEZONE
BEGIN:VEVENT
DTSTART;VALUE=DATE:20250625
DTEND;VALUE=DATE:20250626
DTSTAMP:20260424T000950
CREATED:20250605T232715Z
LAST-MODIFIED:20250605T232715Z
UID:13203-1750809600-1750895999@barlowsprimary.co.uk
SUMMARY:Liverpool City Council ASD Training Team  One to One sessions for parents & carers
DESCRIPTION:Liverpool City Council ASD Training Team \nOne to One sessions for parents & carers \nJune and July 2025 \nThe Liverpool ASD Training Team are providing a series of virtual drop in advisory sessions via zoom. They are for parent/carers wishing to talk in a private one to one setting about any questions or concerns they may have about their child. You do not require a diagnosis of ASD to book your place. \nPlaces are available on \nTuesday 03/06/25 \nWednesday 04/06/25 \nFriday 06/06/25 \nMonday 09/06/25 \nTuesday 10/06/25 \nMonday 16/06/25 \nMonday 23/06/25 \nWednesday 25/06/25 \nFriday 27/06/25 \nTuesday 01/07/25 \nWednesday 02/07/25 \nThursday 03/07/25 \nTo book your place please email asdtrainingteam@liverpool.gov.uk \nWith a choice of your date and time and you will be emailed a zoom link. \nFor more information about our service please view the Liverpool Local offer Page / Liverpool ASD training team for future training and workshops. \nLiverpool ASD Training Team | Liverpool Family Information & SEND Directory
URL:https://barlowsprimary.co.uk/event/liverpool-city-council-asd-training-team-one-to-one-sessions-for-parents-carers-7/
END:VEVENT
BEGIN:VEVENT
DTSTART;VALUE=DATE:20250625
DTEND;VALUE=DATE:20250626
DTSTAMP:20260424T000950
CREATED:20250605T232741Z
LAST-MODIFIED:20250605T232741Z
UID:13205-1750809600-1750895999@barlowsprimary.co.uk
SUMMARY:Liverpool City Council ASD Training Team  One to One sessions for parents & carers
DESCRIPTION:Liverpool City Council ASD Training Team \nOne to One sessions for parents & carers \nJune and July 2025 \nThe Liverpool ASD Training Team are providing a series of virtual drop in advisory sessions via zoom. They are for parent/carers wishing to talk in a private one to one setting about any questions or concerns they may have about their child. You do not require a diagnosis of ASD to book your place. \nPlaces are available on \nTuesday 03/06/25 \nWednesday 04/06/25 \nFriday 06/06/25 \nMonday 09/06/25 \nTuesday 10/06/25 \nMonday 16/06/25 \nMonday 23/06/25 \nWednesday 25/06/25 \nFriday 27/06/25 \nTuesday 01/07/25 \nWednesday 02/07/25 \nThursday 03/07/25 \nTo book your place please email asdtrainingteam@liverpool.gov.uk \nWith a choice of your date and time and you will be emailed a zoom link. \nFor more information about our service please view the Liverpool Local offer Page / Liverpool ASD training team for future training and workshops. \nLiverpool ASD Training Team | Liverpool Family Information & SEND Directory
URL:https://barlowsprimary.co.uk/event/liverpool-city-council-asd-training-team-one-to-one-sessions-for-parents-carers-8/
END:VEVENT
BEGIN:VEVENT
DTSTART;VALUE=DATE:20250625
DTEND;VALUE=DATE:20250626
DTSTAMP:20260424T000950
CREATED:20250605T233035Z
LAST-MODIFIED:20250605T233035Z
UID:13217-1750809600-1750895999@barlowsprimary.co.uk
SUMMARY:Visit to Museum of Liverpool – Little Liverpool Workshop  Reception - Reception McKee (Miss Smith) – 25/06/25
DESCRIPTION:Visit to Museum of Liverpool – Little Liverpool Workshop \nReception \nReception Donaldson (Miss Evans) – 24/06/25 \nReception McKee (Miss Smith) – 25/06/25 \nIn June\, our Reception pupils will visit the Museum of Liverpool near the Pier Head to learn all about our wonderful city and the iconic River Mersey. \nHighlights of the visit will include the Liverpuddles activity a water interactive activity based on the River Mersey\, surrounded by popular landmarks\, where the children will sail boats\, run dinky cars through the tunnels and fish for pretend marine creatures and rubbish\, as well as an ‘A to Z of Objects’ session focusing on letter stations featuring interactive investigations and exploration tasks along the dock wall featured in the museum. \nPupils will also experience traveling by train as they set out on this exciting adventure to learn more about our hometown!
URL:https://barlowsprimary.co.uk/event/visit-to-museum-of-liverpool-little-liverpool-workshop-reception-reception-mckee-miss-smith-25-06-25/
END:VEVENT
END:VCALENDAR