BEGIN:VCALENDAR
VERSION:2.0
PRODID:-//Barlows Primary School - ECPv6.15.20//NONSGML v1.0//EN
CALSCALE:GREGORIAN
METHOD:PUBLISH
X-WR-CALNAME:Barlows Primary School
X-ORIGINAL-URL:https://barlowsprimary.co.uk
X-WR-CALDESC:Events for Barlows Primary School
REFRESH-INTERVAL;VALUE=DURATION:PT1H
X-Robots-Tag:noindex
X-PUBLISHED-TTL:PT1H
BEGIN:VTIMEZONE
TZID:Europe/London
BEGIN:DAYLIGHT
TZOFFSETFROM:+0000
TZOFFSETTO:+0100
TZNAME:BST
DTSTART:20240331T010000
END:DAYLIGHT
BEGIN:STANDARD
TZOFFSETFROM:+0100
TZOFFSETTO:+0000
TZNAME:GMT
DTSTART:20241027T010000
END:STANDARD
BEGIN:DAYLIGHT
TZOFFSETFROM:+0000
TZOFFSETTO:+0100
TZNAME:BST
DTSTART:20250330T010000
END:DAYLIGHT
BEGIN:STANDARD
TZOFFSETFROM:+0100
TZOFFSETTO:+0000
TZNAME:GMT
DTSTART:20251026T010000
END:STANDARD
BEGIN:DAYLIGHT
TZOFFSETFROM:+0000
TZOFFSETTO:+0100
TZNAME:BST
DTSTART:20260329T010000
END:DAYLIGHT
BEGIN:STANDARD
TZOFFSETFROM:+0100
TZOFFSETTO:+0000
TZNAME:GMT
DTSTART:20261025T010000
END:STANDARD
END:VTIMEZONE
BEGIN:VEVENT
DTSTART;VALUE=DATE:20250703
DTEND;VALUE=DATE:20250704
DTSTAMP:20260423T224158
CREATED:20250605T232941Z
LAST-MODIFIED:20250605T232941Z
UID:13213-1751500800-1751587199@barlowsprimary.co.uk
SUMMARY:Liverpool City Council ASD Training Team  One to One sessions for parents & carers
DESCRIPTION:Liverpool City Council ASD Training Team \nOne to One sessions for parents & carers \nJune and July 2025 \nThe Liverpool ASD Training Team are providing a series of virtual drop in advisory sessions via zoom. They are for parent/carers wishing to talk in a private one to one setting about any questions or concerns they may have about their child. You do not require a diagnosis of ASD to book your place. \nPlaces are available on \nTuesday 03/06/25 \nWednesday 04/06/25 \nFriday 06/06/25 \nMonday 09/06/25 \nTuesday 10/06/25 \nMonday 16/06/25 \nMonday 23/06/25 \nWednesday 25/06/25 \nFriday 27/06/25 \nTuesday 01/07/25 \nWednesday 02/07/25 \nThursday 03/07/25 \nTo book your place please email asdtrainingteam@liverpool.gov.uk \nWith a choice of your date and time and you will be emailed a zoom link. \nFor more information about our service please view the Liverpool Local offer Page / Liverpool ASD training team for future training and workshops. \nLiverpool ASD Training Team | Liverpool Family Information & SEND Directory
URL:https://barlowsprimary.co.uk/event/liverpool-city-council-asd-training-team-one-to-one-sessions-for-parents-carers-12/
END:VEVENT
BEGIN:VEVENT
DTSTART;TZID=Europe/London:20250703T091500
DTEND;TZID=Europe/London:20250703T100000
DTSTAMP:20260423T224158
CREATED:20250605T233623Z
LAST-MODIFIED:20250605T233623Z
UID:13226-1751534100-1751536800@barlowsprimary.co.uk
SUMMARY:Nursery am class Sports Day - Thursday 03/07/25
DESCRIPTION:Sports Days 2025  \nNursery (both am and pm classes) – Thursday 03/07/25 \nReception – Monday 30/06/25 \nYear 1 and Year 2 – Tuesday 01/07/25 \nYear 3 and Year 4  – Wednesday 02/07/25 \nYear 5 and Year 6 – Friday 04/07/25 \nChildren will be required to come to school in their PE kits on the above dates. \nReserve Sports Days 2025  \nShould the weather be unsuitable to complete Sports Day on the above dates\, the following dates have been planned as an alternative: \nNursery – (Reserve date not required due to Nursery Sports Day taking place in the School Hall) \nReception – Monday 07/07/25 \nYear 1 and Year 2 – Tuesday 08/07/25 \nYear 3 and Year 4  – Wednesday 09/07/25 \nYear 5 and Year 6 – Friday 11/07/25
URL:https://barlowsprimary.co.uk/event/nursery-am-class-sports-day-thursday-03-07-25/
END:VEVENT
BEGIN:VEVENT
DTSTART;TZID=Europe/London:20250703T093000
DTEND;TZID=Europe/London:20250703T123000
DTSTAMP:20260423T224158
CREATED:20250605T233421Z
LAST-MODIFIED:20250605T233421Z
UID:13221-1751535000-1751545800@barlowsprimary.co.uk
SUMMARY:Liverpool ASD Training Team Course for Parents and Carers on Autistic Spectrum Disorder (child must have an ASD diagnosis)
DESCRIPTION:  \n  \nDate: 19th\, 26th June 3rd July 2025 \nTime: 9.30am till 12 noon \nVenue: Church of Mossley Hill Childrens Centre\, Herondale Road\, L18 1LB \n  \nDear Parent/Carer\, \nWe would like to offer you the opportunity to attend a course on Autistic Spectrum Disorder (Your child must have an ASD diagnosis) The course will allow you to build your knowledge on autism and meet / share information with other parents. \n(All three sessions need to be attended to complete the course). \nIf you wish to attend\, please contact the team on the email below. \nEmail: asdtrainingteam@liverpool.gov.uk \nIf the above dates for the workshop are not suitable\, please view the Liverpool Local offer Page / Liverpool ASD training team for future training and workshops. \nLiverpool ASD Training Team | Liverpool Family Information & SEND Directory \nWe look forward to meeting you. \nYours sincerely \nASD Training Team
URL:https://barlowsprimary.co.uk/event/liverpool-asd-training-team-course-for-parents-and-carers-on-autistic-spectrum-disorder-child-must-have-an-asd-diagnosis/
LOCATION:Church of Mossley Hill Childrens Centre\, Herondale Road\, L18 1LB\, Church of Mossley Hill Children's Centre\, Herondale Road\, Liverpool\, L18 1LB\, United Kingdom
END:VEVENT
END:VCALENDAR