BEGIN:VCALENDAR
VERSION:2.0
PRODID:-//Barlows Primary School - ECPv6.15.20//NONSGML v1.0//EN
CALSCALE:GREGORIAN
METHOD:PUBLISH
X-ORIGINAL-URL:https://barlowsprimary.co.uk
X-WR-CALDESC:Events for Barlows Primary School
REFRESH-INTERVAL;VALUE=DURATION:PT1H
X-Robots-Tag:noindex
X-PUBLISHED-TTL:PT1H
BEGIN:VTIMEZONE
TZID:Europe/London
BEGIN:DAYLIGHT
TZOFFSETFROM:+0000
TZOFFSETTO:+0100
TZNAME:BST
DTSTART:20240331T010000
END:DAYLIGHT
BEGIN:STANDARD
TZOFFSETFROM:+0100
TZOFFSETTO:+0000
TZNAME:GMT
DTSTART:20241027T010000
END:STANDARD
BEGIN:DAYLIGHT
TZOFFSETFROM:+0000
TZOFFSETTO:+0100
TZNAME:BST
DTSTART:20250330T010000
END:DAYLIGHT
BEGIN:STANDARD
TZOFFSETFROM:+0100
TZOFFSETTO:+0000
TZNAME:GMT
DTSTART:20251026T010000
END:STANDARD
BEGIN:DAYLIGHT
TZOFFSETFROM:+0000
TZOFFSETTO:+0100
TZNAME:BST
DTSTART:20260329T010000
END:DAYLIGHT
BEGIN:STANDARD
TZOFFSETFROM:+0100
TZOFFSETTO:+0000
TZNAME:GMT
DTSTART:20261025T010000
END:STANDARD
END:VTIMEZONE
BEGIN:VEVENT
DTSTART;VALUE=DATE:20250704
DTEND;VALUE=DATE:20250705
DTSTAMP:20260424T001108
CREATED:20250605T235225Z
LAST-MODIFIED:20250605T235225Z
UID:13271-1751587200-1751673599@barlowsprimary.co.uk
SUMMARY:Own Clothes Day  Friday 04/07/25 - Donations of a Tombola Prize welcome
DESCRIPTION:Own Clothes Day \nFriday 04/07/25 \nOn Friday 04/07/25 we will be holding our second own clothes day. \nAs part of our own clothes day we are requesting donations towards our Tombola stall. \nDonations could include: \nUnwanted unopened gifts/gift sets\, \nUnwanted unopened toys/games \nbath bombs \nUnused toiletries eg shower gels\, nail sets etc \nUnwanted unused gardening gifts \nUnwanted unused presents \n(No alcohol please) \nAll donations will be greatly received and can be passed into class with your child on the day.
URL:https://barlowsprimary.co.uk/event/own-clothes-day-friday-04-07-25-donations-of-a-tombola-prize-welcome/
END:VEVENT
BEGIN:VEVENT
DTSTART;TZID=Europe/London:20250704T090000
DTEND;TZID=Europe/London:20250704T103000
DTSTAMP:20260424T001108
CREATED:20250605T234834Z
LAST-MODIFIED:20250605T234834Z
UID:13257-1751619600-1751625000@barlowsprimary.co.uk
SUMMARY:Reception Stay and Play
DESCRIPTION:Reception Stay and Play \n04/07/25 \nOur Reception team looks forward to welcoming parents and carers to our July Stay and Play session on Friday 4th July 2025 9am-10:30am . \n\nThe theme for this session is ‘Liverpool Landmarks’. \n\nWe kindly ask that only adults attend these sessions as we are unable to accommodate for children who are not pupils of the school.
URL:https://barlowsprimary.co.uk/event/reception-stay-and-play/
END:VEVENT
BEGIN:VEVENT
DTSTART;TZID=Europe/London:20250704T091500
DTEND;TZID=Europe/London:20250704T103000
DTSTAMP:20260424T001108
CREATED:20250605T233949Z
LAST-MODIFIED:20250605T233949Z
UID:13234-1751620500-1751625000@barlowsprimary.co.uk
SUMMARY:Year 5 and Year 6 Sports Day - Friday 04/07/25
DESCRIPTION:Sports Days 2025  \nNursery (both am and pm classes) – Thursday 03/07/25 \nReception – Monday 30/06/25 \nYear 1 and Year 2 – Tuesday 01/07/25 \nYear 3 and Year 4  – Wednesday 02/07/25 \nYear 5 and Year 6 – Friday 04/07/25 \nChildren will be required to come to school in their PE kits on the above dates. \nReserve Sports Days 2025  \nShould the weather be unsuitable to complete Sports Day on the above dates\, the following dates have been planned as an alternative: \nNursery – (Reserve date not required due to Nursery Sports Day taking place in the School Hall) \nReception – Monday 07/07/25 \nYear 1 and Year 2 – Tuesday 08/07/25 \nYear 3 and Year 4  – Wednesday 09/07/25 \nYear 5 and Year 6 – Friday 11/07/25
URL:https://barlowsprimary.co.uk/event/year-5-and-year-6-sports-day-friday-04-07-25/
END:VEVENT
END:VCALENDAR