BEGIN:VCALENDAR
VERSION:2.0
PRODID:-//Barlows Primary School - ECPv6.15.20//NONSGML v1.0//EN
CALSCALE:GREGORIAN
METHOD:PUBLISH
X-WR-CALNAME:Barlows Primary School
X-ORIGINAL-URL:https://barlowsprimary.co.uk
X-WR-CALDESC:Events for Barlows Primary School
REFRESH-INTERVAL;VALUE=DURATION:PT1H
X-Robots-Tag:noindex
X-PUBLISHED-TTL:PT1H
BEGIN:VTIMEZONE
TZID:Europe/London
BEGIN:DAYLIGHT
TZOFFSETFROM:+0000
TZOFFSETTO:+0100
TZNAME:BST
DTSTART:20240331T010000
END:DAYLIGHT
BEGIN:STANDARD
TZOFFSETFROM:+0100
TZOFFSETTO:+0000
TZNAME:GMT
DTSTART:20241027T010000
END:STANDARD
BEGIN:DAYLIGHT
TZOFFSETFROM:+0000
TZOFFSETTO:+0100
TZNAME:BST
DTSTART:20250330T010000
END:DAYLIGHT
BEGIN:STANDARD
TZOFFSETFROM:+0100
TZOFFSETTO:+0000
TZNAME:GMT
DTSTART:20251026T010000
END:STANDARD
BEGIN:DAYLIGHT
TZOFFSETFROM:+0000
TZOFFSETTO:+0100
TZNAME:BST
DTSTART:20260329T010000
END:DAYLIGHT
BEGIN:STANDARD
TZOFFSETFROM:+0100
TZOFFSETTO:+0000
TZNAME:GMT
DTSTART:20261025T010000
END:STANDARD
END:VTIMEZONE
BEGIN:VEVENT
DTSTART;TZID=Europe/London:20250707T091500
DTEND;TZID=Europe/London:20250707T100000
DTSTAMP:20260423T224141
CREATED:20250605T234115Z
LAST-MODIFIED:20250605T234115Z
UID:13236-1751879700-1751882400@barlowsprimary.co.uk
SUMMARY:Reception - Reserve Sports date if  03/07/25 cannot go ahead owing to weather
DESCRIPTION:Sports Days 2025  \nNursery (both am and pm classes) – Thursday 03/07/25 \nReception – Monday 30/06/25 \nYear 1 and Year 2 – Tuesday 01/07/25 \nYear 3 and Year 4  – Wednesday 02/07/25 \nYear 5 and Year 6 – Friday 04/07/25 \nChildren will be required to come to school in their PE kits on the above dates. \nReserve Sports Days 2025  \nShould the weather be unsuitable to complete Sports Day on the above dates\, the following dates have been planned as an alternative: \nNursery – (Reserve date not required due to Nursery Sports Day taking place in the School Hall) \nReception – Monday 07/07/25 \nYear 1 and Year 2 – Tuesday 08/07/25 \nYear 3 and Year 4  – Wednesday 09/07/25 \nYear 5 and Year 6 – Friday 11/07/25
URL:https://barlowsprimary.co.uk/event/reception-reserve-sports-date-if-03-07-25-cannot-go-ahead-owing-to-weather/
END:VEVENT
BEGIN:VEVENT
DTSTART;TZID=Europe/London:20250707T140000
DTEND;TZID=Europe/London:20250707T150000
DTSTAMP:20260423T224141
CREATED:20250605T234632Z
LAST-MODIFIED:20250605T234632Z
UID:13249-1751896800-1751900400@barlowsprimary.co.uk
SUMMARY:Musical Mondays Virtual Concert  Alex Garden and Archie Churchill
DESCRIPTION:Musical Mondays Virtual Concert \nAlex Garden and Archie Churchill \n07/07/25 \nOn Monday 07/07/25\, our pupils will be engaging with a live Musical Mondays session and performance from Alex Garden and Archie Churchill. The duo will demonstrate how the union of accordion and fiddle is a timeless classic\, bringing us toe-tapping traditional polkas and improvisations to enjoy. \n\nThe session is organised by our local music hub\, Resonate and is an exciting opportunity for our pupils.
URL:https://barlowsprimary.co.uk/event/musical-mondays-virtual-concert-alex-garden-and-archie-churchill/
END:VEVENT
END:VCALENDAR