BEGIN:VCALENDAR
VERSION:2.0
PRODID:-//Barlows Primary School - ECPv6.15.20//NONSGML v1.0//EN
CALSCALE:GREGORIAN
METHOD:PUBLISH
X-WR-CALNAME:Barlows Primary School
X-ORIGINAL-URL:https://barlowsprimary.co.uk
X-WR-CALDESC:Events for Barlows Primary School
REFRESH-INTERVAL;VALUE=DURATION:PT1H
X-Robots-Tag:noindex
X-PUBLISHED-TTL:PT1H
BEGIN:VTIMEZONE
TZID:Europe/London
BEGIN:DAYLIGHT
TZOFFSETFROM:+0000
TZOFFSETTO:+0100
TZNAME:BST
DTSTART:20240331T010000
END:DAYLIGHT
BEGIN:STANDARD
TZOFFSETFROM:+0100
TZOFFSETTO:+0000
TZNAME:GMT
DTSTART:20241027T010000
END:STANDARD
BEGIN:DAYLIGHT
TZOFFSETFROM:+0000
TZOFFSETTO:+0100
TZNAME:BST
DTSTART:20250330T010000
END:DAYLIGHT
BEGIN:STANDARD
TZOFFSETFROM:+0100
TZOFFSETTO:+0000
TZNAME:GMT
DTSTART:20251026T010000
END:STANDARD
BEGIN:DAYLIGHT
TZOFFSETFROM:+0000
TZOFFSETTO:+0100
TZNAME:BST
DTSTART:20260329T010000
END:DAYLIGHT
BEGIN:STANDARD
TZOFFSETFROM:+0100
TZOFFSETTO:+0000
TZNAME:GMT
DTSTART:20261025T010000
END:STANDARD
END:VTIMEZONE
BEGIN:VEVENT
DTSTART;VALUE=DATE:20250708
DTEND;VALUE=DATE:20250709
DTSTAMP:20260423T224140
CREATED:20250605T234726Z
LAST-MODIFIED:20250605T234726Z
UID:13253-1751932800-1752019199@barlowsprimary.co.uk
SUMMARY:End of Year Reports
DESCRIPTION:End of Year Reports \n08/07/2025 \nEnd of year reports for all year groups will be sent out on Tuesday 08/07/25.  This will include KS2 SATs results for pupils.
URL:https://barlowsprimary.co.uk/event/end-of-year-reports/
END:VEVENT
BEGIN:VEVENT
DTSTART;TZID=Europe/London:20250708T083000
DTEND;TZID=Europe/London:20250708T090000
DTSTAMP:20260423T224140
CREATED:20250605T235259Z
LAST-MODIFIED:20250605T235259Z
UID:13273-1751963400-1751965200@barlowsprimary.co.uk
SUMMARY:Scholastic Book Fair
DESCRIPTION:Scholastic Book Fair \nJoin us for the Scholastic Book Fair after school in the school hall on the following dates: \nTuesday 8th July 2025 8:30am – 9:00am \nTuesday 8th July 2025 3:30pm – 5:45pm \nWednesday 9th July 2025 8:30am – 9:00am \nWednesday 9th July 2025 3:30pm – 5:45pm \nThursday 10th July 2025 8:30am – 9:00am \nThursday 10th July 2025 3:30pm – 5:45pm \nFriday 11th July 2025 8:30am – 9:00am \nThere will be a selection of books to purchase for all pupil ages. \nScholastic donate a percentage of the profits to school to use to purchase new books for the school library.
URL:https://barlowsprimary.co.uk/event/scholastic-book-fair/
END:VEVENT
BEGIN:VEVENT
DTSTART;TZID=Europe/London:20250708T091500
DTEND;TZID=Europe/London:20250708T103000
DTSTAMP:20260423T224140
CREATED:20250605T234221Z
LAST-MODIFIED:20250605T234504Z
UID:13238-1751966100-1751970600@barlowsprimary.co.uk
SUMMARY:Year 1 and Year 2 Reserve Sports Date if 01/07/25 cannot go ahead owing to bad weather
DESCRIPTION:Sports Days 2025  \nNursery (both am and pm classes) – Thursday 03/07/25 \nReception – Monday 30/06/25 \nYear 1 and Year 2 – Tuesday 01/07/25 \nYear 3 and Year 4  – Wednesday 02/07/25 \nYear 5 and Year 6 – Friday 04/07/25 \nChildren will be required to come to school in their PE kits on the above dates. \nReserve Sports Days 2025  \nShould the weather be unsuitable to complete Sports Day on the above dates\, the following dates have been planned as an alternative: \nNursery – (Reserve date not required due to Nursery Sports Day taking place in the School Hall) \nReception – Monday 07/07/25 \nYear 1 and Year 2 – Tuesday 08/07/25 \nYear 3 and Year 4  – Wednesday 09/07/25 \nYear 5 and Year 6 – Friday 11/07/25
URL:https://barlowsprimary.co.uk/event/year-1-and-year-2-sports-date-if-01-07-25-cannot-go-ahead-owing-to-bad-weather/
END:VEVENT
BEGIN:VEVENT
DTSTART;TZID=Europe/London:20250708T153000
DTEND;TZID=Europe/London:20250708T163000
DTSTAMP:20260423T224140
CREATED:20250605T235319Z
LAST-MODIFIED:20250605T235319Z
UID:13275-1751988600-1751992200@barlowsprimary.co.uk
SUMMARY:Scholastic Book Fair
DESCRIPTION:Scholastic Book Fair \nJoin us for the Scholastic Book Fair after school in the school hall on the following dates: \nTuesday 8th July 2025 8:30am – 9:00am \nTuesday 8th July 2025 3:30pm – 5:45pm \nWednesday 9th July 2025 8:30am – 9:00am \nWednesday 9th July 2025 3:30pm – 5:45pm \nThursday 10th July 2025 8:30am – 9:00am \nThursday 10th July 2025 3:30pm – 5:45pm \nFriday 11th July 2025 8:30am – 9:00am \nThere will be a selection of books to purchase for all pupil ages. \nScholastic donate a percentage of the profits to school to use to purchase new books for the school library.
URL:https://barlowsprimary.co.uk/event/scholastic-book-fair-2/
END:VEVENT
END:VCALENDAR