BEGIN:VCALENDAR
VERSION:2.0
PRODID:-//Barlows Primary School - ECPv6.15.20//NONSGML v1.0//EN
CALSCALE:GREGORIAN
METHOD:PUBLISH
X-WR-CALNAME:Barlows Primary School
X-ORIGINAL-URL:https://barlowsprimary.co.uk
X-WR-CALDESC:Events for Barlows Primary School
REFRESH-INTERVAL;VALUE=DURATION:PT1H
X-Robots-Tag:noindex
X-PUBLISHED-TTL:PT1H
BEGIN:VTIMEZONE
TZID:Europe/London
BEGIN:DAYLIGHT
TZOFFSETFROM:+0000
TZOFFSETTO:+0100
TZNAME:BST
DTSTART:20240331T010000
END:DAYLIGHT
BEGIN:STANDARD
TZOFFSETFROM:+0100
TZOFFSETTO:+0000
TZNAME:GMT
DTSTART:20241027T010000
END:STANDARD
BEGIN:DAYLIGHT
TZOFFSETFROM:+0000
TZOFFSETTO:+0100
TZNAME:BST
DTSTART:20250330T010000
END:DAYLIGHT
BEGIN:STANDARD
TZOFFSETFROM:+0100
TZOFFSETTO:+0000
TZNAME:GMT
DTSTART:20251026T010000
END:STANDARD
BEGIN:DAYLIGHT
TZOFFSETFROM:+0000
TZOFFSETTO:+0100
TZNAME:BST
DTSTART:20260329T010000
END:DAYLIGHT
BEGIN:STANDARD
TZOFFSETFROM:+0100
TZOFFSETTO:+0000
TZNAME:GMT
DTSTART:20261025T010000
END:STANDARD
END:VTIMEZONE
BEGIN:VEVENT
DTSTART;VALUE=DATE:20250710
DTEND;VALUE=DATE:20250711
DTSTAMP:20260423T224139
CREATED:20250605T234936Z
LAST-MODIFIED:20250605T234936Z
UID:13261-1752105600-1752191999@barlowsprimary.co.uk
SUMMARY:Discovery Recycling Centre Visit Year 6 - 6 Gandhi (Miss Ward) 10/07/25
DESCRIPTION:Discovery Recycling Centre Visit Year 6 \n09/07/25 & 10/07/25 \n6 Churchill (Mrs Taylor) 09/07/25 \n6 Gandhi (Miss Ward) 10/07/25 \nChildren in Year 6 will visit the Discovery Recycling Centre in our local area to further support their learning in their Design Technology for the Summer Term\, with a focus on the use of recyclable materials. \nAt the centre\, pupils will discover what they can do at home to recycle\, what we mean by contamination\, the journey of recycling from their homes to its final destination and take part in a unique tour of the Materials Recovery Facility where they will see recycling in action. \nFurther information on this visit will follow via Arbor.
URL:https://barlowsprimary.co.uk/event/discovery-recycling-centre-visit-year-6-6-gandhi-miss-ward-10-07-25/
END:VEVENT
BEGIN:VEVENT
DTSTART;VALUE=DATE:20250710
DTEND;VALUE=DATE:20250711
DTSTAMP:20260423T224139
CREATED:20250605T235050Z
LAST-MODIFIED:20250605T235050Z
UID:13265-1752105600-1752191999@barlowsprimary.co.uk
SUMMARY:Local Area Walk – History of Fazakerley Year 2 - 2 Potter (Miss Kirkby) 10/07/25
DESCRIPTION:Local Area Walk – History of Fazakerley \nYear 2 \n09/07/25 & 10/07/25 \n  \n2 Dahl (Miss Kelly) 09/07/25 \n2 Potter (Miss Kirkby) 10/07/25 \nTo further develop their historical understanding of their own locality\, our Year 2 pupils will be taking part in a local area walk to explore the changes that have taken place over time. The children will focus on the changes in transport\, homes and industry and further develop their understanding of the impact of this on our local community. \nFurther information on this activity will follow on Arbor.
URL:https://barlowsprimary.co.uk/event/local-area-walk-history-of-fazakerley-year-2-2-potter-miss-kirkby-10-07-25/
END:VEVENT
BEGIN:VEVENT
DTSTART;VALUE=DATE:20250710
DTEND;VALUE=DATE:20250711
DTSTAMP:20260423T224139
CREATED:20250605T235117Z
LAST-MODIFIED:20250605T235117Z
UID:13267-1752105600-1752191999@barlowsprimary.co.uk
SUMMARY:LSSP & Literacy Kick Sports Journalism Sessions Year 5 & Year 6
DESCRIPTION:LSSP & Literacy Kick Sports Journalism Sessions Year 5 & Year 6 \n10/07/25 \nIn July\, our pupils in Year 5 and Year 6 will be joined by the team from Literacy Kicks\, in collaboration with LSSP and the World Boxing Championships\, due to be held in Liverpool in October 2025\, to develop their understanding of the role of a sports journalist. \nIn this exciting workshop\, the pupils will learn all about the skills required to become a journalist in this field\, as well as have the opportunity to ask lots of questions and get the chance to write their own article! \n\nWe are sure this event will be inspirational to all of our pupils.
URL:https://barlowsprimary.co.uk/event/lssp-literacy-kick-sports-journalism-sessions-year-5-year-6/
END:VEVENT
BEGIN:VEVENT
DTSTART;TZID=Europe/London:20250710T083000
DTEND;TZID=Europe/London:20250710T090000
DTSTAMP:20260423T224139
CREATED:20250605T235454Z
LAST-MODIFIED:20250605T235454Z
UID:13281-1752136200-1752138000@barlowsprimary.co.uk
SUMMARY:Scholastic Book Fair
DESCRIPTION:Scholastic Book Fair \nJoin us for the Scholastic Book Fair after school in the school hall on the following dates: \nTuesday 8th July 2025 8:30am – 9:00am \nTuesday 8th July 2025 3:30pm – 5:45pm \nWednesday 9th July 2025 8:30am – 9:00am \nWednesday 9th July 2025 3:30pm – 5:45pm \nThursday 10th July 2025 8:30am – 9:00am \nThursday 10th July 2025 3:30pm – 5:45pm \nFriday 11th July 2025 8:30am – 9:00am \nThere will be a selection of books to purchase for all pupil ages. \nScholastic donate a percentage of the profits to school to use to purchase new books for the school library.
URL:https://barlowsprimary.co.uk/event/scholastic-book-fair-5/
END:VEVENT
BEGIN:VEVENT
DTSTART;TZID=Europe/London:20250710T153000
DTEND;TZID=Europe/London:20250710T163000
DTSTAMP:20260423T224139
CREATED:20250605T235517Z
LAST-MODIFIED:20250605T235517Z
UID:13283-1752161400-1752165000@barlowsprimary.co.uk
SUMMARY:Scholastic Book Fair
DESCRIPTION:Scholastic Book Fair \nJoin us for the Scholastic Book Fair after school in the school hall on the following dates: \nTuesday 8th July 2025 8:30am – 9:00am \nTuesday 8th July 2025 3:30pm – 5:45pm \nWednesday 9th July 2025 8:30am – 9:00am \nWednesday 9th July 2025 3:30pm – 5:45pm \nThursday 10th July 2025 8:30am – 9:00am \nThursday 10th July 2025 3:30pm – 5:45pm \nFriday 11th July 2025 8:30am – 9:00am \nThere will be a selection of books to purchase for all pupil ages. \nScholastic donate a percentage of the profits to school to use to purchase new books for the school library.
URL:https://barlowsprimary.co.uk/event/scholastic-book-fair-6/
END:VEVENT
BEGIN:VEVENT
DTSTART;TZID=Europe/London:20250710T170000
DTEND;TZID=Europe/London:20250710T180000
DTSTAMP:20260423T224139
CREATED:20250605T235150Z
LAST-MODIFIED:20250605T235150Z
UID:13269-1752166800-1752170400@barlowsprimary.co.uk
SUMMARY:Year 6 to Year 7 Transition Event – Moving Up
DESCRIPTION:Year 6 to Year 7 Transition Event – Moving Up \n10/07/25 \nOn 10/07/25 at 5pm\, the Liverpool Parenting Team will be joining us at Barlows to run a 1-hour workshop for all parents and carers of Year 6 pupils making the transition into secondary school this year. The team will be on hand to offer guidance and advice on the following: \n\nAnxieties\, the things children worry about and what you can do to help\nWhat parents worry about and how you can help your child prepare for change\nTeen Development\, friendships\, social media and staying safe\nDealing with high emotion and restoring relationships after challenge\nHow to encourage family containment\nThe first few weeks and settling in\nWhere else to get information and further reading\n\nFurther information will follow from Mrs Berry\, our Mental Health and Wellbeing Lead\, and Mrs Taylor\, our Phase 3 Lead via Arbor.
URL:https://barlowsprimary.co.uk/event/year-6-to-year-7-transition-event-moving-up/
END:VEVENT
END:VCALENDAR