BEGIN:VCALENDAR
VERSION:2.0
PRODID:-//Barlows Primary School - ECPv6.15.20//NONSGML v1.0//EN
CALSCALE:GREGORIAN
METHOD:PUBLISH
X-ORIGINAL-URL:https://barlowsprimary.co.uk
X-WR-CALDESC:Events for Barlows Primary School
REFRESH-INTERVAL;VALUE=DURATION:PT1H
X-Robots-Tag:noindex
X-PUBLISHED-TTL:PT1H
BEGIN:VTIMEZONE
TZID:Europe/London
BEGIN:DAYLIGHT
TZOFFSETFROM:+0000
TZOFFSETTO:+0100
TZNAME:BST
DTSTART:20240331T010000
END:DAYLIGHT
BEGIN:STANDARD
TZOFFSETFROM:+0100
TZOFFSETTO:+0000
TZNAME:GMT
DTSTART:20241027T010000
END:STANDARD
BEGIN:DAYLIGHT
TZOFFSETFROM:+0000
TZOFFSETTO:+0100
TZNAME:BST
DTSTART:20250330T010000
END:DAYLIGHT
BEGIN:STANDARD
TZOFFSETFROM:+0100
TZOFFSETTO:+0000
TZNAME:GMT
DTSTART:20251026T010000
END:STANDARD
BEGIN:DAYLIGHT
TZOFFSETFROM:+0000
TZOFFSETTO:+0100
TZNAME:BST
DTSTART:20260329T010000
END:DAYLIGHT
BEGIN:STANDARD
TZOFFSETFROM:+0100
TZOFFSETTO:+0000
TZNAME:GMT
DTSTART:20261025T010000
END:STANDARD
END:VTIMEZONE
BEGIN:VEVENT
DTSTART;TZID=Europe/London:20250716T170000
DTEND;TZID=Europe/London:20250716T190000
DTSTAMP:20260423T224317
CREATED:20250605T235715Z
LAST-MODIFIED:20250605T235715Z
UID:13287-1752685200-1752692400@barlowsprimary.co.uk
SUMMARY:Year 6 Leavers’ Events - The Class of 2025!  Year 6 Leavers’ Disco
DESCRIPTION:Year 6 Leavers’ Events – The Class of 2025! \nYear 6 Leavers’ Disco \n16/07/25 \nOur Year 6 pupils are invited to join us for food and an exciting disco in celebration of their time with us in Barlows.
URL:https://barlowsprimary.co.uk/event/year-6-leavers-events-the-class-of-2025-year-6-leavers-disco/
END:VEVENT
END:VCALENDAR