BEGIN:VCALENDAR
VERSION:2.0
PRODID:-//Barlows Primary School - ECPv6.15.20//NONSGML v1.0//EN
CALSCALE:GREGORIAN
METHOD:PUBLISH
X-ORIGINAL-URL:https://barlowsprimary.co.uk
X-WR-CALDESC:Events for Barlows Primary School
REFRESH-INTERVAL;VALUE=DURATION:PT1H
X-Robots-Tag:noindex
X-PUBLISHED-TTL:PT1H
BEGIN:VTIMEZONE
TZID:Europe/London
BEGIN:DAYLIGHT
TZOFFSETFROM:+0000
TZOFFSETTO:+0100
TZNAME:BST
DTSTART:20240331T010000
END:DAYLIGHT
BEGIN:STANDARD
TZOFFSETFROM:+0100
TZOFFSETTO:+0000
TZNAME:GMT
DTSTART:20241027T010000
END:STANDARD
BEGIN:DAYLIGHT
TZOFFSETFROM:+0000
TZOFFSETTO:+0100
TZNAME:BST
DTSTART:20250330T010000
END:DAYLIGHT
BEGIN:STANDARD
TZOFFSETFROM:+0100
TZOFFSETTO:+0000
TZNAME:GMT
DTSTART:20251026T010000
END:STANDARD
BEGIN:DAYLIGHT
TZOFFSETFROM:+0000
TZOFFSETTO:+0100
TZNAME:BST
DTSTART:20260329T010000
END:DAYLIGHT
BEGIN:STANDARD
TZOFFSETFROM:+0100
TZOFFSETTO:+0000
TZNAME:GMT
DTSTART:20261025T010000
END:STANDARD
END:VTIMEZONE
BEGIN:VEVENT
DTSTART;VALUE=DATE:20250922
DTEND;VALUE=DATE:20250923
DTSTAMP:20260423T194304
CREATED:20251013T092247Z
LAST-MODIFIED:20251013T092247Z
UID:13467-1758499200-1758585599@barlowsprimary.co.uk
SUMMARY:Year 6 Royal Court Liverpool Theatre Visit - Backstage Class - 6 Gandhi (Miss Ward's Class)
DESCRIPTION:Year 6 pupils will be visiting the Royal Court Theatre\, Liverpool\, where they will gain invaluable insights into the behind-the-scenes world of theatre production. The children will take part in the ‘Backstage Class’ workshop\, providing access to areas typically unseen by the public.
URL:https://barlowsprimary.co.uk/event/year-6-royal-court-liverpool-theatre-visit-backstage-class-6-gandhi-miss-wards-class/
END:VEVENT
END:VCALENDAR