BEGIN:VCALENDAR
VERSION:2.0
PRODID:-//Barlows Primary School - ECPv6.15.20//NONSGML v1.0//EN
CALSCALE:GREGORIAN
METHOD:PUBLISH
X-ORIGINAL-URL:https://barlowsprimary.co.uk
X-WR-CALDESC:Events for Barlows Primary School
REFRESH-INTERVAL;VALUE=DURATION:PT1H
X-Robots-Tag:noindex
X-PUBLISHED-TTL:PT1H
BEGIN:VTIMEZONE
TZID:Europe/London
BEGIN:DAYLIGHT
TZOFFSETFROM:+0000
TZOFFSETTO:+0100
TZNAME:BST
DTSTART:20240331T010000
END:DAYLIGHT
BEGIN:STANDARD
TZOFFSETFROM:+0100
TZOFFSETTO:+0000
TZNAME:GMT
DTSTART:20241027T010000
END:STANDARD
BEGIN:DAYLIGHT
TZOFFSETFROM:+0000
TZOFFSETTO:+0100
TZNAME:BST
DTSTART:20250330T010000
END:DAYLIGHT
BEGIN:STANDARD
TZOFFSETFROM:+0100
TZOFFSETTO:+0000
TZNAME:GMT
DTSTART:20251026T010000
END:STANDARD
BEGIN:DAYLIGHT
TZOFFSETFROM:+0000
TZOFFSETTO:+0100
TZNAME:BST
DTSTART:20260329T010000
END:DAYLIGHT
BEGIN:STANDARD
TZOFFSETFROM:+0100
TZOFFSETTO:+0000
TZNAME:GMT
DTSTART:20261025T010000
END:STANDARD
END:VTIMEZONE
BEGIN:VEVENT
DTSTART;VALUE=DATE:20251013
DTEND;VALUE=DATE:20251014
DTSTAMP:20260423T182758
CREATED:20251013T102440Z
LAST-MODIFIED:20251013T102440Z
UID:13495-1760313600-1760399999@barlowsprimary.co.uk
SUMMARY:HMRC Tax Facts Sessions - Years 3\, 4\, 5 and 6
DESCRIPTION:As part of our mathematical enrichment activities\, we are pleased to welcome back the team from HMRC for another year. Children from Year 3 to Year 6 will be taking part in HMRC Junior Tax Facts sessions during October. Staff from HMRC will explain about their role and career\, what tax is\, how it is used and why it is so important. \nChildren will explore which parts of a town are funded for by tax and learn what it is like to be Chancellor of the Exchequer for the day.
URL:https://barlowsprimary.co.uk/event/hmrc-tax-facts-sessions-years-3-4-5-and-6/
END:VEVENT
BEGIN:VEVENT
DTSTART;TZID=Europe/London:20251013T154500
DTEND;TZID=Europe/London:20251013T163000
DTSTAMP:20260423T182758
CREATED:20251013T103747Z
LAST-MODIFIED:20251014T083619Z
UID:13503-1760370300-1760373000@barlowsprimary.co.uk
SUMMARY:Reception Phonics and Early Reading Session
DESCRIPTION:As we continue to prioritise the development of strong foundational skills in literacy for our pupils\, I am pleased to announce an upcoming Phonics and Early Reading session specifically designed for parents and carers. \nThe sessions are as follows: \nReception Phonics and Early Reading Sessions \nMonday 13/10/25 at 3:45pm-4:30pm \nMonday 13/10/25 at 5:15-6:00pm \nThe aim of this event is to provide you with valuable insights into our phonics programme\, including the methods and strategies we employ to encourage early reading skills among our pupils.
URL:https://barlowsprimary.co.uk/event/reception-phonics-and-early-reading-session/
END:VEVENT
BEGIN:VEVENT
DTSTART;TZID=Europe/London:20251013T171500
DTEND;TZID=Europe/London:20251013T180000
DTSTAMP:20260423T182758
CREATED:20251013T103837Z
LAST-MODIFIED:20251014T083643Z
UID:13505-1760375700-1760378400@barlowsprimary.co.uk
SUMMARY:Reception Phonics and Early Reading Session
DESCRIPTION:As we continue to prioritise the development of strong foundational skills in literacy for our pupils\, I am pleased to announce an upcoming Phonics and Early Reading session specifically designed for parents and carers. \nThe sessions are as follows: \nReception Phonics and Early Reading Sessions \nMonday 13/10/25 at 3:45pm-4:30pm \nMonday 13/10/25 at 5:15-6:00pm \nThe aim of this event is to provide you with valuable insights into our phonics programme\, including the methods and strategies we employ to encourage early reading skills among our pupils.
URL:https://barlowsprimary.co.uk/event/reception-phonics-and-early-reading-session-2/
END:VEVENT
END:VCALENDAR