BEGIN:VCALENDAR
VERSION:2.0
PRODID:-//Barlows Primary School - ECPv6.15.20//NONSGML v1.0//EN
CALSCALE:GREGORIAN
METHOD:PUBLISH
X-WR-CALNAME:Barlows Primary School
X-ORIGINAL-URL:https://barlowsprimary.co.uk
X-WR-CALDESC:Events for Barlows Primary School
REFRESH-INTERVAL;VALUE=DURATION:PT1H
X-Robots-Tag:noindex
X-PUBLISHED-TTL:PT1H
BEGIN:VTIMEZONE
TZID:Europe/London
BEGIN:DAYLIGHT
TZOFFSETFROM:+0000
TZOFFSETTO:+0100
TZNAME:BST
DTSTART:20240331T010000
END:DAYLIGHT
BEGIN:STANDARD
TZOFFSETFROM:+0100
TZOFFSETTO:+0000
TZNAME:GMT
DTSTART:20241027T010000
END:STANDARD
BEGIN:DAYLIGHT
TZOFFSETFROM:+0000
TZOFFSETTO:+0100
TZNAME:BST
DTSTART:20250330T010000
END:DAYLIGHT
BEGIN:STANDARD
TZOFFSETFROM:+0100
TZOFFSETTO:+0000
TZNAME:GMT
DTSTART:20251026T010000
END:STANDARD
BEGIN:DAYLIGHT
TZOFFSETFROM:+0000
TZOFFSETTO:+0100
TZNAME:BST
DTSTART:20260329T010000
END:DAYLIGHT
BEGIN:STANDARD
TZOFFSETFROM:+0100
TZOFFSETTO:+0000
TZNAME:GMT
DTSTART:20261025T010000
END:STANDARD
END:VTIMEZONE
BEGIN:VEVENT
DTSTART;VALUE=DATE:20251014
DTEND;VALUE=DATE:20251015
DTSTAMP:20260423T180550
CREATED:20251013T102611Z
LAST-MODIFIED:20251013T102835Z
UID:13497-1760400000-1760486399@barlowsprimary.co.uk
SUMMARY:HMRC Tax Facts Session - Years 3\, 4\, 5 and 6
DESCRIPTION:As part of our mathematical enrichment activities\, we are pleased to welcome back the team from HMRC for another year. Children from Year 3 to Year 6 will be taking part in HMRC Junior Tax Facts sessions during October. Staff from HMRC will explain about their role and career\, what tax is\, how it is used and why it is so important. \nChildren will explore which parts of a town are funded for by tax and learn what it is like to be Chancellor of the Exchequer for the day.
URL:https://barlowsprimary.co.uk/event/hmrc-tax-facts-session-years-3-4-5-and-6/
END:VEVENT
BEGIN:VEVENT
DTSTART;TZID=Europe/London:20251014T093000
DTEND;TZID=Europe/London:20251014T120000
DTSTAMP:20260423T180550
CREATED:20251013T100222Z
LAST-MODIFIED:20251013T100222Z
UID:13485-1760434200-1760443200@barlowsprimary.co.uk
SUMMARY:Year 6 Educational Visit to Apple
DESCRIPTION:There will be series of educational visits for our Year 6 students to participate in Apple Draw with Stillwater workshops. These visits are scheduled to take place in groups of 15 students per visit as follows: \nThursday 02/10/25 (morning session) Y6 15 students \nTuesday 14/10/25 (morning session) Y6 15 students \nThursday 16/10/25 (morning session) Y6 15 students \nTuesday 23/10/25 (morning session) Y6 15 students
URL:https://barlowsprimary.co.uk/event/year-6-educational-visit-to-apple-2/
END:VEVENT
END:VCALENDAR