BEGIN:VCALENDAR
VERSION:2.0
PRODID:-//Barlows Primary School - ECPv6.15.20//NONSGML v1.0//EN
CALSCALE:GREGORIAN
METHOD:PUBLISH
X-ORIGINAL-URL:https://barlowsprimary.co.uk
X-WR-CALDESC:Events for Barlows Primary School
REFRESH-INTERVAL;VALUE=DURATION:PT1H
X-Robots-Tag:noindex
X-PUBLISHED-TTL:PT1H
BEGIN:VTIMEZONE
TZID:Europe/London
BEGIN:DAYLIGHT
TZOFFSETFROM:+0000
TZOFFSETTO:+0100
TZNAME:BST
DTSTART:20240331T010000
END:DAYLIGHT
BEGIN:STANDARD
TZOFFSETFROM:+0100
TZOFFSETTO:+0000
TZNAME:GMT
DTSTART:20241027T010000
END:STANDARD
BEGIN:DAYLIGHT
TZOFFSETFROM:+0000
TZOFFSETTO:+0100
TZNAME:BST
DTSTART:20250330T010000
END:DAYLIGHT
BEGIN:STANDARD
TZOFFSETFROM:+0100
TZOFFSETTO:+0000
TZNAME:GMT
DTSTART:20251026T010000
END:STANDARD
BEGIN:DAYLIGHT
TZOFFSETFROM:+0000
TZOFFSETTO:+0100
TZNAME:BST
DTSTART:20260329T010000
END:DAYLIGHT
BEGIN:STANDARD
TZOFFSETFROM:+0100
TZOFFSETTO:+0000
TZNAME:GMT
DTSTART:20261025T010000
END:STANDARD
END:VTIMEZONE
BEGIN:VEVENT
DTSTART;TZID=Europe/London:20251016T093000
DTEND;TZID=Europe/London:20251016T120000
DTSTAMP:20260423T180824
CREATED:20251013T100304Z
LAST-MODIFIED:20251013T100304Z
UID:13487-1760607000-1760616000@barlowsprimary.co.uk
SUMMARY:Year 6 Educational Visit to Apple
DESCRIPTION:There will be series of educational visits for our Year 6 students to participate in Apple Draw with Stillwater workshops. These visits are scheduled to take place in groups of 15 students per visit as follows: \nThursday 02/10/25 (morning session) Y6 15 students \nTuesday 14/10/25 (morning session) Y6 15 students \nThursday 16/10/25 (morning session) Y6 15 students \nTuesday 23/10/25 (morning session) Y6 15 students
URL:https://barlowsprimary.co.uk/event/year-6-educational-visit-to-apple-3/
END:VEVENT
BEGIN:VEVENT
DTSTART;TZID=Europe/London:20251016T154500
DTEND;TZID=Europe/London:20251016T164500
DTSTAMP:20260423T180824
CREATED:20251013T095240Z
LAST-MODIFIED:20251013T095240Z
UID:13481-1760629500-1760633100@barlowsprimary.co.uk
SUMMARY:Nursery\, Reception\, Year 1 and Year 2 Meet the Team Session
DESCRIPTION:Our Meet the Team Sessions are designed to facilitate open communication and collaboration between our dedicated staff and valued parents. \nThe sessions will provide an opportunity for you to meet our teaching staff and some of the support staff for your child’s year group. We believe that establishing a strong partnership with parents is essential to enhancing the educational experience of our students. \nDuring these sessions\, you will receive important information regarding the curriculum\, school policies and plans for the academic year ahead. At the end\, staff will be available for you to introduce yourself\, ask questions and share any insights you may have regarding your child’s education. We encourage you to take advantage of this occasion to engage with our team and gain a deeper understanding of our educational practices and resources.
URL:https://barlowsprimary.co.uk/event/nursery-reception-year-1-and-year-2-meet-the-team-session/
END:VEVENT
END:VCALENDAR