BEGIN:VCALENDAR
VERSION:2.0
PRODID:-//Barlows Primary School - ECPv6.15.20//NONSGML v1.0//EN
CALSCALE:GREGORIAN
METHOD:PUBLISH
X-WR-CALNAME:Barlows Primary School
X-ORIGINAL-URL:https://barlowsprimary.co.uk
X-WR-CALDESC:Events for Barlows Primary School
REFRESH-INTERVAL;VALUE=DURATION:PT1H
X-Robots-Tag:noindex
X-PUBLISHED-TTL:PT1H
BEGIN:VTIMEZONE
TZID:Europe/London
BEGIN:DAYLIGHT
TZOFFSETFROM:+0000
TZOFFSETTO:+0100
TZNAME:BST
DTSTART:20240331T010000
END:DAYLIGHT
BEGIN:STANDARD
TZOFFSETFROM:+0100
TZOFFSETTO:+0000
TZNAME:GMT
DTSTART:20241027T010000
END:STANDARD
BEGIN:DAYLIGHT
TZOFFSETFROM:+0000
TZOFFSETTO:+0100
TZNAME:BST
DTSTART:20250330T010000
END:DAYLIGHT
BEGIN:STANDARD
TZOFFSETFROM:+0100
TZOFFSETTO:+0000
TZNAME:GMT
DTSTART:20251026T010000
END:STANDARD
BEGIN:DAYLIGHT
TZOFFSETFROM:+0000
TZOFFSETTO:+0100
TZNAME:BST
DTSTART:20260329T010000
END:DAYLIGHT
BEGIN:STANDARD
TZOFFSETFROM:+0100
TZOFFSETTO:+0000
TZNAME:GMT
DTSTART:20261025T010000
END:STANDARD
END:VTIMEZONE
BEGIN:VEVENT
DTSTART;VALUE=DATE:20251017
DTEND;VALUE=DATE:20251018
DTSTAMP:20260423T180523
CREATED:20251013T103639Z
LAST-MODIFIED:20251014T090306Z
UID:13501-1760659200-1760745599@barlowsprimary.co.uk
SUMMARY:Liverpool Maths Party
DESCRIPTION:As part of the Liverpool Maths Party\, this year we will be promoting the use of maths in the world around us through the theme of 200 years of Railways! \nChildren will compete against each other in maths quizzes and puzzles as well as develop their problem solving skills throughout the day.
URL:https://barlowsprimary.co.uk/event/liverpool-maths-party/
END:VEVENT
BEGIN:VEVENT
DTSTART;VALUE=DATE:20251017
DTEND;VALUE=DATE:20251018
DTSTAMP:20260423T180523
CREATED:20251013T103924Z
LAST-MODIFIED:20251014T090806Z
UID:13507-1760659200-1760745599@barlowsprimary.co.uk
SUMMARY:Year 1\, 2\, 3\, 4\, 5 and 6 Children's University Assembly
DESCRIPTION:Students in Year 1\, 2\, 3\, 4\, 5 and 6 will be participating in a Children’s University Assembly delivered by Children’s University representatives. \nThe assembly is an opportunity for students to gain an understanding of the Children’s University Scheme\, how to get involved and how to earn important credits towards the various awards.
URL:https://barlowsprimary.co.uk/event/year-1-2-3-4-5-and-6-childrens-university-assembly/
END:VEVENT
BEGIN:VEVENT
DTSTART;TZID=Europe/London:20251017T154500
DTEND;TZID=Europe/London:20251017T161500
DTSTAMP:20260423T180523
CREATED:20251013T104030Z
LAST-MODIFIED:20251014T091052Z
UID:13509-1760715900-1760717700@barlowsprimary.co.uk
SUMMARY:Year 1 \, 2\, 3\, 4\, 5 and 6 Children's University Parent Session
DESCRIPTION:Parents are invited to join us for a drop in session on how we can work together to enhance and develop children’s interests and passions beyond the curriculum. The session will be led by Louise Waller from Children’s University who will explain how children can gain credits\, both in and outside of school to contribute towards a final award and graduation at a university!
URL:https://barlowsprimary.co.uk/event/year-1-2-3-4-5-and-6-childrens-university-parent-session/
END:VEVENT
END:VCALENDAR