BEGIN:VCALENDAR
VERSION:2.0
PRODID:-//Barlows Primary School - ECPv6.15.20//NONSGML v1.0//EN
CALSCALE:GREGORIAN
METHOD:PUBLISH
X-ORIGINAL-URL:https://barlowsprimary.co.uk
X-WR-CALDESC:Events for Barlows Primary School
REFRESH-INTERVAL;VALUE=DURATION:PT1H
X-Robots-Tag:noindex
X-PUBLISHED-TTL:PT1H
BEGIN:VTIMEZONE
TZID:Europe/London
BEGIN:DAYLIGHT
TZOFFSETFROM:+0000
TZOFFSETTO:+0100
TZNAME:BST
DTSTART:20240331T010000
END:DAYLIGHT
BEGIN:STANDARD
TZOFFSETFROM:+0100
TZOFFSETTO:+0000
TZNAME:GMT
DTSTART:20241027T010000
END:STANDARD
BEGIN:DAYLIGHT
TZOFFSETFROM:+0000
TZOFFSETTO:+0100
TZNAME:BST
DTSTART:20250330T010000
END:DAYLIGHT
BEGIN:STANDARD
TZOFFSETFROM:+0100
TZOFFSETTO:+0000
TZNAME:GMT
DTSTART:20251026T010000
END:STANDARD
BEGIN:DAYLIGHT
TZOFFSETFROM:+0000
TZOFFSETTO:+0100
TZNAME:BST
DTSTART:20260329T010000
END:DAYLIGHT
BEGIN:STANDARD
TZOFFSETFROM:+0100
TZOFFSETTO:+0000
TZNAME:GMT
DTSTART:20261025T010000
END:STANDARD
END:VTIMEZONE
BEGIN:VEVENT
DTSTART;VALUE=DATE:20251105
DTEND;VALUE=DATE:20251106
DTSTAMP:20260423T074115
CREATED:20251013T105140Z
LAST-MODIFIED:20251014T100401Z
UID:13531-1762300800-1762387199@barlowsprimary.co.uk
SUMMARY:LSSP Balanceability Session - Reception Donaldson (Miss Evans' Class)
DESCRIPTION:Reception Classes will be engaging in a series of Balanceability Sessions as part of their PE lessons. These sessions\, expertly delivered by coaches from LSSP\, aim to enhance children’s essential balance skills. \n  \nBalanceability is a foundational programme designed to prepare young learners for riding a bicycle. During these dynamic lessons\, children will develop not only their physical coordination but also their confidence as they encounter various balancing activities. By mastering these skills early on\, our students will significantly improve their readiness for cycling.
URL:https://barlowsprimary.co.uk/event/lssp-balanceability-session-reception-donaldson-miss-evans-class/
END:VEVENT
END:VCALENDAR