BEGIN:VCALENDAR
VERSION:2.0
PRODID:-//Barlows Primary School - ECPv6.15.20//NONSGML v1.0//EN
CALSCALE:GREGORIAN
METHOD:PUBLISH
X-WR-CALNAME:Barlows Primary School
X-ORIGINAL-URL:https://barlowsprimary.co.uk
X-WR-CALDESC:Events for Barlows Primary School
REFRESH-INTERVAL;VALUE=DURATION:PT1H
X-Robots-Tag:noindex
X-PUBLISHED-TTL:PT1H
BEGIN:VTIMEZONE
TZID:Europe/London
BEGIN:DAYLIGHT
TZOFFSETFROM:+0000
TZOFFSETTO:+0100
TZNAME:BST
DTSTART:20240331T010000
END:DAYLIGHT
BEGIN:STANDARD
TZOFFSETFROM:+0100
TZOFFSETTO:+0000
TZNAME:GMT
DTSTART:20241027T010000
END:STANDARD
BEGIN:DAYLIGHT
TZOFFSETFROM:+0000
TZOFFSETTO:+0100
TZNAME:BST
DTSTART:20250330T010000
END:DAYLIGHT
BEGIN:STANDARD
TZOFFSETFROM:+0100
TZOFFSETTO:+0000
TZNAME:GMT
DTSTART:20251026T010000
END:STANDARD
BEGIN:DAYLIGHT
TZOFFSETFROM:+0000
TZOFFSETTO:+0100
TZNAME:BST
DTSTART:20260329T010000
END:DAYLIGHT
BEGIN:STANDARD
TZOFFSETFROM:+0100
TZOFFSETTO:+0000
TZNAME:GMT
DTSTART:20261025T010000
END:STANDARD
END:VTIMEZONE
BEGIN:VEVENT
DTSTART;VALUE=DATE:20251117
DTEND;VALUE=DATE:20251118
DTSTAMP:20260422T085824
CREATED:20251014T075905Z
LAST-MODIFIED:20251014T154008Z
UID:13600-1763337600-1763423999@barlowsprimary.co.uk
SUMMARY:Reception Parents & Carers 'How to...' Mathematics Workshop
DESCRIPTION:We are excited to share with you that this academic year\, we have introduce a new mathematics curriculum across our school – the My Mastery Mathematics Curriculum. \nTo introduce this curriculum to parents and carers and share important learning strategies for Autumn Term\, we will be holding Parent and Carer ‘How to..’ Mathematics sessions\, led by our maths leads Mr Allinson and Miss Hughes. \nParents and carers are invited to attend\, with their child\, on the following dates to learn about the techniques we use in the classroom and different ways you can help your child with mathematics at home: \nReception – Monday 17/11/25 \nYear 1 – Wednesday 19/11/25 \nYear 2 – Thursday 20/11/25 \nYear 3 – Monday 24/11/25 \nYear 4 – Wednesday 26/11/25 \nYear 5 & Year 6 -Thursday 27/11/25 \nWe hope you will be able to join us!
URL:https://barlowsprimary.co.uk/event/reception-parents-carers-how-to-mathematics-workshop/
END:VEVENT
BEGIN:VEVENT
DTSTART;TZID=Europe/London:20251117T093000
DTEND;TZID=Europe/London:20251117T113000
DTSTAMP:20260422T085824
CREATED:20251014T095432Z
LAST-MODIFIED:20251014T095432Z
UID:13694-1763371800-1763379000@barlowsprimary.co.uk
SUMMARY:Help Your Child Thrive Parent and Carer Programme
DESCRIPTION:The ‘Help Your Child Thrive’ programme is coming to Barlows Primary School from Monday 3rd November to help you to support your child with their learning and development at home. This course runs every Monday morning in school for 5 sessions just after you drop your child off at the start of the school day. \nThe course gives you an insight into what your child will be learning in Reception and KS1. Each week you’ll receive lots of practical tips and ideas as to how to help your child develop skills in communication and language\, personal\, social and emotional wellbeing\, physical development\, literacy and maths. You will be given a booklet full of resources and ideas for fun games to play with your child at home which will help them to thrive in school. The course is also a good chance to meet other parents and get to know a bit more about school. \nSessions will run from 9:30am – 11:30am on the following dates: \nMonday 03/11/25 \nMonday 10/11/25 \nMonday 17/11/25 \nMonday 24/11/25 \nMonday 02/12/25 \nPlaces are limited so please keep an eye out on Arbor for sign up details.
URL:https://barlowsprimary.co.uk/event/help-your-child-thrive-parent-and-carer-programme-3/
END:VEVENT
END:VCALENDAR