BEGIN:VCALENDAR
VERSION:2.0
PRODID:-//Barlows Primary School - ECPv6.15.20//NONSGML v1.0//EN
CALSCALE:GREGORIAN
METHOD:PUBLISH
X-ORIGINAL-URL:https://barlowsprimary.co.uk
X-WR-CALDESC:Events for Barlows Primary School
REFRESH-INTERVAL;VALUE=DURATION:PT1H
X-Robots-Tag:noindex
X-PUBLISHED-TTL:PT1H
BEGIN:VTIMEZONE
TZID:Europe/London
BEGIN:DAYLIGHT
TZOFFSETFROM:+0000
TZOFFSETTO:+0100
TZNAME:BST
DTSTART:20240331T010000
END:DAYLIGHT
BEGIN:STANDARD
TZOFFSETFROM:+0100
TZOFFSETTO:+0000
TZNAME:GMT
DTSTART:20241027T010000
END:STANDARD
BEGIN:DAYLIGHT
TZOFFSETFROM:+0000
TZOFFSETTO:+0100
TZNAME:BST
DTSTART:20250330T010000
END:DAYLIGHT
BEGIN:STANDARD
TZOFFSETFROM:+0100
TZOFFSETTO:+0000
TZNAME:GMT
DTSTART:20251026T010000
END:STANDARD
BEGIN:DAYLIGHT
TZOFFSETFROM:+0000
TZOFFSETTO:+0100
TZNAME:BST
DTSTART:20260329T010000
END:DAYLIGHT
BEGIN:STANDARD
TZOFFSETFROM:+0100
TZOFFSETTO:+0000
TZNAME:GMT
DTSTART:20261025T010000
END:STANDARD
END:VTIMEZONE
BEGIN:VEVENT
DTSTART;VALUE=DATE:20251119
DTEND;VALUE=DATE:20251120
DTSTAMP:20260422T052141
CREATED:20251013T105309Z
LAST-MODIFIED:20251014T100510Z
UID:13535-1763510400-1763596799@barlowsprimary.co.uk
SUMMARY:LSSP Balanceability Session - Reception Donaldson (Miss Evans' Class)
DESCRIPTION:Reception Classes will be engaging in a series of Balanceability Sessions as part of their PE lessons. These sessions\, expertly delivered by coaches from LSSP\, aim to enhance children’s essential balance skills. \n  \nBalanceability is a foundational programme designed to prepare young learners for riding a bicycle. During these dynamic lessons\, children will develop not only their physical coordination but also their confidence as they encounter various balancing activities. By mastering these skills early on\, our students will significantly improve their readiness for cycling.
URL:https://barlowsprimary.co.uk/event/lssp-balanceability-session-reception-donaldson-miss-evans-class-3/
END:VEVENT
BEGIN:VEVENT
DTSTART;VALUE=DATE:20251119
DTEND;VALUE=DATE:20251120
DTSTAMP:20260422T052141
CREATED:20251014T073735Z
LAST-MODIFIED:20251014T152417Z
UID:13574-1763510400-1763596799@barlowsprimary.co.uk
SUMMARY:Year 5 IntoFilm Festival Cinema Trip - Wicked - FACT Cinema\, Liverpool
DESCRIPTION:We have been fortunate enough to secure some free cinema trips for for our pupils as part of the IntoFilm Festival. The festival is a fantastic initiative aimed at inspiring students through film\, helping to enhance their creativity\, and fostering a love for storytelling. \nAs part of the festival\, our Year 5 classes will be attending screenings designed to engage their imaginations and will link to work back in school. “After two decades\, the beloved and enduring stage musical makes its journey to the big screen as a spectacular\, generation-defining cinematic event. The untold story of the witches of Oz stars Cynthia Erivo as Elphaba\, a young woman\, misunderstood because of her unusual green skin\, who has yet to discover her true power\, and Ariana Grande as Glinda\, a popular young woman\, gilded by privilege\, who has yet to discover her true heart. As they forge an unlikely friendship\, their extraordinary adventures will see them fulfill their destinies as Glinda the Good and the Wicked Witch of the West.” \nThese screenings will not only provide an engaging experience but will also support our broader educational goals by encouraging discussions about themes such as themes of redemption\, stereotypes and friendship. \nYear 5  \nWednesday 19/11/2025 – Wicked \nWe have some spaces for parents and carers to join us on the trip\, details will follow via Arbor.
URL:https://barlowsprimary.co.uk/event/year-5-intofilm-festival-cinema-trip-wicked-fact-cinema-liverpool/
END:VEVENT
BEGIN:VEVENT
DTSTART;VALUE=DATE:20251119
DTEND;VALUE=DATE:20251120
DTSTAMP:20260422T052141
CREATED:20251014T073910Z
LAST-MODIFIED:20251014T152558Z
UID:13576-1763510400-1763596799@barlowsprimary.co.uk
SUMMARY:Year 6 IntoFilm Festival Cinema Trip - Ocean - Crosby Plaza Community Cinema
DESCRIPTION:We have been fortunate enough to secure some free cinema trips for for our pupils as part of the IntoFilm Festival. The festival is a fantastic initiative aimed at inspiring students through film\, helping to enhance their creativity\, and fostering a love for storytelling. As part of the festival\, our Year 6 classes will be attending screenings designed to engage their imaginations and will link to work back in school. \n“Legendary broadcaster Sir David Attenborough has spent over 70 years filming the natural world\, leading him to a passionate belief that the ocean plays a critical role in sustaining life on Earth. This visually stunning and deeply moving documentary takes audiences on a journey through the planet’s most extraordinary marine environments\, from vibrant coral reefs and expansive kelp forests to the mysterious open ocean. Attenborough reflects on the remarkable ocean discoveries made during his lifetime\, while highlighting the pressing threats facing marine ecosystems today\, including overfishing\, pollution\, and climate-driven coral bleaching. Yet\, amidst these challenges\, the film delivers a powerful message of hope. Through inspiring stories of conservation and restoration from around the world\, Attenborough shows that with urgent action and global cooperation\, the ocean’s health can be revived – leading our entire planet to thrive.” \nYear 6  \nWednesday 19/11/25 – Ocean \nWe have some spaces for parents and carers to join us on the trip\, details will follow via Arbor.
URL:https://barlowsprimary.co.uk/event/year-6-intofilm-festival-cinema-trip-ocean-crosby-plaza-community-cinema/
END:VEVENT
BEGIN:VEVENT
DTSTART;VALUE=DATE:20251119
DTEND;VALUE=DATE:20251120
DTSTAMP:20260422T052141
CREATED:20251014T074059Z
LAST-MODIFIED:20251014T152725Z
UID:13578-1763510400-1763596799@barlowsprimary.co.uk
SUMMARY:Year 3 & 4 IntoFilm Festival Cinema Trip - IF - Odeon Cinema\, Liverpool One
DESCRIPTION:We have been fortunate enough to secure some free cinema trips for for our pupils as part of the IntoFilm Festival. The festival is a fantastic initiative aimed at inspiring students through film\, helping to enhance their creativity\, and fostering a love for storytelling. \nAs part of the festival\, our Year 3 & 4 classes will be attending screenings designed to engage their imaginations and will link to work back in school. The children will attend the screening of If\, a film full of delightful characters\, ‘IF’ is a heartfelt story about family\, friendship\, and growing up. \nYear 3 & 4  \nWednesday 19/11/2025 – IF \nWe have some spaces for parents and carers to join us on the trip\, details will follow via Arbor.
URL:https://barlowsprimary.co.uk/event/year-3-4-intofilm-festival-cinema-trip-if-odeon-cinema-liverpool-one/
END:VEVENT
BEGIN:VEVENT
DTSTART;VALUE=DATE:20251119
DTEND;VALUE=DATE:20251120
DTSTAMP:20260422T052141
CREATED:20251014T080050Z
LAST-MODIFIED:20251014T154043Z
UID:13602-1763510400-1763596799@barlowsprimary.co.uk
SUMMARY:Year 1 Parents & Carers 'How to...' Mathematics Workshop
DESCRIPTION:We are excited to share with you that this academic year\, we have introduce a new mathematics curriculum across our school – the My Mastery Mathematics Curriculum. \nTo introduce this curriculum to parents and carers and share important learning strategies for Autumn Term\, we will be holding Parent and Carer ‘How to..’ Mathematics sessions\, led by our maths leads Mr Allinson and Miss Hughes. \nParents and carers are invited to attend\, with their child\, on the following dates to learn about the techniques we use in the classroom and different ways you can help your child with mathematics at home: \nReception – Monday 17/11/25 \nYear 1 – Wednesday 19/11/25 \nYear 2 – Thursday 20/11/25 \nYear 3 – Monday 24/11/25 \nYear 4 – Wednesday 26/11/25 \nYear 5 & Year 6 -Thursday 27/11/25 \nWe hope you will be able to join us!
URL:https://barlowsprimary.co.uk/event/year-1-parents-carers-how-to-mathematics-workshop/
END:VEVENT
END:VCALENDAR