BEGIN:VCALENDAR
VERSION:2.0
PRODID:-//Barlows Primary School - ECPv6.15.20//NONSGML v1.0//EN
CALSCALE:GREGORIAN
METHOD:PUBLISH
X-ORIGINAL-URL:https://barlowsprimary.co.uk
X-WR-CALDESC:Events for Barlows Primary School
REFRESH-INTERVAL;VALUE=DURATION:PT1H
X-Robots-Tag:noindex
X-PUBLISHED-TTL:PT1H
BEGIN:VTIMEZONE
TZID:Europe/London
BEGIN:DAYLIGHT
TZOFFSETFROM:+0000
TZOFFSETTO:+0100
TZNAME:BST
DTSTART:20240331T010000
END:DAYLIGHT
BEGIN:STANDARD
TZOFFSETFROM:+0100
TZOFFSETTO:+0000
TZNAME:GMT
DTSTART:20241027T010000
END:STANDARD
BEGIN:DAYLIGHT
TZOFFSETFROM:+0000
TZOFFSETTO:+0100
TZNAME:BST
DTSTART:20250330T010000
END:DAYLIGHT
BEGIN:STANDARD
TZOFFSETFROM:+0100
TZOFFSETTO:+0000
TZNAME:GMT
DTSTART:20251026T010000
END:STANDARD
BEGIN:DAYLIGHT
TZOFFSETFROM:+0000
TZOFFSETTO:+0100
TZNAME:BST
DTSTART:20260329T010000
END:DAYLIGHT
BEGIN:STANDARD
TZOFFSETFROM:+0100
TZOFFSETTO:+0000
TZNAME:GMT
DTSTART:20261025T010000
END:STANDARD
END:VTIMEZONE
BEGIN:VEVENT
DTSTART;VALUE=DATE:20251120
DTEND;VALUE=DATE:20251121
DTSTAMP:20260422T035010
CREATED:20251014T071736Z
LAST-MODIFIED:20251014T104502Z
UID:13550-1763596800-1763683199@barlowsprimary.co.uk
SUMMARY:Year 3 Stone Age Workshop with Dr John Hill
DESCRIPTION:We are delighted to welcome back Dr John Hill\, an Archaeologist and Liverpool University Lecturer to deliver a Stone Age Workshop with real artefacts to your Year 3 Students. The sessions will take place on Tuesday 18/11/25 and Thursday 20/11/25. \nDr Hill brings a wealth of knowledge and expertise in the field of archaeology\, particularly focusing on prehistoric societies. \nDuring this engaging workshop\, students will have the chance to learn about the Stone Age\, including its culture\, tools\, and significant developments. \nDr Hill will employ a hands-on approach\, allowing students to interact with artefacts and participate in activities that illustrate the daily lives of our ancestors. \nThis is a fantastic opportunity for our students to deepen their understanding from an expert in the field!
URL:https://barlowsprimary.co.uk/event/year-3-stone-age-workshop-with-dr-john-hill-2/
END:VEVENT
BEGIN:VEVENT
DTSTART;VALUE=DATE:20251120
DTEND;VALUE=DATE:20251121
DTSTAMP:20260422T035010
CREATED:20251014T074358Z
LAST-MODIFIED:20251014T152837Z
UID:13580-1763596800-1763683199@barlowsprimary.co.uk
SUMMARY:Year 5 IntoFilm Festival Cinema Trip - Bad Guys 2 - New Brighton Light Cinema
DESCRIPTION:We have been fortunate enough to secure some free cinema trips for for our pupils as part of the IntoFilm Festival. The festival is a fantastic initiative aimed at inspiring students through film\, helping to enhance their creativity\, and fostering a love for storytelling. \nAs part of the festival\, our Year 5 classes will be attending screenings designed to engage their imaginations and will link to work back in school. These screenings will not only provide an engaging experience but will also support our broader educational goals by encouraging discussions about themes such as themes of redemption\, stereotypes and friendship. \nYear 5  \nThursday 20/11/2025 – Bad Guys 2 \nWe have some spaces for parents and carers to join us on the trip\, details will follow via Arbor.
URL:https://barlowsprimary.co.uk/event/year-5-intofilm-festival-cinema-trip-bad-guys-2-new-brighton-light-cinema/
END:VEVENT
BEGIN:VEVENT
DTSTART;VALUE=DATE:20251120
DTEND;VALUE=DATE:20251121
DTSTAMP:20260422T035010
CREATED:20251014T074504Z
LAST-MODIFIED:20251014T152956Z
UID:13582-1763596800-1763683199@barlowsprimary.co.uk
SUMMARY:Year 6 IntoFilm Festival Cinema Trip - Wicked - Cineworld Cinema\, Speke
DESCRIPTION:We have been fortunate enough to secure some free cinema trips for for our pupils as part of the IntoFilm Festival. The festival is a fantastic initiative aimed at inspiring students through film\, helping to enhance their creativity\, and fostering a love for storytelling. \nAs part of the festival\, our Year 6 classes will be attending screenings designed to engage their imaginations and will link to work back in school. “After two decades\, the beloved and enduring stage musical makes its journey to the big screen as a spectacular\, generation-defining cinematic event. The untold story of the witches of Oz stars Cynthia Erivo as Elphaba\, a young woman\, misunderstood because of her unusual green skin\, who has yet to discover her true power\, and Ariana Grande as Glinda\, a popular young woman\, gilded by privilege\, who has yet to discover her true heart. As they forge an unlikely friendship\, their extraordinary adventures will see them fulfill their destinies as Glinda the Good and the Wicked Witch of the West.” \nThese screenings will not only provide an engaging experience but will also support our broader educational goals by encouraging discussions about themes such as themes of redemption\, stereotypes and friendship. \nYear 6 \nThursday 20/11/25 – Wicked \nWe have some spaces for parents and carers to join us on the trip\, details will follow via Arbor.
URL:https://barlowsprimary.co.uk/event/year-6-intofilm-festival-cinema-trip-wicked-cineworld-cinema-speke/
END:VEVENT
BEGIN:VEVENT
DTSTART;VALUE=DATE:20251120
DTEND;VALUE=DATE:20251121
DTSTAMP:20260422T035010
CREATED:20251014T080157Z
LAST-MODIFIED:20251014T154107Z
UID:13604-1763596800-1763683199@barlowsprimary.co.uk
SUMMARY:Year 2 Parents & Carers 'How to...' Mathematics Workshop
DESCRIPTION:We are excited to share with you that this academic year\, we have introduce a new mathematics curriculum across our school – the My Mastery Mathematics Curriculum. \nTo introduce this curriculum to parents and carers and share important learning strategies for Autumn Term\, we will be holding Parent and Carer ‘How to..’ Mathematics sessions\, led by our maths leads Mr Allinson and Miss Hughes. \nParents and carers are invited to attend\, with their child\, on the following dates to learn about the techniques we use in the classroom and different ways you can help your child with mathematics at home: \nReception – Monday 17/11/25 \nYear 1 – Wednesday 19/11/25 \nYear 2 – Thursday 20/11/25 \nYear 3 – Monday 24/11/25 \nYear 4 – Wednesday 26/11/25 \nYear 5 & Year 6 -Thursday 27/11/25 \nWe hope you will be able to join us!
URL:https://barlowsprimary.co.uk/event/year-2-parents-carers-how-to-mathematics-workshop/
END:VEVENT
BEGIN:VEVENT
DTSTART;TZID=Europe/London:20251120T090000
DTEND;TZID=Europe/London:20251120T100000
DTSTAMP:20260422T035010
CREATED:20251014T075419Z
LAST-MODIFIED:20251014T153729Z
UID:13594-1763629200-1763632800@barlowsprimary.co.uk
SUMMARY:Nursery Stay and Play - Stay and Calculate!
DESCRIPTION:We will be holding our first Nursery Stay and Play for Nursery parents and carers on: \nThursday 20/11/25 9am-10am  \nThursday 20/11/25 2:30pm-3:30pm  \nParents and carers are welcome to attend this session with their child\, to engage in a range of learning activities with a mathematical theme within the setting as we celebrate Maths Week. \nFurther details will follow from Arbor.
URL:https://barlowsprimary.co.uk/event/nursery-stay-and-play-stay-and-calculate/
END:VEVENT
BEGIN:VEVENT
DTSTART;TZID=Europe/London:20251120T143000
DTEND;TZID=Europe/London:20251120T153000
DTSTAMP:20260422T035010
CREATED:20251014T075531Z
LAST-MODIFIED:20251014T153555Z
UID:13596-1763649000-1763652600@barlowsprimary.co.uk
SUMMARY:Nursery Stay and Play - Stay and Calculate!
DESCRIPTION:We will be holding our first Nursery Stay and Play for Nursery parents and carers on: \nThursday 20/11/25 9am-10am  \nThursday 20/11/25 2:30pm-3:30pm \nParents and carers are welcome to attend this session with their child\, to engage in a range of learning activities with a mathematical theme within the setting as we celebrate Maths Week. \nFurther details will follow from Arbor.
URL:https://barlowsprimary.co.uk/event/nursery-stay-and-play-stay-and-calculate-2/
END:VEVENT
END:VCALENDAR