BEGIN:VCALENDAR
VERSION:2.0
PRODID:-//Barlows Primary School - ECPv6.15.20//NONSGML v1.0//EN
CALSCALE:GREGORIAN
METHOD:PUBLISH
X-WR-CALNAME:Barlows Primary School
X-ORIGINAL-URL:https://barlowsprimary.co.uk
X-WR-CALDESC:Events for Barlows Primary School
REFRESH-INTERVAL;VALUE=DURATION:PT1H
X-Robots-Tag:noindex
X-PUBLISHED-TTL:PT1H
BEGIN:VTIMEZONE
TZID:Europe/London
BEGIN:DAYLIGHT
TZOFFSETFROM:+0000
TZOFFSETTO:+0100
TZNAME:BST
DTSTART:20240331T010000
END:DAYLIGHT
BEGIN:STANDARD
TZOFFSETFROM:+0100
TZOFFSETTO:+0000
TZNAME:GMT
DTSTART:20241027T010000
END:STANDARD
BEGIN:DAYLIGHT
TZOFFSETFROM:+0000
TZOFFSETTO:+0100
TZNAME:BST
DTSTART:20250330T010000
END:DAYLIGHT
BEGIN:STANDARD
TZOFFSETFROM:+0100
TZOFFSETTO:+0000
TZNAME:GMT
DTSTART:20251026T010000
END:STANDARD
BEGIN:DAYLIGHT
TZOFFSETFROM:+0000
TZOFFSETTO:+0100
TZNAME:BST
DTSTART:20260329T010000
END:DAYLIGHT
BEGIN:STANDARD
TZOFFSETFROM:+0100
TZOFFSETTO:+0000
TZNAME:GMT
DTSTART:20261025T010000
END:STANDARD
END:VTIMEZONE
BEGIN:VEVENT
DTSTART;VALUE=DATE:20251124
DTEND;VALUE=DATE:20251125
DTSTAMP:20260421T211611
CREATED:20251014T072600Z
LAST-MODIFIED:20251014T151553Z
UID:13562-1763942400-1764028799@barlowsprimary.co.uk
SUMMARY:Musical Mondays - Nurture Base
DESCRIPTION:Throughout the year\, children will engage in an online music workshop series designed to expose children to a diverse array of musical instruments\, styles\, and genres. In this session\, children will be introduced to Dierdre Galway and Conor Lamb\, a duo who have been performing together for over 15 years. Dierdre and Conor will be sharing their traditional melodies and reels of Ireland with children in a lively energetic performance of Irish dance music.
URL:https://barlowsprimary.co.uk/event/musical-mondays-nurture-base/
END:VEVENT
BEGIN:VEVENT
DTSTART;VALUE=DATE:20251124
DTEND;VALUE=DATE:20251125
DTSTAMP:20260421T211611
CREATED:20251014T080220Z
LAST-MODIFIED:20251014T154131Z
UID:13606-1763942400-1764028799@barlowsprimary.co.uk
SUMMARY:Year 3 Parents & Carers 'How to...' Mathematics Workshop
DESCRIPTION:We are excited to share with you that this academic year\, we have introduce a new mathematics curriculum across our school – the My Mastery Mathematics Curriculum. \nTo introduce this curriculum to parents and carers and share important learning strategies for Autumn Term\, we will be holding Parent and Carer ‘How to..’ Mathematics sessions\, led by our maths leads Mr Allinson and Miss Hughes. \nParents and carers are invited to attend\, with their child\, on the following dates to learn about the techniques we use in the classroom and different ways you can help your child with mathematics at home: \nReception – Monday 17/11/25 \nYear 1 – Wednesday 19/11/25 \nYear 2 – Thursday 20/11/25 \nYear 3 – Monday 24/11/25 \nYear 4 – Wednesday 26/11/25 \nYear 5 & Year 6 -Thursday 27/11/25 \nWe hope you will be able to join us!
URL:https://barlowsprimary.co.uk/event/year-3-parents-carers-how-to-mathematics-workshop/
END:VEVENT
BEGIN:VEVENT
DTSTART;VALUE=DATE:20251124
DTEND;VALUE=DATE:20251129
DTSTAMP:20260421T211611
CREATED:20251014T080438Z
LAST-MODIFIED:20251014T154420Z
UID:13612-1763942400-1764374399@barlowsprimary.co.uk
SUMMARY:UK Parliament Week
DESCRIPTION:“UK Parliament Week (UKPW) is an annual event\, spreading the word about what Parliament is\, what it does and how you can get involved. It’s a great way to find out new things about UK Parliament or be reminded of things you might’ve forgotten!” \nOur School Council will be leading our UK Parliament Week Celebrations to learn more about Parliament\, democracy and law. The children will learn about how laws were created in the past compared to today and how our British History has led to the way laws and democracy take place in modern day Britain. \nThe children will participate in debating topics and understand what it means to have the right to vote.
URL:https://barlowsprimary.co.uk/event/uk-parliament-week/
END:VEVENT
BEGIN:VEVENT
DTSTART;TZID=Europe/London:20251124T093000
DTEND;TZID=Europe/London:20251124T113000
DTSTAMP:20260421T211611
CREATED:20251014T095544Z
LAST-MODIFIED:20251014T095544Z
UID:13696-1763976600-1763983800@barlowsprimary.co.uk
SUMMARY:Help Your Child Thrive Parent and Carer Programme
DESCRIPTION:The ‘Help Your Child Thrive’ programme is coming to Barlows Primary School from Monday 3rd November to help you to support your child with their learning and development at home. This course runs every Monday morning in school for 5 sessions just after you drop your child off at the start of the school day. \nThe course gives you an insight into what your child will be learning in Reception and KS1. Each week you’ll receive lots of practical tips and ideas as to how to help your child develop skills in communication and language\, personal\, social and emotional wellbeing\, physical development\, literacy and maths. You will be given a booklet full of resources and ideas for fun games to play with your child at home which will help them to thrive in school. The course is also a good chance to meet other parents and get to know a bit more about school. \nSessions will run from 9:30am – 11:30am on the following dates: \nMonday 03/11/25 \nMonday 10/11/25 \nMonday 17/11/25 \nMonday 24/11/25 \nMonday 02/12/25 \nPlaces are limited so please keep an eye out on Arbor for sign up details.
URL:https://barlowsprimary.co.uk/event/help-your-child-thrive-parent-and-carer-programme-4/
END:VEVENT
END:VCALENDAR