BEGIN:VCALENDAR
VERSION:2.0
PRODID:-//Barlows Primary School - ECPv6.15.20//NONSGML v1.0//EN
CALSCALE:GREGORIAN
METHOD:PUBLISH
X-ORIGINAL-URL:https://barlowsprimary.co.uk
X-WR-CALDESC:Events for Barlows Primary School
REFRESH-INTERVAL;VALUE=DURATION:PT1H
X-Robots-Tag:noindex
X-PUBLISHED-TTL:PT1H
BEGIN:VTIMEZONE
TZID:Europe/London
BEGIN:DAYLIGHT
TZOFFSETFROM:+0000
TZOFFSETTO:+0100
TZNAME:BST
DTSTART:20240331T010000
END:DAYLIGHT
BEGIN:STANDARD
TZOFFSETFROM:+0100
TZOFFSETTO:+0000
TZNAME:GMT
DTSTART:20241027T010000
END:STANDARD
BEGIN:DAYLIGHT
TZOFFSETFROM:+0000
TZOFFSETTO:+0100
TZNAME:BST
DTSTART:20250330T010000
END:DAYLIGHT
BEGIN:STANDARD
TZOFFSETFROM:+0100
TZOFFSETTO:+0000
TZNAME:GMT
DTSTART:20251026T010000
END:STANDARD
BEGIN:DAYLIGHT
TZOFFSETFROM:+0000
TZOFFSETTO:+0100
TZNAME:BST
DTSTART:20260329T010000
END:DAYLIGHT
BEGIN:STANDARD
TZOFFSETFROM:+0100
TZOFFSETTO:+0000
TZNAME:GMT
DTSTART:20261025T010000
END:STANDARD
END:VTIMEZONE
BEGIN:VEVENT
DTSTART;VALUE=DATE:20251212
DTEND;VALUE=DATE:20251213
DTSTAMP:20260421T093100
CREATED:20251014T082122Z
LAST-MODIFIED:20251021T153307Z
UID:13642-1765497600-1765583999@barlowsprimary.co.uk
SUMMARY:National Santa Dash
DESCRIPTION:The National Santa Dash is an exciting initiative aimed at promoting healthy and active lifestyles among children in a fun and engaging manner. On the 12th December\, children will participate in this event\, joined by teachers and our local PCSOs to encourage a festive community spirit. Children are required to wear their PE kit and trainers on this date.
URL:https://barlowsprimary.co.uk/event/national-santa-dash/
END:VEVENT
BEGIN:VEVENT
DTSTART;TZID=Europe/London:20251212T091500
DTEND;TZID=Europe/London:20251212T094500
DTSTAMP:20260421T093100
CREATED:20251014T082425Z
LAST-MODIFIED:20251021T154237Z
UID:13648-1765530900-1765532700@barlowsprimary.co.uk
SUMMARY:Reception Christmas Performance
DESCRIPTION:We are delighted to announce this year’s Christmas Performance dates. Year groups will perform as individual year groups. This should enable more pupils to have speaking and performance parts\, should they wish. There will be one performance per year group as follows: \n  \nReception Performance: Friday 12th December 9:15am – 9:45am
URL:https://barlowsprimary.co.uk/event/reception-christmas-performance/
END:VEVENT
END:VCALENDAR