BEGIN:VCALENDAR
VERSION:2.0
PRODID:-//Barlows Primary School - ECPv6.15.20//NONSGML v1.0//EN
CALSCALE:GREGORIAN
METHOD:PUBLISH
X-WR-CALNAME:Barlows Primary School
X-ORIGINAL-URL:https://barlowsprimary.co.uk
X-WR-CALDESC:Events for Barlows Primary School
REFRESH-INTERVAL;VALUE=DURATION:PT1H
X-Robots-Tag:noindex
X-PUBLISHED-TTL:PT1H
BEGIN:VTIMEZONE
TZID:Europe/London
BEGIN:DAYLIGHT
TZOFFSETFROM:+0000
TZOFFSETTO:+0100
TZNAME:BST
DTSTART:20240331T010000
END:DAYLIGHT
BEGIN:STANDARD
TZOFFSETFROM:+0100
TZOFFSETTO:+0000
TZNAME:GMT
DTSTART:20241027T010000
END:STANDARD
BEGIN:DAYLIGHT
TZOFFSETFROM:+0000
TZOFFSETTO:+0100
TZNAME:BST
DTSTART:20250330T010000
END:DAYLIGHT
BEGIN:STANDARD
TZOFFSETFROM:+0100
TZOFFSETTO:+0000
TZNAME:GMT
DTSTART:20251026T010000
END:STANDARD
BEGIN:DAYLIGHT
TZOFFSETFROM:+0000
TZOFFSETTO:+0100
TZNAME:BST
DTSTART:20260329T010000
END:DAYLIGHT
BEGIN:STANDARD
TZOFFSETFROM:+0100
TZOFFSETTO:+0000
TZNAME:GMT
DTSTART:20261025T010000
END:STANDARD
END:VTIMEZONE
BEGIN:VEVENT
DTSTART;TZID=Europe/London:20251216T091500
DTEND;TZID=Europe/London:20251216T100000
DTSTAMP:20260421T092938
CREATED:20251014T082619Z
LAST-MODIFIED:20251021T153945Z
UID:13654-1765876500-1765879200@barlowsprimary.co.uk
SUMMARY:Year 3 Christmas Performance
DESCRIPTION:We are delighted to announce this year’s Christmas Performance dates. Year groups will perform as individual year groups. This should enable more pupils to have speaking and performance parts\, should they wish. There will be one performance per year group as follows: \n  \nYear 4 Performance: Tuesday 16th December 9:15am – 10:00am
URL:https://barlowsprimary.co.uk/event/year-3-christmas-performance/
END:VEVENT
BEGIN:VEVENT
DTSTART;TZID=Europe/London:20251216T143000
DTEND;TZID=Europe/London:20251216T151500
DTSTAMP:20260421T092938
CREATED:20251014T082707Z
LAST-MODIFIED:20251021T153707Z
UID:13656-1765895400-1765898100@barlowsprimary.co.uk
SUMMARY:Year 4 Christmas Performance
DESCRIPTION:We are delighted to announce this year’s Christmas Performance dates. Year groups will perform as individual year groups. This should enable more pupils to have speaking and performance parts\, should they wish. There will be one performance per year group as follows: \n  \nYear 4 Performance: Tuesday 16th December 2:30pm – 3:15pm
URL:https://barlowsprimary.co.uk/event/year-4-christmas-performance/
END:VEVENT
END:VCALENDAR