BEGIN:VCALENDAR
VERSION:2.0
PRODID:-//Barlows Primary School - ECPv6.15.20//NONSGML v1.0//EN
CALSCALE:GREGORIAN
METHOD:PUBLISH
X-WR-CALNAME:Barlows Primary School
X-ORIGINAL-URL:https://barlowsprimary.co.uk
X-WR-CALDESC:Events for Barlows Primary School
REFRESH-INTERVAL;VALUE=DURATION:PT1H
X-Robots-Tag:noindex
X-PUBLISHED-TTL:PT1H
BEGIN:VTIMEZONE
TZID:Europe/London
BEGIN:DAYLIGHT
TZOFFSETFROM:+0000
TZOFFSETTO:+0100
TZNAME:BST
DTSTART:20240331T010000
END:DAYLIGHT
BEGIN:STANDARD
TZOFFSETFROM:+0100
TZOFFSETTO:+0000
TZNAME:GMT
DTSTART:20241027T010000
END:STANDARD
BEGIN:DAYLIGHT
TZOFFSETFROM:+0000
TZOFFSETTO:+0100
TZNAME:BST
DTSTART:20250330T010000
END:DAYLIGHT
BEGIN:STANDARD
TZOFFSETFROM:+0100
TZOFFSETTO:+0000
TZNAME:GMT
DTSTART:20251026T010000
END:STANDARD
BEGIN:DAYLIGHT
TZOFFSETFROM:+0000
TZOFFSETTO:+0100
TZNAME:BST
DTSTART:20260329T010000
END:DAYLIGHT
BEGIN:STANDARD
TZOFFSETFROM:+0100
TZOFFSETTO:+0000
TZNAME:GMT
DTSTART:20261025T010000
END:STANDARD
END:VTIMEZONE
BEGIN:VEVENT
DTSTART;VALUE=DATE:20251006
DTEND;VALUE=DATE:20251007
DTSTAMP:20260420T035423
CREATED:20251013T093435Z
LAST-MODIFIED:20251013T093435Z
UID:13473-1759708800-1759795199@barlowsprimary.co.uk
SUMMARY:Year 5 Royal Court Liverpool Theatre Visit - Backstage Class - 5 Wilberforce (Mr Stevens' Class)
DESCRIPTION:Year 5 pupils will be visiting the Royal Court Theatre\, Liverpool\, where they will gain invaluable insights into the behind-the-scenes world of theatre production. The children will take part in the ‘Backstage Class’ workshop\, providing access to areas typically unseen by the public.
URL:https://barlowsprimary.co.uk/event/year-5-royal-court-liverpool-theatre-visit-backstage-class-5-wilberforce-mr-stevens-class/
END:VEVENT
BEGIN:VEVENT
DTSTART;TZID=Europe/London:20251002T093000
DTEND;TZID=Europe/London:20251002T120000
DTSTAMP:20260420T035423
CREATED:20251013T100120Z
LAST-MODIFIED:20251013T100120Z
UID:13483-1759397400-1759406400@barlowsprimary.co.uk
SUMMARY:Year 6 Educational Visit to Apple
DESCRIPTION:There will be series of educational visits for our Year 6 students to participate in Apple Draw with Stillwater workshops. These visits are scheduled to take place in groups of 15 students per visit as follows: \nThursday 02/10/25 (morning session) Y6 15 students \nTuesday 14/10/25 (morning session) Y6 15 students \nThursday 16/10/25 (morning session) Y6 15 students \nTuesday 23/10/25 (morning session) Y6 15 students
URL:https://barlowsprimary.co.uk/event/year-6-educational-visit-to-apple/
END:VEVENT
BEGIN:VEVENT
DTSTART;VALUE=DATE:20251002
DTEND;VALUE=DATE:20251003
DTSTAMP:20260420T035423
CREATED:20251013T104235Z
LAST-MODIFIED:20251014T092406Z
UID:13513-1759363200-1759449599@barlowsprimary.co.uk
SUMMARY:National Poetry Day Celebrations
DESCRIPTION:Throughout the week of National Poetry Day\, we will be hosting a series of poetry workshops for Year 3\, 4\, 5 and 6. these workshops will take place online\, allowing our students to engage with an established poet\, Tomos Roberts\, linked to the theme of Remembrance.
URL:https://barlowsprimary.co.uk/event/national-poetry-day-celebrations/
END:VEVENT
BEGIN:VEVENT
DTSTART;VALUE=DATE:20251001
DTEND;VALUE=DATE:20251002
DTSTAMP:20260420T035423
CREATED:20251013T093901Z
LAST-MODIFIED:20251013T093901Z
UID:13475-1759276800-1759363199@barlowsprimary.co.uk
SUMMARY:WWF Live Lesson on Habitats Series - Forests
DESCRIPTION:The children will participate in an online session hosted by renowned naturalist Steve Backshall for WWF. This interactive session will focus on the fascinating topic of forest habitats\, providing an opportunity for children to explore the diverse types of forests around the globe.
URL:https://barlowsprimary.co.uk/event/wwf-live-lesson-on-habitats-series-forests/
END:VEVENT
BEGIN:VEVENT
DTSTART;VALUE=DATE:20250930
DTEND;VALUE=DATE:20251001
DTSTAMP:20260420T035423
CREATED:20251013T093330Z
LAST-MODIFIED:20251013T093330Z
UID:13471-1759190400-1759276799@barlowsprimary.co.uk
SUMMARY:Children's University Masterclass 'Journey Into Space'
DESCRIPTION:We are pleased to announce an engaging online workshop as part of the Children’s University Masterclass series\, titled ‘Journey into Space’\, facilitated by AS Creative. This masterclass will focus on the art of poetry\, encouraging children to explore the wonders of the cosmos through their creative writing.
URL:https://barlowsprimary.co.uk/event/childrens-university-masterclass-journey-into-space/
END:VEVENT
BEGIN:VEVENT
DTSTART;VALUE=DATE:20250929
DTEND;VALUE=DATE:20250930
DTSTAMP:20260420T035423
CREATED:20251013T092830Z
LAST-MODIFIED:20251013T092830Z
UID:13469-1759104000-1759190399@barlowsprimary.co.uk
SUMMARY:Year 6 Royal Court Liverpool Theatre Visit - Backstage Class - 6 Churchill (Miss Hughes' Class)
DESCRIPTION:Year 6 pupils will be visiting the Royal Court Theatre\, Liverpool\, where they will gain invaluable insights into the behind-the-scenes world of theatre production. The children will take part in the ‘Backstage Class’ workshop\, providing access to areas typically unseen by the public.
URL:https://barlowsprimary.co.uk/event/year-6-royal-court-liverpool-theatre-visit-backstage-class-6-churchill-miss-hughes-class/
END:VEVENT
BEGIN:VEVENT
DTSTART;VALUE=DATE:20250929
DTEND;VALUE=DATE:20250930
DTSTAMP:20260420T035423
CREATED:20251013T090511Z
LAST-MODIFIED:20251013T090511Z
UID:13461-1759104000-1759190399@barlowsprimary.co.uk
SUMMARY:Year 5 Royal Court Liverpool Theatre Visit - Backstage Class - 5 Parks (Mr Kellett's Class)
DESCRIPTION:Year 5 pupils will be visiting the Royal Court Theatre\, Liverpool\, where they will gain invaluable insights into the behind-the-scenes world of theatre production. The children will take part in the ‘Backstage Class’ workshop\, providing access to areas typically unseen by the public.
URL:https://barlowsprimary.co.uk/event/year-5-royal-court-liverpool-theatre-visit-backstage-class-5-parks-mr-kelletts-class/
END:VEVENT
BEGIN:VEVENT
DTSTART;VALUE=DATE:20250929
DTEND;VALUE=DATE:20250930
DTSTAMP:20260420T035423
CREATED:20251013T094258Z
LAST-MODIFIED:20251013T095312Z
UID:13477-1759104000-1759190399@barlowsprimary.co.uk
SUMMARY:School Photograph Day
DESCRIPTION:Our school photographer is booked for 29/09/25
URL:https://barlowsprimary.co.uk/event/school-photograph-day/
END:VEVENT
BEGIN:VEVENT
DTSTART;VALUE=DATE:20250926
DTEND;VALUE=DATE:20250927
DTSTAMP:20260420T035423
CREATED:20251013T091006Z
LAST-MODIFIED:20251013T091006Z
UID:13463-1758844800-1758931199@barlowsprimary.co.uk
SUMMARY:European School Sports Day
DESCRIPTION:We are delighted to inform you that this year we will be taking part in European School Sports Day led by our PE Teacher\, Mr Courtney-Ward on Friday 26th September. \nOn this day\, all pupils are required to attend school in their PE kits\, prepared to engage in a variety of sporting activities designed to promote physical fitness and camaraderie.
URL:https://barlowsprimary.co.uk/event/european-school-sports-day/
END:VEVENT
BEGIN:VEVENT
DTSTART;VALUE=DATE:20250923
DTEND;VALUE=DATE:20250924
DTSTAMP:20260420T035423
CREATED:20251013T091954Z
LAST-MODIFIED:20251013T091954Z
UID:13465-1758585600-1758671999@barlowsprimary.co.uk
SUMMARY:Year 6 International Slavery Museum Outreach Team Crossing the Atlantic: Stories and Craft
DESCRIPTION:The International Slavery Museum outreach team will join us to deliver and engaging workshop\, Crossing the Atlantic! Stories and Craft whilst the museum undergoes extensive renovations.
URL:https://barlowsprimary.co.uk/event/year-6-international-slavery-museum-outreach-team-crossing-the-atlantic-stories-and-craft/
END:VEVENT
BEGIN:VEVENT
DTSTART;VALUE=DATE:20250922
DTEND;VALUE=DATE:20250923
DTSTAMP:20260420T035423
CREATED:20251013T092247Z
LAST-MODIFIED:20251013T092247Z
UID:13467-1758499200-1758585599@barlowsprimary.co.uk
SUMMARY:Year 6 Royal Court Liverpool Theatre Visit - Backstage Class - 6 Gandhi (Miss Ward's Class)
DESCRIPTION:Year 6 pupils will be visiting the Royal Court Theatre\, Liverpool\, where they will gain invaluable insights into the behind-the-scenes world of theatre production. The children will take part in the ‘Backstage Class’ workshop\, providing access to areas typically unseen by the public.
URL:https://barlowsprimary.co.uk/event/year-6-royal-court-liverpool-theatre-visit-backstage-class-6-gandhi-miss-wards-class/
END:VEVENT
BEGIN:VEVENT
DTSTART;VALUE=DATE:20250915
DTEND;VALUE=DATE:20250918
DTSTAMP:20260420T035423
CREATED:20251013T085901Z
LAST-MODIFIED:20251013T085901Z
UID:13459-1757894400-1758153599@barlowsprimary.co.uk
SUMMARY:Year 6 Robinwood Residential
DESCRIPTION:Our Year 6 pupils will be attending the annual Robinwood Residential trip from Monday\, 15th September to Wednesday\, 17th September 2025. \nPupils will have the opportunity to engage in a range of outdoor pursuits including canoeing\, raft building\, archery and the exhilarating zip line!
URL:https://barlowsprimary.co.uk/event/year-6-robinwood-residential/
END:VEVENT
BEGIN:VEVENT
DTSTART;VALUE=DATE:20250903
DTEND;VALUE=DATE:20250904
DTSTAMP:20260420T035423
CREATED:20250402T101216Z
LAST-MODIFIED:20250402T101216Z
UID:13008-1756857600-1756943999@barlowsprimary.co.uk
SUMMARY:Pupils return to school
DESCRIPTION:
URL:https://barlowsprimary.co.uk/event/pupils-return-to-school/
END:VEVENT
BEGIN:VEVENT
DTSTART;VALUE=DATE:20250902
DTEND;VALUE=DATE:20250903
DTSTAMP:20260420T035423
CREATED:20250402T101113Z
LAST-MODIFIED:20250402T101113Z
UID:13006-1756771200-1756857599@barlowsprimary.co.uk
SUMMARY:INSET Day
DESCRIPTION:INS
URL:https://barlowsprimary.co.uk/event/inset-day-4/
END:VEVENT
BEGIN:VEVENT
DTSTART;VALUE=DATE:20250901
DTEND;VALUE=DATE:20250902
DTSTAMP:20260420T035423
CREATED:20250402T101043Z
LAST-MODIFIED:20250402T101043Z
UID:13004-1756684800-1756771199@barlowsprimary.co.uk
SUMMARY:INSET Day
DESCRIPTION:
URL:https://barlowsprimary.co.uk/event/inset-day-3/
END:VEVENT
BEGIN:VEVENT
DTSTART;VALUE=DATE:20250722
DTEND;VALUE=DATE:20250723
DTSTAMP:20260420T035423
CREATED:20250326T102028Z
LAST-MODIFIED:20250326T102028Z
UID:12989-1753142400-1753228799@barlowsprimary.co.uk
SUMMARY:INSET Day
DESCRIPTION:
URL:https://barlowsprimary.co.uk/event/inset-day-2/
END:VEVENT
BEGIN:VEVENT
DTSTART;VALUE=DATE:20250721
DTEND;VALUE=DATE:20250722
DTSTAMP:20260420T035423
CREATED:20250326T102004Z
LAST-MODIFIED:20250326T102004Z
UID:12987-1753056000-1753142399@barlowsprimary.co.uk
SUMMARY:INSET Day
DESCRIPTION:
URL:https://barlowsprimary.co.uk/event/inset-day/
END:VEVENT
BEGIN:VEVENT
DTSTART;TZID=Europe/London:20250718T091500
DTEND;TZID=Europe/London:20250718T110000
DTSTAMP:20260420T035423
CREATED:20250605T235755Z
LAST-MODIFIED:20250605T235755Z
UID:13289-1752830100-1752836400@barlowsprimary.co.uk
SUMMARY:Year 6 Leavers’ Events - The Class of 2025! Year 6 Leavers’ Assembly
DESCRIPTION:Year 6 Leavers’ Events – The Class of 2025! \nYear 6 Leavers’ Assembly \n18/07/25 at 9:15am \nParents and Carers are invited to join us for a morning of celebration of our Year 6 pupils. \nPupils will be celebrated for all of their efforts and achievements over their time in Barlows. \nWe hope you will be able to join us for this special event.
URL:https://barlowsprimary.co.uk/event/year-6-leavers-events-the-class-of-2025-year-6-leavers-assembly/
END:VEVENT
BEGIN:VEVENT
DTSTART;VALUE=DATE:20250718
DTEND;VALUE=DATE:20250719
DTSTAMP:20260420T035423
CREATED:20250326T101935Z
LAST-MODIFIED:20250606T000008Z
UID:12985-1752796800-1752883199@barlowsprimary.co.uk
SUMMARY:Final Day of the School Year For Pupils
DESCRIPTION:Last Day of School \n18/07/25 \nThe last day of term for pupils if Friday 18th July 2025. \nSchool will finish at 3:30pm.
URL:https://barlowsprimary.co.uk/event/final-day-of-the-school-year-for-pupils/
END:VEVENT
BEGIN:VEVENT
DTSTART;TZID=Europe/London:20250716T170000
DTEND;TZID=Europe/London:20250716T190000
DTSTAMP:20260420T035423
CREATED:20250605T235715Z
LAST-MODIFIED:20250605T235715Z
UID:13287-1752685200-1752692400@barlowsprimary.co.uk
SUMMARY:Year 6 Leavers’ Events - The Class of 2025!  Year 6 Leavers’ Disco
DESCRIPTION:Year 6 Leavers’ Events – The Class of 2025! \nYear 6 Leavers’ Disco \n16/07/25 \nOur Year 6 pupils are invited to join us for food and an exciting disco in celebration of their time with us in Barlows.
URL:https://barlowsprimary.co.uk/event/year-6-leavers-events-the-class-of-2025-year-6-leavers-disco/
END:VEVENT
BEGIN:VEVENT
DTSTART;TZID=Europe/London:20250715T153000
DTEND;TZID=Europe/London:20250715T173000
DTSTAMP:20260420T035423
CREATED:20250605T234759Z
LAST-MODIFIED:20250605T234759Z
UID:13255-1752593400-1752600600@barlowsprimary.co.uk
SUMMARY:Report Parent Meetings
DESCRIPTION:Report Parent Meetings 15/07/2025 \nParent Meeting slots with class teachers will be available on 15/07/25 should you wish to discuss their report further. Please note\, these meetings are only if you require a follow up in relation to the report. These are not general parent meetings.
URL:https://barlowsprimary.co.uk/event/report-parent-meetings/
END:VEVENT
BEGIN:VEVENT
DTSTART;TZID=Europe/London:20250714T100000
DTEND;TZID=Europe/London:20250714T153000
DTSTAMP:20260420T035423
CREATED:20250605T235922Z
LAST-MODIFIED:20250605T235922Z
UID:13291-1752487200-1752507000@barlowsprimary.co.uk
SUMMARY:Year 6 Bowling
DESCRIPTION:Year 6 Bowling \nMonday 14/07/25 \nOn Monday 14/07/25 our Year 6 pupils will be enjoying an end of primary school treat Bowling. \nFurther details will follow.
URL:https://barlowsprimary.co.uk/event/year-6-bowling/
END:VEVENT
BEGIN:VEVENT
DTSTART;VALUE=DATE:20250712
DTEND;VALUE=DATE:20250713
DTSTAMP:20260420T035423
CREATED:20250605T234703Z
LAST-MODIFIED:20250605T234703Z
UID:13251-1752278400-1752364799@barlowsprimary.co.uk
SUMMARY:Summer Fun Day
DESCRIPTION:FUN DAY – Save the Date! \n12/07/25 \nIt’s back! Our annual Summer Fun Day will be taking place on Saturday 12th July 2025. \nWe have been busy developing ideas and activities to make the day as exciting as possible. All of the money raised from the event will be going towards projects and equipment for the pupils. We hope you can join us for what we hope will be a fantastic day. \n\nFurther information will follow in due course.
URL:https://barlowsprimary.co.uk/event/summer-fun-day/
END:VEVENT
BEGIN:VEVENT
DTSTART;TZID=Europe/London:20250711T091500
DTEND;TZID=Europe/London:20250711T103000
DTSTAMP:20260420T035423
CREATED:20250605T234422Z
LAST-MODIFIED:20250605T234422Z
UID:13242-1752225300-1752229800@barlowsprimary.co.uk
SUMMARY:Year 5 and Year 6 Reserve Sports Day Date if 04/07/25 cannot go ahead owing to bad weather
DESCRIPTION:Sports Days 2025  \nNursery (both am and pm classes) – Thursday 03/07/25 \nReception – Monday 30/06/25 \nYear 1 and Year 2 – Tuesday 01/07/25 \nYear 3 and Year 4  – Wednesday 02/07/25 \nYear 5 and Year 6 – Friday 04/07/25 \nChildren will be required to come to school in their PE kits on the above dates. \nReserve Sports Days 2025  \nShould the weather be unsuitable to complete Sports Day on the above dates\, the following dates have been planned as an alternative: \nNursery – (Reserve date not required due to Nursery Sports Day taking place in the School Hall) \nReception – Monday 07/07/25 \nYear 1 and Year 2 – Tuesday 08/07/25 \nYear 3 and Year 4  – Wednesday 09/07/25 \nYear 5 and Year 6 – Friday 11/07/25
URL:https://barlowsprimary.co.uk/event/year-5-and-year-6-reserve-sports-day-date-if-04-07-25-cannot-go-ahead-owing-to-bad-weather/
END:VEVENT
BEGIN:VEVENT
DTSTART;TZID=Europe/London:20250711T083000
DTEND;TZID=Europe/London:20250711T093000
DTSTAMP:20260420T035423
CREATED:20250605T235551Z
LAST-MODIFIED:20250605T235625Z
UID:13285-1752222600-1752226200@barlowsprimary.co.uk
SUMMARY:Scholastic Book Fair
DESCRIPTION:Scholastic Book Fair \nJoin us for the Scholastic Book Fair after school in the school hall on the following dates: \nTuesday 8th July 2025 8:30am – 9:00am \nTuesday 8th July 2025 3:30pm – 5:45pm \nWednesday 9th July 2025 8:30am – 9:00am \nWednesday 9th July 2025 3:30pm – 5:45pm \nThursday 10th July 2025 8:30am – 9:00am \nThursday 10th July 2025 3:30pm – 5:45pm \nFriday 11th July 2025 8:30am – 9:00am \nThere will be a selection of books to purchase for all pupil ages. \nScholastic donate a percentage of the profits to school to use to purchase new books for the school library.
URL:https://barlowsprimary.co.uk/event/scholastic-book-fair-7/
END:VEVENT
BEGIN:VEVENT
DTSTART;TZID=Europe/London:20250710T170000
DTEND;TZID=Europe/London:20250710T180000
DTSTAMP:20260420T035423
CREATED:20250605T235150Z
LAST-MODIFIED:20250605T235150Z
UID:13269-1752166800-1752170400@barlowsprimary.co.uk
SUMMARY:Year 6 to Year 7 Transition Event – Moving Up
DESCRIPTION:Year 6 to Year 7 Transition Event – Moving Up \n10/07/25 \nOn 10/07/25 at 5pm\, the Liverpool Parenting Team will be joining us at Barlows to run a 1-hour workshop for all parents and carers of Year 6 pupils making the transition into secondary school this year. The team will be on hand to offer guidance and advice on the following: \n\nAnxieties\, the things children worry about and what you can do to help\nWhat parents worry about and how you can help your child prepare for change\nTeen Development\, friendships\, social media and staying safe\nDealing with high emotion and restoring relationships after challenge\nHow to encourage family containment\nThe first few weeks and settling in\nWhere else to get information and further reading\n\nFurther information will follow from Mrs Berry\, our Mental Health and Wellbeing Lead\, and Mrs Taylor\, our Phase 3 Lead via Arbor.
URL:https://barlowsprimary.co.uk/event/year-6-to-year-7-transition-event-moving-up/
END:VEVENT
BEGIN:VEVENT
DTSTART;TZID=Europe/London:20250710T153000
DTEND;TZID=Europe/London:20250710T163000
DTSTAMP:20260420T035423
CREATED:20250605T235517Z
LAST-MODIFIED:20250605T235517Z
UID:13283-1752161400-1752165000@barlowsprimary.co.uk
SUMMARY:Scholastic Book Fair
DESCRIPTION:Scholastic Book Fair \nJoin us for the Scholastic Book Fair after school in the school hall on the following dates: \nTuesday 8th July 2025 8:30am – 9:00am \nTuesday 8th July 2025 3:30pm – 5:45pm \nWednesday 9th July 2025 8:30am – 9:00am \nWednesday 9th July 2025 3:30pm – 5:45pm \nThursday 10th July 2025 8:30am – 9:00am \nThursday 10th July 2025 3:30pm – 5:45pm \nFriday 11th July 2025 8:30am – 9:00am \nThere will be a selection of books to purchase for all pupil ages. \nScholastic donate a percentage of the profits to school to use to purchase new books for the school library.
URL:https://barlowsprimary.co.uk/event/scholastic-book-fair-6/
END:VEVENT
BEGIN:VEVENT
DTSTART;TZID=Europe/London:20250710T083000
DTEND;TZID=Europe/London:20250710T090000
DTSTAMP:20260420T035423
CREATED:20250605T235454Z
LAST-MODIFIED:20250605T235454Z
UID:13281-1752136200-1752138000@barlowsprimary.co.uk
SUMMARY:Scholastic Book Fair
DESCRIPTION:Scholastic Book Fair \nJoin us for the Scholastic Book Fair after school in the school hall on the following dates: \nTuesday 8th July 2025 8:30am – 9:00am \nTuesday 8th July 2025 3:30pm – 5:45pm \nWednesday 9th July 2025 8:30am – 9:00am \nWednesday 9th July 2025 3:30pm – 5:45pm \nThursday 10th July 2025 8:30am – 9:00am \nThursday 10th July 2025 3:30pm – 5:45pm \nFriday 11th July 2025 8:30am – 9:00am \nThere will be a selection of books to purchase for all pupil ages. \nScholastic donate a percentage of the profits to school to use to purchase new books for the school library.
URL:https://barlowsprimary.co.uk/event/scholastic-book-fair-5/
END:VEVENT
BEGIN:VEVENT
DTSTART;VALUE=DATE:20250710
DTEND;VALUE=DATE:20250711
DTSTAMP:20260420T035423
CREATED:20250605T235117Z
LAST-MODIFIED:20250605T235117Z
UID:13267-1752105600-1752191999@barlowsprimary.co.uk
SUMMARY:LSSP & Literacy Kick Sports Journalism Sessions Year 5 & Year 6
DESCRIPTION:LSSP & Literacy Kick Sports Journalism Sessions Year 5 & Year 6 \n10/07/25 \nIn July\, our pupils in Year 5 and Year 6 will be joined by the team from Literacy Kicks\, in collaboration with LSSP and the World Boxing Championships\, due to be held in Liverpool in October 2025\, to develop their understanding of the role of a sports journalist. \nIn this exciting workshop\, the pupils will learn all about the skills required to become a journalist in this field\, as well as have the opportunity to ask lots of questions and get the chance to write their own article! \n\nWe are sure this event will be inspirational to all of our pupils.
URL:https://barlowsprimary.co.uk/event/lssp-literacy-kick-sports-journalism-sessions-year-5-year-6/
END:VEVENT
BEGIN:VEVENT
DTSTART;VALUE=DATE:20250710
DTEND;VALUE=DATE:20250711
DTSTAMP:20260420T035423
CREATED:20250605T235050Z
LAST-MODIFIED:20250605T235050Z
UID:13265-1752105600-1752191999@barlowsprimary.co.uk
SUMMARY:Local Area Walk – History of Fazakerley Year 2 - 2 Potter (Miss Kirkby) 10/07/25
DESCRIPTION:Local Area Walk – History of Fazakerley \nYear 2 \n09/07/25 & 10/07/25 \n  \n2 Dahl (Miss Kelly) 09/07/25 \n2 Potter (Miss Kirkby) 10/07/25 \nTo further develop their historical understanding of their own locality\, our Year 2 pupils will be taking part in a local area walk to explore the changes that have taken place over time. The children will focus on the changes in transport\, homes and industry and further develop their understanding of the impact of this on our local community. \nFurther information on this activity will follow on Arbor.
URL:https://barlowsprimary.co.uk/event/local-area-walk-history-of-fazakerley-year-2-2-potter-miss-kirkby-10-07-25/
END:VEVENT
END:VCALENDAR