BEGIN:VCALENDAR
VERSION:2.0
PRODID:-//Barlows Primary School - ECPv6.15.20//NONSGML v1.0//EN
CALSCALE:GREGORIAN
METHOD:PUBLISH
X-WR-CALNAME:Barlows Primary School
X-ORIGINAL-URL:https://barlowsprimary.co.uk
X-WR-CALDESC:Events for Barlows Primary School
REFRESH-INTERVAL;VALUE=DURATION:PT1H
X-Robots-Tag:noindex
X-PUBLISHED-TTL:PT1H
BEGIN:VTIMEZONE
TZID:Europe/London
BEGIN:DAYLIGHT
TZOFFSETFROM:+0000
TZOFFSETTO:+0100
TZNAME:BST
DTSTART:20240331T010000
END:DAYLIGHT
BEGIN:STANDARD
TZOFFSETFROM:+0100
TZOFFSETTO:+0000
TZNAME:GMT
DTSTART:20241027T010000
END:STANDARD
BEGIN:DAYLIGHT
TZOFFSETFROM:+0000
TZOFFSETTO:+0100
TZNAME:BST
DTSTART:20250330T010000
END:DAYLIGHT
BEGIN:STANDARD
TZOFFSETFROM:+0100
TZOFFSETTO:+0000
TZNAME:GMT
DTSTART:20251026T010000
END:STANDARD
BEGIN:DAYLIGHT
TZOFFSETFROM:+0000
TZOFFSETTO:+0100
TZNAME:BST
DTSTART:20260329T010000
END:DAYLIGHT
BEGIN:STANDARD
TZOFFSETFROM:+0100
TZOFFSETTO:+0000
TZNAME:GMT
DTSTART:20261025T010000
END:STANDARD
END:VTIMEZONE
BEGIN:VEVENT
DTSTART;VALUE=DATE:20251113
DTEND;VALUE=DATE:20251114
DTSTAMP:20260419T234429
CREATED:20251014T073549Z
LAST-MODIFIED:20251014T152244Z
UID:13572-1762992000-1763078399@barlowsprimary.co.uk
SUMMARY:Year 6 IntoFilm Festival Cinema Trip - Deep Sky - Vue Cinema IMAX\, Cheshire Oaks
DESCRIPTION:We have been fortunate enough to secure some free cinema trips for for our pupils as part of the IntoFilm Festival. The festival is a fantastic initiative aimed at inspiring students through film\, helping to enhance their creativity\, and fostering a love for storytelling. As part of the festival\, our Year 6 classes will be attending screenings designed to engage their imaginations and will link to work back in school. \n“This awe-inspiring documentary tells the story of NASA’s James Webb Space Telescope\, one of the most powerful pieces of technology to capture images of space billions of light years away from Earth. The film pulls back the curtain on how the telescope was built and its high-stakes launch in 2021 into orbit\, rocketing one-million miles from Earth. Space is like a time-machine: by travelling through it\, we can see evidence of how stars are born and begin to understand how the universe began. It also delves into the mysteries of the universe in its search for other lifeforms. Featuring interviews with scientists explaining the different components of the telescope and the significance of its scientific discoveries\, we travel to never-before-seen cosmic landscapes\, recently discovered exoplanets and planets around other stars.” \n Year 6  \nThursday 13/11/2025 – Deep Sky \nWe have some spaces for parents and carers to join us on the trip\, details will follow via Arbor. \n 
URL:https://barlowsprimary.co.uk/event/year-6-intofilm-festival-cinema-trip-deep-sky-vue-cinema-imax-cheshire-oaks/
END:VEVENT
BEGIN:VEVENT
DTSTART;TZID=Europe/London:20251112T155000
DTEND;TZID=Europe/London:20251112T193000
DTSTAMP:20260419T234429
CREATED:20251014T101523Z
LAST-MODIFIED:20251014T101800Z
UID:13709-1762962600-1762975800@barlowsprimary.co.uk
SUMMARY:Parents' Evening
DESCRIPTION:The Autumn Parents’ Evenings for Reception – Year 6 will be as follows: Further information regarding how to book will follow via Arbor. \n\n\n\n\n\n\n\nAppointments available from 3:50pm – 7:30pm \nY6 – Miss Hughes \n\n\n\n\n\n\n\n\n\nY5 – Mr Stevens \nY4 – Mrs Clemson \nY3 – Miss Hamilton \nY2 – Mrs Lawrence \nY1 – Mr Allinson \nReception – Miss Bradshaw \n 
URL:https://barlowsprimary.co.uk/event/parents-evening-7/
END:VEVENT
BEGIN:VEVENT
DTSTART;VALUE=DATE:20251112
DTEND;VALUE=DATE:20251113
DTSTAMP:20260419T234429
CREATED:20251014T073221Z
LAST-MODIFIED:20251014T151945Z
UID:13570-1762905600-1762991999@barlowsprimary.co.uk
SUMMARY:Year 1 IntoFilm Festival Cinema Trip - Tiddler and Tabby McTat Double-Bill - Odeon Cinema\, Liverpool One
DESCRIPTION:We have been fortunate enough to secure some free cinema trips for for our pupils as part of the IntoFilm Festival. The festival is a fantastic initiative aimed at inspiring students through film\, helping to enhance their creativity\, and fostering a love for storytelling. \nAs part of the festival\, our Year 1 classes will be attending screenings designed to engage their imaginations and will link to work back in school. \nThese screenings will not only provide an engaging experience but will also support our broader educational goals by encouraging discussions about themes such as family and friendship. This double bill showing is animations based on the popular books by Julia Donaldson. \nYear 1  \nTuesday 11/11/2025-Tiddler and Tabby McTat Double-Bill \nWe have some spaces for parents and carers to join us on the trip\, details will follow via Arbor.
URL:https://barlowsprimary.co.uk/event/year-1-intofilm-festival-cinema-trip-tiddler-and-tabby-mctat-double-bill-odeon-cinema-liverpool-one/
END:VEVENT
BEGIN:VEVENT
DTSTART;VALUE=DATE:20251112
DTEND;VALUE=DATE:20251113
DTSTAMP:20260419T234429
CREATED:20251014T073017Z
LAST-MODIFIED:20251014T152022Z
UID:13568-1762905600-1762991999@barlowsprimary.co.uk
SUMMARY:Reception IntoFilm Festival Cinema Trip - Tiddler and Tabby McTat Double-Bill - Odeon Cinema\, Liverpool One
DESCRIPTION:We have been fortunate enough to secure some free cinema trips for for our pupils as part of the IntoFilm Festival. The festival is a fantastic initiative aimed at inspiring students through film\, helping to enhance their creativity\, and fostering a love for storytelling. \nAs part of the festival\, our Reception classes will be attending screenings designed to engage their imaginations and will link to work back in school. \nThese screenings will not only provide an engaging experience but will also support our broader educational goals by encouraging discussions about themes such as family and friendship. This double bill showing is animations based on the popular books by Julia Donaldson. \nReception  \nTuesday 11/11/2025-Tiddler and Tabby McTat Double-Bill \nWe have some spaces for parents and carers to join us on the trip\, details will follow via Arbor.
URL:https://barlowsprimary.co.uk/event/reception-intofilm-festival-cinema-trip-tiddler-and-tabby-mctat-double-bill-odeon-cinema-liverpool-one/
END:VEVENT
BEGIN:VEVENT
DTSTART;VALUE=DATE:20251112
DTEND;VALUE=DATE:20251113
DTSTAMP:20260419T234429
CREATED:20251014T072848Z
LAST-MODIFIED:20251014T152055Z
UID:13566-1762905600-1762991999@barlowsprimary.co.uk
SUMMARY:Year 2 IntoFilm Festival Cinema Trip - Flow - FACT Cinema\, Liverpool
DESCRIPTION:We have been fortunate enough to secure some free cinema trips for for our pupils as part of the IntoFilm Festival. The festival is a fantastic initiative aimed at inspiring students through film\, helping to enhance their creativity\, and fostering a love for storytelling. \nAs part of the festival\, our Year 2 classes will be attending a screenings designed to engage their imaginations and will like to work back in school. Completely dialogue-free\, animated with a brilliantly innovative style and told only through visuals and animal noises\, Flow creates an immersive environment that feels fresh and alive. \nYear 2  \n12/11/2025 – Flow \nWe have some spaces for parents and carers to join us on the trip\, details will follow via Arbor.
URL:https://barlowsprimary.co.uk/event/year-2-intofilm-festival-cinema-trip-flow-fact-cinema-liverpool/
END:VEVENT
BEGIN:VEVENT
DTSTART;VALUE=DATE:20251112
DTEND;VALUE=DATE:20251113
DTSTAMP:20260419T234429
CREATED:20251013T105243Z
LAST-MODIFIED:20251014T100438Z
UID:13533-1762905600-1762991999@barlowsprimary.co.uk
SUMMARY:LSSP Balanceability Session - Reception Donaldson (Miss Evans' Class)
DESCRIPTION:Reception Classes will be engaging in a series of Balanceability Sessions as part of their PE lessons. These sessions\, expertly delivered by coaches from LSSP\, aim to enhance children’s essential balance skills. \n  \nBalanceability is a foundational programme designed to prepare young learners for riding a bicycle. During these dynamic lessons\, children will develop not only their physical coordination but also their confidence as they encounter various balancing activities. By mastering these skills early on\, our students will significantly improve their readiness for cycling.
URL:https://barlowsprimary.co.uk/event/lssp-balanceability-session-reception-donaldson-miss-evans-class-2/
END:VEVENT
BEGIN:VEVENT
DTSTART;TZID=Europe/London:20251111T155000
DTEND;TZID=Europe/London:20251111T180000
DTSTAMP:20260419T234429
CREATED:20251014T101229Z
LAST-MODIFIED:20251014T101229Z
UID:13707-1762876200-1762884000@barlowsprimary.co.uk
SUMMARY:Parents' Evening
DESCRIPTION:The Autumn Parents’ Evenings for Nursery – Year 6 will be as follows: Further information regarding how to book will follow via Arbor. \n\n\n\n\n\n\n\nAppointments available from 3:50pm – 6:00pm \nY6 – Miss Ward \n\n\n\n\n\n\n\n\n\nY5 – Mr Kellett \nY4 – Miss Johnes \nY3 – Mr James \nY2 – Mrs Fox \nY1 – Miss Kelly \nReception – Miss Evans \nNursery – Miss Watts
URL:https://barlowsprimary.co.uk/event/parents-evening-6/
END:VEVENT
BEGIN:VEVENT
DTSTART;VALUE=DATE:20251111
DTEND;VALUE=DATE:20251112
DTSTAMP:20260419T234429
CREATED:20251014T072732Z
LAST-MODIFIED:20251014T105410Z
UID:13564-1762819200-1762905599@barlowsprimary.co.uk
SUMMARY:Year 5 & 6 Into Film Festival Cinema Trip - How to Train Your Dragon - Odeon Cinema Liverpool One
DESCRIPTION:We have been fortunate enough to secure some free cinema trips for for our pupils as part of the IntoFilm Festival. The festival is a fantastic initiative aimed at inspiring students through film\, helping to enhance their creativity\, and fostering a love for storytelling. \nAs part of the festival\, our Year 5 & 6 classes will be attending screenings designed to engage their imaginations and will link to work back in school. \nThese screenings will not only provide an engaging experience but will also support our broader educational goals by encouraging discussions about themes such as friendship\, anti-prejudice and teamwork. \nYear 5 & 6 \nTuesday 11/11/2025 – How to Train your Dragon \nWe have some spaces for parents and carers to join us on the trip\, details will follow via Arbor.
URL:https://barlowsprimary.co.uk/event/year-5-6-into-film-festival-cinema-trip-how-to-train-your-dragon-odeon-cinema-liverpool-one/
END:VEVENT
BEGIN:VEVENT
DTSTART;TZID=Europe/London:20251110T155000
DTEND;TZID=Europe/London:20251110T193000
DTSTAMP:20260419T234429
CREATED:20251014T101039Z
LAST-MODIFIED:20251014T101039Z
UID:13704-1762789800-1762803000@barlowsprimary.co.uk
SUMMARY:Parents' Evening
DESCRIPTION:The Autumn Parents’ Evenings for Nursery – Year 6 will be as follows: Further information regarding how to book will follow via Arbor. \n\n\n\n\n\n\n\nAppointments available from 3:50pm – 7:30pm \nY6 – Miss Ward \n\n\n\n\n\n\n\n\n\nY5 – Mr Kellett \nY4 – Miss Johnes \nY3 – Mr James \nY2 – Mrs Fox \nY1 – Miss Kelly \nReception – Miss Evans \nNursery – Miss Watts
URL:https://barlowsprimary.co.uk/event/parents-evening-5/
END:VEVENT
BEGIN:VEVENT
DTSTART;TZID=Europe/London:20251110T093000
DTEND;TZID=Europe/London:20251110T113000
DTSTAMP:20260419T234429
CREATED:20251014T095228Z
LAST-MODIFIED:20251014T095228Z
UID:13692-1762767000-1762774200@barlowsprimary.co.uk
SUMMARY:Help Your Child Thrive Parent and Carer Programme
DESCRIPTION:The ‘Help Your Child Thrive’ programme is coming to Barlows Primary School from Monday 3rd November to help you to support your child with their learning and development at home. This course runs every Monday morning in school for 5 sessions just after you drop your child off at the start of the school day. \nThe course gives you an insight into what your child will be learning in Reception and KS1. Each week you’ll receive lots of practical tips and ideas as to how to help your child develop skills in communication and language\, personal\, social and emotional wellbeing\, physical development\, literacy and maths. You will be given a booklet full of resources and ideas for fun games to play with your child at home which will help them to thrive in school. The course is also a good chance to meet other parents and get to know a bit more about school. \nSessions will run from 9:30am – 11:30am on the following dates: \nMonday 03/11/25 \nMonday 10/11/25 \nMonday 17/11/25 \nMonday 24/11/25 \nMonday 02/12/25 \nPlaces are limited so please keep an eye out on Arbor for sign up details.
URL:https://barlowsprimary.co.uk/event/help-your-child-thrive-parent-and-carer-programme-2/
END:VEVENT
BEGIN:VEVENT
DTSTART;VALUE=DATE:20251110
DTEND;VALUE=DATE:20251111
DTSTAMP:20260419T234429
CREATED:20251013T142016Z
LAST-MODIFIED:20251014T102516Z
UID:13540-1762732800-1762819199@barlowsprimary.co.uk
SUMMARY:Anti-Bullying Week - Odd Sock Day
DESCRIPTION:Odd Sock Day is part of Anti-Bullying Week\, which aims to engage students in meaningful discussions surrounding the importance of respect\, understanding\, and kindness towards one another. \nBy wearing odd socks\, we hope to visually represent the message that differences are not only acceptable but should be embraced within our school community. \nWe encourage all students to participate in this initiative by wearing their most colourful and mismatched socks with their usual school uniform on the day. This simple act serves as a powerful reminder to recognise and appreciate the unique qualities that each child possesses. \nIt is also an excellent opportunity for parents and guardians to discuss the significance of this day and explore themes of friendship\, acceptance\, and the detrimental effects of bullying. \nAs part of our efforts to foster a safe and supportive environment\, we will be conducting assemblies and classroom activities to further educate our students
URL:https://barlowsprimary.co.uk/event/anti-bullying-week-odd-sock-day/
END:VEVENT
BEGIN:VEVENT
DTSTART;VALUE=DATE:20251106
DTEND;VALUE=DATE:20251107
DTSTAMP:20260419T234429
CREATED:20251014T071909Z
LAST-MODIFIED:20251014T103517Z
UID:13554-1762387200-1762473599@barlowsprimary.co.uk
SUMMARY:Year 4 Old Dock Tour Educational Visit
DESCRIPTION:We are delighted that our Year 4 pupils will visiting the Old Dock Tour in Liverpool on \n\nThursday 06/11/25 – 4 Curie (Miss Johnes)\nThursday 06/11/25 – 4 Newton (Mrs Clemson)\n\nAs part of their enrichment activities linked to their Geography unit on rivers. \nDuring the visit\, the children will take a trip below Liverpool One to visit and learn about the historic dock of Liverpool\, shipping trade and conditions at the original dock site in Liverpool. \nThis is an exciting opportunity that we are sure the children will enjoy!
URL:https://barlowsprimary.co.uk/event/year-4-old-dock-tour-educational-visit/
END:VEVENT
BEGIN:VEVENT
DTSTART;VALUE=DATE:20251105
DTEND;VALUE=DATE:20251106
DTSTAMP:20260419T234429
CREATED:20251013T105140Z
LAST-MODIFIED:20251014T100401Z
UID:13531-1762300800-1762387199@barlowsprimary.co.uk
SUMMARY:LSSP Balanceability Session - Reception Donaldson (Miss Evans' Class)
DESCRIPTION:Reception Classes will be engaging in a series of Balanceability Sessions as part of their PE lessons. These sessions\, expertly delivered by coaches from LSSP\, aim to enhance children’s essential balance skills. \n  \nBalanceability is a foundational programme designed to prepare young learners for riding a bicycle. During these dynamic lessons\, children will develop not only their physical coordination but also their confidence as they encounter various balancing activities. By mastering these skills early on\, our students will significantly improve their readiness for cycling.
URL:https://barlowsprimary.co.uk/event/lssp-balanceability-session-reception-donaldson-miss-evans-class/
END:VEVENT
BEGIN:VEVENT
DTSTART;VALUE=DATE:20251104
DTEND;VALUE=DATE:20251105
DTSTAMP:20260419T234429
CREATED:20251014T071826Z
LAST-MODIFIED:20251014T103214Z
UID:13552-1762214400-1762300799@barlowsprimary.co.uk
SUMMARY:Year 5 and Year 6 Liverpool Anti-Bullying Project Event
DESCRIPTION:We are proud to have a group of our Year 5 and 6 pupils representing Barlows and Liverpool Primary Schools to work together to promote anti-bullying messages and unity during Anti-Bullying week in November. \nThe children will be performing a selection of songs together with other schools using sign language. \nThis promises to be an exciting day to celebrate and raise awareness of these important issues.
URL:https://barlowsprimary.co.uk/event/year-5-and-year-6-liverpool-anti-bullying-project-event/
END:VEVENT
BEGIN:VEVENT
DTSTART;TZID=Europe/London:20251103T171500
DTEND;TZID=Europe/London:20251103T180000
DTSTAMP:20260419T234429
CREATED:20251013T104950Z
LAST-MODIFIED:20251014T094714Z
UID:13529-1762190100-1762192800@barlowsprimary.co.uk
SUMMARY:Years 1 and 2 Phonics and Early Reading Session for Parents and Carers
DESCRIPTION:As we continue to prioritise the development of strong foundational skills in literacy for our pupils\, I am pleased to announce an upcoming Phonics and Early Reading session specifically designed for parents and carers. \nThe sessions are as follows: \nYear 1 and Year 2 Phonics and Early Reading Sessions \nMonday 03/11/25 at 3:45pm-4:30pm \nMonday 03/11/25 at 5:15-6:00pm \nThe aim of this event is to provide you with valuable insights into our phonics programme\, including the methods and strategies we employ to encourage early reading skills among our pupils.
URL:https://barlowsprimary.co.uk/event/years-1-and-2-phonics-and-early-reading-session-for-parents-and-carers-2/
END:VEVENT
BEGIN:VEVENT
DTSTART;TZID=Europe/London:20251103T154500
DTEND;TZID=Europe/London:20251103T163000
DTSTAMP:20260419T234429
CREATED:20251013T104917Z
LAST-MODIFIED:20251014T094650Z
UID:13527-1762184700-1762187400@barlowsprimary.co.uk
SUMMARY:Years 1 and 2 Phonics and Early Reading Session for Parents and Carers
DESCRIPTION:As we continue to prioritise the development of strong foundational skills in literacy for our pupils\, I am pleased to announce an upcoming Phonics and Early Reading session specifically designed for parents and carers. \nThe sessions are as follows: \nYear 1 and Year 2 Phonics and Early Reading Sessions \nMonday 03/11/25 at 3:45pm-4:30pm \nMonday 03/11/25 at 5:15-6:00pm \nThe aim of this event is to provide you with valuable insights into our phonics programme\, including the methods and strategies we employ to encourage early reading skills among our pupils.
URL:https://barlowsprimary.co.uk/event/years-1-and-2-phonics-and-early-reading-session-for-parents-and-carers/
END:VEVENT
BEGIN:VEVENT
DTSTART;TZID=Europe/London:20251103T093000
DTEND;TZID=Europe/London:20251103T113000
DTSTAMP:20260419T234429
CREATED:20251014T095136Z
LAST-MODIFIED:20251014T095136Z
UID:13690-1762162200-1762169400@barlowsprimary.co.uk
SUMMARY:Help Your Child Thrive Parent and Carer Programme
DESCRIPTION:The ‘Help Your Child Thrive’ programme is coming to Barlows Primary School from Monday 3rd November to help you to support your child with their learning and development at home. This course runs every Monday morning in school for 5 sessions just after you drop your child off at the start of the school day. \nThe course gives you an insight into what your child will be learning in Reception and KS1. Each week you’ll receive lots of practical tips and ideas as to how to help your child develop skills in communication and language\, personal\, social and emotional wellbeing\, physical development\, literacy and maths. You will be given a booklet full of resources and ideas for fun games to play with your child at home which will help them to thrive in school. The course is also a good chance to meet other parents and get to know a bit more about school. \nSessions will run from 9:30am – 11:30am on the following dates: \nMonday 03/11/25 \nMonday 10/11/25 \nMonday 17/11/25 \nMonday 24/11/25 \nMonday 02/12/25 \nPlaces are limited so please keep an eye out on Arbor for sign up details.
URL:https://barlowsprimary.co.uk/event/help-your-child-thrive-parent-and-carer-programme/
END:VEVENT
BEGIN:VEVENT
DTSTART;VALUE=DATE:20251103
DTEND;VALUE=DATE:20251104
DTSTAMP:20260419T234429
CREATED:20251014T102219Z
LAST-MODIFIED:20251014T102219Z
UID:13716-1762128000-1762214399@barlowsprimary.co.uk
SUMMARY:Year 2 National Archives Online Workshop - The Great Fire of London
DESCRIPTION:Year 2 will be participating in an online session from The National Archives to enhance their knowledge of The Great Fire of London.This interactive session\, led by historians and researchers\, aims to enhance historical enquiry skills by guiding pupils in asking and answering questions that focus on primary sources and artefacts from this pivotal event in 1666.
URL:https://barlowsprimary.co.uk/event/year-2-national-archives-online-workshop-the-great-fire-of-london/
END:VEVENT
BEGIN:VEVENT
DTSTART;VALUE=DATE:20251103
DTEND;VALUE=DATE:20251104
DTSTAMP:20260419T234429
CREATED:20251014T072352Z
LAST-MODIFIED:20251014T105105Z
UID:13558-1762128000-1762214399@barlowsprimary.co.uk
SUMMARY:Social Media and Anti-Bullying Sessions for Years 3\, 4\, 5 & 6 with our PCSOs
DESCRIPTION:On Monday 03/11/25\, our Year 3\, Year 4\, Year 5 and 6 students with be taking part in special sessions with our PCSOs focused on social media awareness and anti-bullying. \nIn today’s digital age\, understanding the impacts of social media on young people has become increasingly essential. \nThese sessions will be conducted by the local Police Community Support Officers (PCSOs)\, who will share their expertise on safe online practices\, the potential risks associated with social media\, and how to promote kindness and respect in both virtual and real-life interactions. \nThe sessions aim to empower our students with the knowledge and skills necessary to navigate the complexities of modern communication responsibly. \nAdditionally\, these workshops provide an excellent opportunity for students to discuss bullying\, its various forms\, and the importance of standing together against it. Our intention is to foster an inclusive and supportive environment\, where every child feels valued. \nWe believe that parental involvement is crucial in reinforcing these themes at home. It is advisable to have open conversations with your child about their online activities and to encourage them to share their experiences and feelings regarding their interactions with peers. By working together\, we can create a strong support network for our children. \nShould you have any questions or require further information\, please do not hesitate to reach out to the school office.
URL:https://barlowsprimary.co.uk/event/social-media-and-anti-bullying-sessions-for-years-3-4-5-6-with-our-pcsos/
END:VEVENT
BEGIN:VEVENT
DTSTART;VALUE=DATE:20251103
DTEND;VALUE=DATE:20251104
DTSTAMP:20260419T234429
CREATED:20250402T101538Z
LAST-MODIFIED:20250402T101538Z
UID:13016-1762128000-1762214399@barlowsprimary.co.uk
SUMMARY:Pupils Return to School
DESCRIPTION:
URL:https://barlowsprimary.co.uk/event/pupils-return-to-school-2/
END:VEVENT
BEGIN:VEVENT
DTSTART;VALUE=DATE:20251031
DTEND;VALUE=DATE:20251101
DTSTAMP:20260419T234429
CREATED:20251013T085113Z
LAST-MODIFIED:20251013T085139Z
UID:13457-1761868800-1761955199@barlowsprimary.co.uk
SUMMARY:Year 6 Liverpool Secondary School Application Deadline
DESCRIPTION:A reminder that the Year 6 to Year 7 admissions transfer application window will close at 11:59pm on 31/10/25. \nApplications are to be made using the link below: \nwww.liverpool.gov.uk/admissions
URL:https://barlowsprimary.co.uk/event/year-6-liverpool-secondary-school-application-deadline/
END:VEVENT
BEGIN:VEVENT
DTSTART;VALUE=DATE:20251027
DTEND;VALUE=DATE:20251101
DTSTAMP:20260419T234429
CREATED:20250402T101422Z
LAST-MODIFIED:20250402T101422Z
UID:13014-1761523200-1761955199@barlowsprimary.co.uk
SUMMARY:Half-term
DESCRIPTION:
URL:https://barlowsprimary.co.uk/event/half-term-3/
END:VEVENT
BEGIN:VEVENT
DTSTART;VALUE=DATE:20251024
DTEND;VALUE=DATE:20251025
DTSTAMP:20260419T234429
CREATED:20250402T101329Z
LAST-MODIFIED:20250402T101329Z
UID:13012-1761264000-1761350399@barlowsprimary.co.uk
SUMMARY:INSET Day
DESCRIPTION:
URL:https://barlowsprimary.co.uk/event/inset-day-5/
END:VEVENT
BEGIN:VEVENT
DTSTART;TZID=Europe/London:20251023T173000
DTEND;TZID=Europe/London:20251023T190000
DTSTAMP:20260419T234429
CREATED:20251013T104741Z
LAST-MODIFIED:20251014T093347Z
UID:13525-1761240600-1761246000@barlowsprimary.co.uk
SUMMARY:Halloween Disco - Years 3\, 4\, 5 and 6
DESCRIPTION:As part of our fundraising activities\, we will be holding a Halloween disco for Year 3\, Year 4\, Year 5 and Year 6 on Thursday 23/10/25\, 5:30pm to 7:00pm. \nEntry is £1 per pupil – Fancy dress is welcome but not essential. \nA tuck shop will be available – maximum spend £2
URL:https://barlowsprimary.co.uk/event/halloween-disco-years-3-4-5-and-6/
END:VEVENT
BEGIN:VEVENT
DTSTART;TZID=Europe/London:20251023T163000
DTEND;TZID=Europe/London:20251023T173000
DTSTAMP:20260419T234429
CREATED:20251013T104656Z
LAST-MODIFIED:20251014T093156Z
UID:13523-1761237000-1761240600@barlowsprimary.co.uk
SUMMARY:Halloween Disco - Reception\, Year 1 & Year 2
DESCRIPTION:As part of our fundraising activities\, we will be holding a Halloween disco for Reception\, Year 1 and Year 2 on Thursday 23/10/25\, 4:30pm to 5:30pm. \nEntry is £1 per pupil – Fancy dress is welcome but not essential. \nA tuck shop will be available – maximum spend £1
URL:https://barlowsprimary.co.uk/event/halloween-disco-reception-year-1-year-2/
END:VEVENT
BEGIN:VEVENT
DTSTART;TZID=Europe/London:20251023T093000
DTEND;TZID=Europe/London:20251023T120000
DTSTAMP:20260419T234429
CREATED:20251013T100528Z
LAST-MODIFIED:20251013T100528Z
UID:13489-1761211800-1761220800@barlowsprimary.co.uk
SUMMARY:Year 6 Educational Visit to Apple
DESCRIPTION:There will be series of educational visits for our Year 6 students to participate in Apple Draw with Stillwater workshops. These visits are scheduled to take place in groups of 15 students per visit as follows: \nThursday 02/10/25 (morning session) Y6 15 students \nTuesday 14/10/25 (morning session) Y6 15 students \nThursday 16/10/25 (morning session) Y6 15 students \nTuesday 23/10/25 (morning session) Y6 15 students
URL:https://barlowsprimary.co.uk/event/year-6-educational-visit-to-apple-4/
END:VEVENT
BEGIN:VEVENT
DTSTART;VALUE=DATE:20251023
DTEND;VALUE=DATE:20251024
DTSTAMP:20260419T234429
CREATED:20251013T104450Z
LAST-MODIFIED:20251014T092105Z
UID:13519-1761177600-1761263999@barlowsprimary.co.uk
SUMMARY:Year 5 and 6 Positive Footprints Conversation with a Casting Researcher for the BBC
DESCRIPTION:Year 5 and 6 pupils will be attending an online career conversation with a Casting Researcher from the BBC. \nThe primary objective is to expose our students to various career pathways and to help them understand the importance of setting goals and aspirations for their future.
URL:https://barlowsprimary.co.uk/event/year-5-and-6-positive-footprints-conversation-with-a-casting-researcher-for-the-bbc/
END:VEVENT
BEGIN:VEVENT
DTSTART;VALUE=DATE:20251023
DTEND;VALUE=DATE:20251024
DTSTAMP:20260419T234429
CREATED:20251013T104359Z
LAST-MODIFIED:20251014T091636Z
UID:13517-1761177600-1761263999@barlowsprimary.co.uk
SUMMARY:Year 1 Local Area Walk - 1 Carle - Mr Allinson's Class
DESCRIPTION:Year 1 pupils will embark on a walk around our local area to explore its historical significance. This activity is designed to enhance our students’ understanding of their immediate environment and its rich history. \nThroughout the walk\, students will have the opportunity to observe and learn about notable landmarks\, reflecting on how our community has evolved over time. \nThe visits will take place on the following dates: \nWednesday 22/10/25 – 1 Kerr – Miss Kelly’s Class \nThursday 23/20/25 – 1 Carle – Mr Allinson’s Class \nFurther details will follow via Arbor
URL:https://barlowsprimary.co.uk/event/year-1-local-area-walk-1-carle-mr-allinsons-class/
END:VEVENT
BEGIN:VEVENT
DTSTART;VALUE=DATE:20251023
DTEND;VALUE=DATE:20251024
DTSTAMP:20260419T234429
CREATED:20251013T104206Z
LAST-MODIFIED:20251014T092904Z
UID:13511-1761177600-1761263999@barlowsprimary.co.uk
SUMMARY:Children's University Masterclass - Monster Doodles - Year 1\, 2\, 3 and 4
DESCRIPTION:The children in Year 1\, 2\, 3 and 4 will take part in an engaging online workshop as part of the Children’s University Masterclass series titled\, ‘Monster Doodles’\, facilitated by CBBC animator Lara Whitehead. This masterclass will focus on developing their animation skills by designing their own monster. \nChildren will also get the opportunity to submit their questions to Lara during the exciting session.
URL:https://barlowsprimary.co.uk/event/childrens-university-masterclass-monster-doodles/
END:VEVENT
BEGIN:VEVENT
DTSTART;VALUE=DATE:20251023
DTEND;VALUE=DATE:20251024
DTSTAMP:20260419T234429
CREATED:20250402T101253Z
LAST-MODIFIED:20250402T101253Z
UID:13010-1761177600-1761263999@barlowsprimary.co.uk
SUMMARY:Last Day for Pupils
DESCRIPTION:
URL:https://barlowsprimary.co.uk/event/last-day-for-pupils-3/
END:VEVENT
END:VCALENDAR