BEGIN:VCALENDAR
VERSION:2.0
PRODID:-//Barlows Primary School - ECPv6.15.20//NONSGML v1.0//EN
CALSCALE:GREGORIAN
METHOD:PUBLISH
X-WR-CALNAME:Barlows Primary School
X-ORIGINAL-URL:https://barlowsprimary.co.uk
X-WR-CALDESC:Events for Barlows Primary School
REFRESH-INTERVAL;VALUE=DURATION:PT1H
X-Robots-Tag:noindex
X-PUBLISHED-TTL:PT1H
BEGIN:VTIMEZONE
TZID:Europe/London
BEGIN:DAYLIGHT
TZOFFSETFROM:+0000
TZOFFSETTO:+0100
TZNAME:BST
DTSTART:20240331T010000
END:DAYLIGHT
BEGIN:STANDARD
TZOFFSETFROM:+0100
TZOFFSETTO:+0000
TZNAME:GMT
DTSTART:20241027T010000
END:STANDARD
BEGIN:DAYLIGHT
TZOFFSETFROM:+0000
TZOFFSETTO:+0100
TZNAME:BST
DTSTART:20250330T010000
END:DAYLIGHT
BEGIN:STANDARD
TZOFFSETFROM:+0100
TZOFFSETTO:+0000
TZNAME:GMT
DTSTART:20251026T010000
END:STANDARD
BEGIN:DAYLIGHT
TZOFFSETFROM:+0000
TZOFFSETTO:+0100
TZNAME:BST
DTSTART:20260329T010000
END:DAYLIGHT
BEGIN:STANDARD
TZOFFSETFROM:+0100
TZOFFSETTO:+0000
TZNAME:GMT
DTSTART:20261025T010000
END:STANDARD
END:VTIMEZONE
BEGIN:VEVENT
DTSTART;VALUE=DATE:20250508
DTEND;VALUE=DATE:20250509
DTSTAMP:20260421T060415
CREATED:20250606T001327Z
LAST-MODIFIED:20250606T001327Z
UID:13342-1746662400-1746748799@barlowsprimary.co.uk
SUMMARY:VE Day Commemoration 2025: VE Day 80
DESCRIPTION:VE Day Commemoration 2025: VE Day 80 \n08/05/2025 \nMrs Lawrence\, our History lead\, has been working hard to plan an important commemoration of VE day on its \n80th anniversary for the whole school. Each class will explore the contrasts between life in the 1940s and today \nand highlight the significance of commemorating this pivotal moment in history. \nPupils will complete an activity to demonstrate their understanding and we encourage \nparents to discuss this important topic with their children\, fostering meaningful conversations \nabout hope and peace as well as the Barlows values of Resilience\, Determination and \nRespect.
URL:https://barlowsprimary.co.uk/event/ve-day-commemoration-2025-ve-day-80/
END:VEVENT
BEGIN:VEVENT
DTSTART;VALUE=DATE:20250508
DTEND;VALUE=DATE:20250509
DTSTAMP:20260421T060415
CREATED:20250606T001301Z
LAST-MODIFIED:20250606T001301Z
UID:13340-1746662400-1746748799@barlowsprimary.co.uk
SUMMARY:Early Years Stay and Play
DESCRIPTION:Early Years Stay and Play \n08/05/25 \nOur Reception and Nursery teams look forward to \nwelcoming parents and carers to our May Stay and \nPlay sessions: \nReception: Thursday 8th May 2025 9am-10am \nNursery: Thursday 8th May 2025 9am-10am & \nThursday 8th May 2025 2:30pm-3:30pm \nThe theme for this session is ‘Planting and \nGrowing’. \nWe kindly ask that only adults attend these sessions \nas we are unable to accommodate for children who \nare not pupils of the school.
URL:https://barlowsprimary.co.uk/event/early-years-stay-and-play/
END:VEVENT
BEGIN:VEVENT
DTSTART;TZID=Europe/London:20250507T153000
DTEND;TZID=Europe/London:20250507T180000
DTSTAMP:20260421T060415
CREATED:20250606T001057Z
LAST-MODIFIED:20250606T001057Z
UID:13332-1746631800-1746640800@barlowsprimary.co.uk
SUMMARY:SEND Parent/Carer Meetings with SENDCO
DESCRIPTION:SEND Parent/Carer Meetings with SENDCO \nwc 06/05/25 and wc 12/05/25 \nAs part of our developments in SEND\, Mrs Berry \n(SENDCO) has arranged times for all parents and \ncarers to be able to make an appointment to discuss \nany issues or concerns you may have relating to \nSEND and your child. \nAppointments are available on the following dates: \nTuesday 06/05/25 – 3:30pm -6pm \nWednesday 07/05/25 – 3:30pm – 6pm \nThursday 15/05/25 – 3:30pm – 6pm \nA link will be sent via Arbor to book your appointment.
URL:https://barlowsprimary.co.uk/event/send-parent-carer-meetings-with-sendco-2/
END:VEVENT
BEGIN:VEVENT
DTSTART;VALUE=DATE:20250507
DTEND;VALUE=DATE:20250508
DTSTAMP:20260421T060415
CREATED:20250606T000423Z
LAST-MODIFIED:20250606T000423Z
UID:13304-1746576000-1746662399@barlowsprimary.co.uk
SUMMARY:LSSP POWER Sessions  Year 5
DESCRIPTION:LSSP POWER Sessions \nYear 5 \nDuring their PE sessions in the Summer Term\, Year 5 \nwill be taking part in the POWER programme with \nLSSP. The sessions will focus on building positive \nhealth behaviours with focus on Physical activity\, \nOpenness\, Wellbeing and Emotional Regulation. \nThe sessions will take place on the following dates: \nWednesday 23/04/2025 \nWednesday 07/05/2025 \nWednesday 14/05/2025 \nWednesday 21/05/2025 \nWednesday 04/06/2025 \nWednesday 11/06/2025
URL:https://barlowsprimary.co.uk/event/lssp-power-sessions-year-5-2/
END:VEVENT
BEGIN:VEVENT
DTSTART;TZID=Europe/London:20250506T153000
DTEND;TZID=Europe/London:20250506T180000
DTSTAMP:20260421T060415
CREATED:20250606T001032Z
LAST-MODIFIED:20250606T001032Z
UID:13330-1746545400-1746554400@barlowsprimary.co.uk
SUMMARY:SEND Parent/Carer Meetings with SENDCO
DESCRIPTION:SEND Parent/Carer Meetings with SENDCO \nwc 06/05/25 and wc 12/05/25 \nAs part of our developments in SEND\, Mrs Berry \n(SENDCO) has arranged times for all parents and \ncarers to be able to make an appointment to discuss \nany issues or concerns you may have relating to \nSEND and your child. \nAppointments are available on the following dates: \nTuesday 06/05/25 – 3:30pm -6pm \nWednesday 07/05/25 – 3:30pm – 6pm \nThursday 15/05/25 – 3:30pm – 6pm \nA link will be sent via Arbor to book your appointment.
URL:https://barlowsprimary.co.uk/event/send-parent-carer-meetings-with-sendco/
END:VEVENT
BEGIN:VEVENT
DTSTART;VALUE=DATE:20250506
DTEND;VALUE=DATE:20250507
DTSTAMP:20260421T060415
CREATED:20250606T001244Z
LAST-MODIFIED:20250606T001244Z
UID:13338-1746489600-1746575999@barlowsprimary.co.uk
SUMMARY:Dodgeball Intraschool Competition  Year 3
DESCRIPTION:Dodgeball Intraschool Competition \nYear 3 \n06/05/2025 \nOn 06/05/2025\, our Year 3 pupils are in for an \nexhilarating experience as they take part in an intra \nschool dodgeball competition right here at Barlows! \nOrganised by LSSP coaches and Mr Courtney-Ward\, \nthis thrilling event will showcase the ball handling \nskills of our talented young athletes. Competitors will \nbattle it out on the court\, aiming to secure the title of \nultimate Dodgeball champions of Year 3!
URL:https://barlowsprimary.co.uk/event/dodgeball-intraschool-competition-year-3/
END:VEVENT
BEGIN:VEVENT
DTSTART;VALUE=DATE:20250506
DTEND;VALUE=DATE:20250507
DTSTAMP:20260421T060415
CREATED:20250606T000708Z
LAST-MODIFIED:20250606T000708Z
UID:13318-1746489600-1746575999@barlowsprimary.co.uk
SUMMARY:Balanceability  Reception  - Reception Donaldson
DESCRIPTION:Balanceability \nReception \nReception Donaldson: \n22/04/25\, 29/04/25\, 06/05/25 \nReception McKee: \n13/05/25\, 20/05/25\, 03/06/25 \nThis term\, our Reception pupils will be taking part in \nBalanceability sessions from LSSP coaches during \ntheir PE sessions. These engaging sessions are \ndesigned to foster key skills that will enable your \nchild to ride a bicycle in the future – an essential life \nskill that promotes confidence and independence. \nThrough fun activities and expert guidance\, our \nyoung learners will enhance their balance\, \ncoordination\, and physical capabilities\, setting them \nup for a lifetime of cycling enjoyment. We can’t wait \nto see their progress and the smiles on their faces \nas they take this exciting step!
URL:https://barlowsprimary.co.uk/event/balanceability-reception-reception-donaldson-3/
END:VEVENT
BEGIN:VEVENT
DTSTART;VALUE=DATE:20250506
DTEND;VALUE=DATE:20250507
DTSTAMP:20260421T060415
CREATED:20250326T101359Z
LAST-MODIFIED:20250326T101359Z
UID:12975-1746489600-1746575999@barlowsprimary.co.uk
SUMMARY:All Pupils Return to School
DESCRIPTION:
URL:https://barlowsprimary.co.uk/event/all-pupils-return-to-school-2/
END:VEVENT
BEGIN:VEVENT
DTSTART;VALUE=DATE:20250505
DTEND;VALUE=DATE:20250506
DTSTAMP:20260421T060415
CREATED:20250326T101240Z
LAST-MODIFIED:20250326T101240Z
UID:12973-1746403200-1746489599@barlowsprimary.co.uk
SUMMARY:May Day Bank Holiday - School Closed
DESCRIPTION:
URL:https://barlowsprimary.co.uk/event/may-day-bank-holiday-school-closed/
END:VEVENT
BEGIN:VEVENT
DTSTART;VALUE=DATE:20250501
DTEND;VALUE=DATE:20250502
DTSTAMP:20260421T060415
CREATED:20250606T001205Z
LAST-MODIFIED:20250606T001205Z
UID:13336-1746057600-1746143999@barlowsprimary.co.uk
SUMMARY:Tag Rugby Skills Sessions - Saints Rugby Team  Year 2
DESCRIPTION:Tag Rugby Skills Sessions – Saints Rugby Team \nYear 2 \n01/05/25 \nOn 01/05/25\, our Year 2 pupils will take part in an \nexciting Tag Rugby Festival from Saints Rugby Club \nand Liverpool Lions at our local sports venue at \nAdlam Park. \nAt the session\, pupils will be led through a series of \ndrills and exercises by professional coaches to \ndevelop their Tag Rugby skills and enhance their \nunderstanding of invasion games and competition. \nFurther information of this will be available through \nour parent communications on Arbor.
URL:https://barlowsprimary.co.uk/event/tag-rugby-skills-sessions-saints-rugby-team-year-2/
END:VEVENT
BEGIN:VEVENT
DTSTART;VALUE=DATE:20250429
DTEND;VALUE=DATE:20250430
DTSTAMP:20260421T060415
CREATED:20250606T000950Z
LAST-MODIFIED:20250606T000950Z
UID:13328-1745884800-1745971199@barlowsprimary.co.uk
SUMMARY:Children’s University Masterclass  Exploring Space with a Robotic Telescope  Year 6
DESCRIPTION:Children’s University Masterclass \nExploring Space with a Robotic Telescope \nYear 6 \n29/04/2025 \nWe are thrilled to announce that our Year 6 pupils \nwill be participating in a unique online session \nhosted from the Fawkes Telescope South in \nAustralia. \nThis incredible opportunity allows our young \nastronomers to dial in and explore the wonders of \ndistant galaxies. For an exhilarating 30 minutes\, \nthey will take control of the remarkable 2-metre \nwide telescope\, capturing stunning real-time \nphotographs of the universe. As the telescope \ngazes into the cosmos\, pupils will have the chance \nto engage with expert astronomers\, asking \nquestions and deepening their cosmic knowledge. \nIt’s an adventure not to be missed!
URL:https://barlowsprimary.co.uk/event/childrens-university-masterclass-exploring-space-with-a-robotic-telescope-year-6/
END:VEVENT
BEGIN:VEVENT
DTSTART;VALUE=DATE:20250429
DTEND;VALUE=DATE:20250430
DTSTAMP:20260421T060415
CREATED:20250606T000922Z
LAST-MODIFIED:20250606T000922Z
UID:13326-1745884800-1745971199@barlowsprimary.co.uk
SUMMARY:Peak District Explorers  Geography Fieldwork Visit to Macclesfield Forest  Year 5
DESCRIPTION:Peak District Explorers \nGeography Fieldwork Visit to Macclesfield Forest \nYear 5 \n29/04/2025 \nPupils in Year 5 will be embarking on a Geography \ntrip to the stunning Peak District National Park for a \nday filled with adventure and learning. This is a \nfantastic chance for our children to develop their \nGeography skills while enjoying the great outdoors. \nThe trip will kick off with an indoor session where the \nchildren will compare maps and aerial photos of the \nlocal area. They’ll have the chance to create their \nown simple maps\, helping them grasp the concept of \na ‘Bird’s Eye view’. After their indoor activities\, we’ll \nhead outside to explore! In the open air\, the children \nwill draw their own maps and learn about the eight \npoints of a compass\, a vital skill for any budding \nexplorer. Additionally\, there will be a set up of a \nsimple orienteering course on the grounds\, where \nthey can practice their map-reading skills in a fun\, \nhands-on environment. \nFurther details of this exciting opportunity will be \navailable on Arbor.
URL:https://barlowsprimary.co.uk/event/peak-district-explorers-geography-fieldwork-visit-to-macclesfield-forest-year-5/
END:VEVENT
BEGIN:VEVENT
DTSTART;VALUE=DATE:20250429
DTEND;VALUE=DATE:20250430
DTSTAMP:20260421T060415
CREATED:20250606T000809Z
LAST-MODIFIED:20250606T000809Z
UID:13322-1745884800-1745971199@barlowsprimary.co.uk
SUMMARY:Balanceability  Reception - Reception McKee
DESCRIPTION:Balanceability \nReception \nReception Donaldson: \n22/04/25\, 29/04/25\, 06/05/25 \nReception McKee: \n13/05/25\, 20/05/25\, 03/06/25 \nThis term\, our Reception pupils will be taking part in \nBalanceability sessions from LSSP coaches during \ntheir PE sessions. These engaging sessions are \ndesigned to foster key skills that will enable your \nchild to ride a bicycle in the future – an essential life \nskill that promotes confidence and independence. \nThrough fun activities and expert guidance\, our \nyoung learners will enhance their balance\, \ncoordination\, and physical capabilities\, setting them \nup for a lifetime of cycling enjoyment. We can’t wait \nto see their progress and the smiles on their faces \nas they take this exciting step!
URL:https://barlowsprimary.co.uk/event/balanceability-reception-reception-mckee-2/
END:VEVENT
BEGIN:VEVENT
DTSTART;VALUE=DATE:20250429
DTEND;VALUE=DATE:20250430
DTSTAMP:20260421T060415
CREATED:20250606T000635Z
LAST-MODIFIED:20250606T000645Z
UID:13316-1745884800-1745971199@barlowsprimary.co.uk
SUMMARY:Balanceability  Reception -  Reception Donaldson:
DESCRIPTION:Balanceability \nReception \nReception Donaldson: \n22/04/25\, 29/04/25\, 06/05/25 \nReception McKee: \n13/05/25\, 20/05/25\, 03/06/25 \nThis term\, our Reception pupils will be taking part in \nBalanceability sessions from LSSP coaches during \ntheir PE sessions. These engaging sessions are \ndesigned to foster key skills that will enable your \nchild to ride a bicycle in the future – an essential life \nskill that promotes confidence and independence. \nThrough fun activities and expert guidance\, our \nyoung learners will enhance their balance\, \ncoordination\, and physical capabilities\, setting them \nup for a lifetime of cycling enjoyment. We can’t wait \nto see their progress and the smiles on their faces \nas they take this exciting step!
URL:https://barlowsprimary.co.uk/event/balanceability-reception-reception-donaldson-2/
END:VEVENT
BEGIN:VEVENT
DTSTART;VALUE=DATE:20250429
DTEND;VALUE=DATE:20250430
DTSTAMP:20260421T060415
CREATED:20250506T081927Z
LAST-MODIFIED:20250506T082000Z
UID:13068-1745884800-1745971199@barlowsprimary.co.uk
SUMMARY:Year 5 visit to Macclesfield Forest (Peak District National Park Field Studies Council) Mapping Skills Visit
DESCRIPTION:
URL:https://barlowsprimary.co.uk/event/year-5-visit-to-macclesfield-forest-peak-district-national-park-field-studies-council-mapping-skills-visit/
END:VEVENT
BEGIN:VEVENT
DTSTART;VALUE=DATE:20250428
DTEND;VALUE=DATE:20250429
DTSTAMP:20260421T060415
CREATED:20250606T000342Z
LAST-MODIFIED:20250606T000342Z
UID:13300-1745798400-1745884799@barlowsprimary.co.uk
SUMMARY:North West Air Ambulance Charity Assembly
DESCRIPTION:North West Air Ambulance Charity Assembly \n28/04/2025 \nOn Monday 28/04/2025\, children will be visited by \nParamedic Pup from the North West Air Ambulance \nCharity. The visit will allow our children to delve into the \nvital work of the charity and discover the heroic efforts \nof the crews behind their three helicopters. \nThe children will not only learn about the importance of \nemergency response but also build their confidence in \nknowing how to raise the alarm if they ever encounter a \nchallenging situation.
URL:https://barlowsprimary.co.uk/event/north-west-air-ambulance-charity-assembly/
END:VEVENT
BEGIN:VEVENT
DTSTART;VALUE=DATE:20250424
DTEND;VALUE=DATE:20250425
DTSTAMP:20260421T060415
CREATED:20250606T000320Z
LAST-MODIFIED:20250606T000320Z
UID:13298-1745452800-1745539199@barlowsprimary.co.uk
SUMMARY:Ancient Egyptian Mummification Workshop  Liverpool World Museum - Year 4
DESCRIPTION:Ancient Egyptian Mummification Workshop \nLiverpool World Museum \n24/04/2025 \nYear 4 \nYear 4 will be visiting the World Museum in \nLiverpool City Centre on 24/04/2025 to take part in \na thrilling mummification workshop and self-led \ntour of the Egyptology area of the museum. \nIn this exciting session\, pupils will travel back in \ntime to the land of ancient Egypt and discover \ntraditions and the mummification processes of the \nancient Egyptians. Through an interactive \napproach\, which involves working on a life size \ndummy mummy\, students will learn details of how \nthe body was preserved and will come \nto appreciate the cultural meanings of \nthe preservation process. \nFurther details of this visit will be \navailable on Arbor.
URL:https://barlowsprimary.co.uk/event/ancient-egyptian-mummification-workshop-liverpool-world-museum-year-4/
END:VEVENT
BEGIN:VEVENT
DTSTART;VALUE=DATE:20250423
DTEND;VALUE=DATE:20250424
DTSTAMP:20260421T060415
CREATED:20250606T000405Z
LAST-MODIFIED:20250606T000405Z
UID:13302-1745366400-1745452799@barlowsprimary.co.uk
SUMMARY:LSSP POWER Sessions  Year 5
DESCRIPTION:LSSP POWER Sessions \nYear 5 \nDuring their PE sessions in the Summer Term\, Year 5 \nwill be taking part in the POWER programme with \nLSSP. The sessions will focus on building positive \nhealth behaviours with focus on Physical activity\, \nOpenness\, Wellbeing and Emotional Regulation. \nThe sessions will take place on the following dates: \nWednesday 23/04/2025 \nWednesday 07/05/2025 \nWednesday 14/05/2025 \nWednesday 21/05/2025 \nWednesday 04/06/2025 \nWednesday 11/06/2025
URL:https://barlowsprimary.co.uk/event/lssp-power-sessions-year-5/
END:VEVENT
BEGIN:VEVENT
DTSTART;VALUE=DATE:20250423
DTEND;VALUE=DATE:20250424
DTSTAMP:20260421T060415
CREATED:20250606T000245Z
LAST-MODIFIED:20250606T000245Z
UID:13296-1745366400-1745452799@barlowsprimary.co.uk
SUMMARY:Kitty Wilkinson Experience: Liverpool Anglican  Cathedral
DESCRIPTION:Kitty Wilkinson Experience: Liverpool Anglican \nCathedral \n23/04/2025 \nYear 2 \nOur Year 2 pupils are looking forward to developing \ntheir understanding of how Kitty Wilkinson has \nimpacted our locality through the Kitty Wilkinson \nExperience at the Liverpool Anglican Cathedral on \n23/04/2025. \nPupils will travel by train to the iconic landmark \nand engage in an informative tour of the site and \nSt. James’ Gardens\, where they will discover the \nremarkable legacy of Kitty Wilkinson. To celebrate \nher significant contributions\, students will \nparticipate in a creative workshop\, crafting their \nvery own stained-glass windows. This unique \nexperience promises to enrich their understanding \nof history in our local area. \nFurther details of this visit will be available on \nArbor.
URL:https://barlowsprimary.co.uk/event/kitty-wilkinson-experience-liverpool-anglican-cathedral/
END:VEVENT
BEGIN:VEVENT
DTSTART;VALUE=DATE:20250422
DTEND;VALUE=DATE:20250423
DTSTAMP:20260421T060415
CREATED:20250606T000616Z
LAST-MODIFIED:20250606T000616Z
UID:13314-1745280000-1745366399@barlowsprimary.co.uk
SUMMARY:Balanceability  Reception - Reception Donaldson:
DESCRIPTION:Balanceability \nReception \nReception Donaldson: \n22/04/25\, 29/04/25\, 06/05/25 \nReception McKee: \n13/05/25\, 20/05/25\, 03/06/25 \nThis term\, our Reception pupils will be taking part in \nBalanceability sessions from LSSP coaches during \ntheir PE sessions. These engaging sessions are \ndesigned to foster key skills that will enable your \nchild to ride a bicycle in the future – an essential life \nskill that promotes confidence and independence. \nThrough fun activities and expert guidance\, our \nyoung learners will enhance their balance\, \ncoordination\, and physical capabilities\, setting them \nup for a lifetime of cycling enjoyment. We can’t wait \nto see their progress and the smiles on their faces \nas they take this exciting step!
URL:https://barlowsprimary.co.uk/event/balanceability-reception-reception-donaldson/
END:VEVENT
BEGIN:VEVENT
DTSTART;VALUE=DATE:20250422
DTEND;VALUE=DATE:20250423
DTSTAMP:20260421T060415
CREATED:20250606T000226Z
LAST-MODIFIED:20250606T000226Z
UID:13294-1745280000-1745366399@barlowsprimary.co.uk
SUMMARY:Earth Day 2025  22/04/2025
DESCRIPTION:Earth Day 2025 \n22/04/2025 \nYear 3\, Year 4 Year 5 & Year 6 \nWe are thrilled to announce that on 22/04/2025\, our \nKS2 pupils will join schools from five continents to \ncelebrate Earth Day with a series of engaging online \nsessions! This unique event offers an incredible \nopportunity for our children to connect with peers \naround the world while exploring essential topics \nrelated to environmental sustainability. \nThroughout the day\, pupils will dive into discussions on \npromoting sustainable travel to schools\, managing \nwaste effectively\, reducing power consumption\, and \nprotecting our wildlife. With expert guest speakers \nsharing their insights\, we anticipate a wealth of \nvaluable knowledge and inspiration to empower our \nyoung learners. \nThis event promises to be not only informative but also \na thrilling experience that will encourage our pupils to \nbecome advocates for our planet. We look forward to \nwitnessing the enthusiasm and creativity that will \nundoubtedly arise from this collaborative celebration!
URL:https://barlowsprimary.co.uk/event/earth-day-2025-22-04-2025/
END:VEVENT
BEGIN:VEVENT
DTSTART;VALUE=DATE:20250422
DTEND;VALUE=DATE:20250423
DTSTAMP:20260421T060415
CREATED:20250326T100944Z
LAST-MODIFIED:20250326T100944Z
UID:12969-1745280000-1745366399@barlowsprimary.co.uk
SUMMARY:All pupils return to school
DESCRIPTION:
URL:https://barlowsprimary.co.uk/event/all-pupils-return-to-school/
END:VEVENT
BEGIN:VEVENT
DTSTART;VALUE=DATE:20250421
DTEND;VALUE=DATE:20250422
DTSTAMP:20260421T060415
CREATED:20250326T100903Z
LAST-MODIFIED:20250326T100903Z
UID:12967-1745193600-1745279999@barlowsprimary.co.uk
SUMMARY:Easter Monday - Bank Holiday
DESCRIPTION:
URL:https://barlowsprimary.co.uk/event/easter-monday-bank-holiday/
END:VEVENT
BEGIN:VEVENT
DTSTART;VALUE=DATE:20250407
DTEND;VALUE=DATE:20250419
DTSTAMP:20260421T060415
CREATED:20250326T100740Z
LAST-MODIFIED:20250326T100740Z
UID:12965-1743984000-1745020799@barlowsprimary.co.uk
SUMMARY:Easter Holiday
DESCRIPTION:
URL:https://barlowsprimary.co.uk/event/easter-holiday/
END:VEVENT
BEGIN:VEVENT
DTSTART;TZID=Europe/London:20250404T173000
DTEND;TZID=Europe/London:20250404T190000
DTSTAMP:20260421T060415
CREATED:20250325T164236Z
LAST-MODIFIED:20250325T164236Z
UID:12963-1743787800-1743793200@barlowsprimary.co.uk
SUMMARY:Easter Disco -Year 3\, Year 4\, Year 5 and Year 6
DESCRIPTION:As part of our fundraising activities we will be holding an Easter disco for Year 3\, Year 4\, Year 5 and Year 6 on Friday 04/04/25\, 5:30pm-7:00pm. \nEntry is £1 per pupil. A tuck shop will be available – maximum tuck shop spend £2
URL:https://barlowsprimary.co.uk/event/easter-disco-year-3-year-4-year-5-and-year-6/
END:VEVENT
BEGIN:VEVENT
DTSTART;TZID=Europe/London:20250404T163000
DTEND;TZID=Europe/London:20250404T170000
DTSTAMP:20260421T060415
CREATED:20250325T164105Z
LAST-MODIFIED:20250325T164105Z
UID:12961-1743784200-1743786000@barlowsprimary.co.uk
SUMMARY:Easter Disco - Reception\, Year 1\, Year 2 Friday 04/04/25
DESCRIPTION:As part of our fundraising activities we will be holding an Easter disco for: Reception\, Year 1 & Year 2 on Friday 04/04/25\, 4:30pm-5:30pm. \nEntry is £1 per pupil. A tuck shop will be available – maximum tuck shop spend £1
URL:https://barlowsprimary.co.uk/event/easter-disco-reception-year-1-year-2-friday-04-04-25/
END:VEVENT
BEGIN:VEVENT
DTSTART;VALUE=DATE:20250404
DTEND;VALUE=DATE:20250405
DTSTAMP:20260421T060415
CREATED:20250326T101043Z
LAST-MODIFIED:20250326T101043Z
UID:12971-1743724800-1743811199@barlowsprimary.co.uk
SUMMARY:Last Day for Pupils
DESCRIPTION:
URL:https://barlowsprimary.co.uk/event/last-day-for-pupils/
END:VEVENT
BEGIN:VEVENT
DTSTART;VALUE=DATE:20250404
DTEND;VALUE=DATE:20250405
DTSTAMP:20260421T060415
CREATED:20250325T163933Z
LAST-MODIFIED:20250325T163933Z
UID:12959-1743724800-1743811199@barlowsprimary.co.uk
SUMMARY:Royal Ballet and Opera ‘Everybody Sing: The Magic Flute’ Online Event Reception - Year 6
DESCRIPTION:During this online session\, our pupils from Reception to Year 6 will watch and sing along to Mozart’s ‘The Magic Flute’. \nOur pupils will have front row seats to the performance from the Royal Opera and meet the characters of Prince Tamino\, Princess Pamina and the Queen of the Night.
URL:https://barlowsprimary.co.uk/event/royal-ballet-and-opera-everybody-sing-the-magic-flute-online-event-reception-year-6/
END:VEVENT
BEGIN:VEVENT
DTSTART;VALUE=DATE:20250404
DTEND;VALUE=DATE:20250405
DTSTAMP:20260421T060415
CREATED:20250325T162032Z
LAST-MODIFIED:20250325T162032Z
UID:12948-1743724800-1743811199@barlowsprimary.co.uk
SUMMARY:Easter Raffle
DESCRIPTION:Tickets for our Easter Raffle will be available to purchase from Monday 31/03/25 to Friday 04/04/25. \nRaffle Tickets are priced at £1 each. For every £1 ticket purchased\, you will receive a second ticket free! (2 tickets for £1) Tickets will be available from the School Council during school hours. \nSpare tickets will also be available from the school office from Tuesday 01/04/25.
URL:https://barlowsprimary.co.uk/event/easter-raffle/
END:VEVENT
BEGIN:VEVENT
DTSTART;VALUE=DATE:20250402
DTEND;VALUE=DATE:20250403
DTSTAMP:20260421T060415
CREATED:20250325T163731Z
LAST-MODIFIED:20250325T163731Z
UID:12957-1743552000-1743638399@barlowsprimary.co.uk
SUMMARY:Royal Ballet and Opera ‘Everybody Make: The Magic Flute’ Online Event Nursery - Year 2
DESCRIPTION:During this creative session\, our pupils will be led by an experienced prop designer to create their own snake puppet from Mozart’s famous opera ‘The Magic Flute’. \nChildren will learn about the design process from the first model to the finished prop\, discover how set designers make giant creations for the performance of ‘The Magic Flute’\, create their own snake puppet and meet the designers and have the opportunity to ask questions.
URL:https://barlowsprimary.co.uk/event/royal-ballet-and-opera-everybody-make-the-magic-flute-online-event-nursery-year-2/
END:VEVENT
END:VCALENDAR