BEGIN:VCALENDAR
VERSION:2.0
PRODID:-//Barlows Primary School - ECPv6.15.20//NONSGML v1.0//EN
CALSCALE:GREGORIAN
METHOD:PUBLISH
X-WR-CALNAME:Barlows Primary School
X-ORIGINAL-URL:https://barlowsprimary.co.uk
X-WR-CALDESC:Events for Barlows Primary School
REFRESH-INTERVAL;VALUE=DURATION:PT1H
X-Robots-Tag:noindex
X-PUBLISHED-TTL:PT1H
BEGIN:VTIMEZONE
TZID:Europe/London
BEGIN:DAYLIGHT
TZOFFSETFROM:+0000
TZOFFSETTO:+0100
TZNAME:BST
DTSTART:20230326T010000
END:DAYLIGHT
BEGIN:STANDARD
TZOFFSETFROM:+0100
TZOFFSETTO:+0000
TZNAME:GMT
DTSTART:20231029T010000
END:STANDARD
BEGIN:DAYLIGHT
TZOFFSETFROM:+0000
TZOFFSETTO:+0100
TZNAME:BST
DTSTART:20240331T010000
END:DAYLIGHT
BEGIN:STANDARD
TZOFFSETFROM:+0100
TZOFFSETTO:+0000
TZNAME:GMT
DTSTART:20241027T010000
END:STANDARD
BEGIN:DAYLIGHT
TZOFFSETFROM:+0000
TZOFFSETTO:+0100
TZNAME:BST
DTSTART:20250330T010000
END:DAYLIGHT
BEGIN:STANDARD
TZOFFSETFROM:+0100
TZOFFSETTO:+0000
TZNAME:GMT
DTSTART:20251026T010000
END:STANDARD
BEGIN:DAYLIGHT
TZOFFSETFROM:+0000
TZOFFSETTO:+0100
TZNAME:BST
DTSTART:20260329T010000
END:DAYLIGHT
BEGIN:STANDARD
TZOFFSETFROM:+0100
TZOFFSETTO:+0000
TZNAME:GMT
DTSTART:20261025T010000
END:STANDARD
END:VTIMEZONE
BEGIN:VEVENT
DTSTART;VALUE=DATE:20250424
DTEND;VALUE=DATE:20250425
DTSTAMP:20260421T052146
CREATED:20250606T000320Z
LAST-MODIFIED:20250606T000320Z
UID:13298-1745452800-1745539199@barlowsprimary.co.uk
SUMMARY:Ancient Egyptian Mummification Workshop  Liverpool World Museum - Year 4
DESCRIPTION:Ancient Egyptian Mummification Workshop \nLiverpool World Museum \n24/04/2025 \nYear 4 \nYear 4 will be visiting the World Museum in \nLiverpool City Centre on 24/04/2025 to take part in \na thrilling mummification workshop and self-led \ntour of the Egyptology area of the museum. \nIn this exciting session\, pupils will travel back in \ntime to the land of ancient Egypt and discover \ntraditions and the mummification processes of the \nancient Egyptians. Through an interactive \napproach\, which involves working on a life size \ndummy mummy\, students will learn details of how \nthe body was preserved and will come \nto appreciate the cultural meanings of \nthe preservation process. \nFurther details of this visit will be \navailable on Arbor.
URL:https://barlowsprimary.co.uk/event/ancient-egyptian-mummification-workshop-liverpool-world-museum-year-4/
END:VEVENT
BEGIN:VEVENT
DTSTART;VALUE=DATE:20250423
DTEND;VALUE=DATE:20250424
DTSTAMP:20260421T052146
CREATED:20250606T000405Z
LAST-MODIFIED:20250606T000405Z
UID:13302-1745366400-1745452799@barlowsprimary.co.uk
SUMMARY:LSSP POWER Sessions  Year 5
DESCRIPTION:LSSP POWER Sessions \nYear 5 \nDuring their PE sessions in the Summer Term\, Year 5 \nwill be taking part in the POWER programme with \nLSSP. The sessions will focus on building positive \nhealth behaviours with focus on Physical activity\, \nOpenness\, Wellbeing and Emotional Regulation. \nThe sessions will take place on the following dates: \nWednesday 23/04/2025 \nWednesday 07/05/2025 \nWednesday 14/05/2025 \nWednesday 21/05/2025 \nWednesday 04/06/2025 \nWednesday 11/06/2025
URL:https://barlowsprimary.co.uk/event/lssp-power-sessions-year-5/
END:VEVENT
BEGIN:VEVENT
DTSTART;VALUE=DATE:20250423
DTEND;VALUE=DATE:20250424
DTSTAMP:20260421T052146
CREATED:20250606T000245Z
LAST-MODIFIED:20250606T000245Z
UID:13296-1745366400-1745452799@barlowsprimary.co.uk
SUMMARY:Kitty Wilkinson Experience: Liverpool Anglican  Cathedral
DESCRIPTION:Kitty Wilkinson Experience: Liverpool Anglican \nCathedral \n23/04/2025 \nYear 2 \nOur Year 2 pupils are looking forward to developing \ntheir understanding of how Kitty Wilkinson has \nimpacted our locality through the Kitty Wilkinson \nExperience at the Liverpool Anglican Cathedral on \n23/04/2025. \nPupils will travel by train to the iconic landmark \nand engage in an informative tour of the site and \nSt. James’ Gardens\, where they will discover the \nremarkable legacy of Kitty Wilkinson. To celebrate \nher significant contributions\, students will \nparticipate in a creative workshop\, crafting their \nvery own stained-glass windows. This unique \nexperience promises to enrich their understanding \nof history in our local area. \nFurther details of this visit will be available on \nArbor.
URL:https://barlowsprimary.co.uk/event/kitty-wilkinson-experience-liverpool-anglican-cathedral/
END:VEVENT
BEGIN:VEVENT
DTSTART;VALUE=DATE:20250422
DTEND;VALUE=DATE:20250423
DTSTAMP:20260421T052146
CREATED:20250606T000616Z
LAST-MODIFIED:20250606T000616Z
UID:13314-1745280000-1745366399@barlowsprimary.co.uk
SUMMARY:Balanceability  Reception - Reception Donaldson:
DESCRIPTION:Balanceability \nReception \nReception Donaldson: \n22/04/25\, 29/04/25\, 06/05/25 \nReception McKee: \n13/05/25\, 20/05/25\, 03/06/25 \nThis term\, our Reception pupils will be taking part in \nBalanceability sessions from LSSP coaches during \ntheir PE sessions. These engaging sessions are \ndesigned to foster key skills that will enable your \nchild to ride a bicycle in the future – an essential life \nskill that promotes confidence and independence. \nThrough fun activities and expert guidance\, our \nyoung learners will enhance their balance\, \ncoordination\, and physical capabilities\, setting them \nup for a lifetime of cycling enjoyment. We can’t wait \nto see their progress and the smiles on their faces \nas they take this exciting step!
URL:https://barlowsprimary.co.uk/event/balanceability-reception-reception-donaldson/
END:VEVENT
BEGIN:VEVENT
DTSTART;VALUE=DATE:20250422
DTEND;VALUE=DATE:20250423
DTSTAMP:20260421T052146
CREATED:20250606T000226Z
LAST-MODIFIED:20250606T000226Z
UID:13294-1745280000-1745366399@barlowsprimary.co.uk
SUMMARY:Earth Day 2025  22/04/2025
DESCRIPTION:Earth Day 2025 \n22/04/2025 \nYear 3\, Year 4 Year 5 & Year 6 \nWe are thrilled to announce that on 22/04/2025\, our \nKS2 pupils will join schools from five continents to \ncelebrate Earth Day with a series of engaging online \nsessions! This unique event offers an incredible \nopportunity for our children to connect with peers \naround the world while exploring essential topics \nrelated to environmental sustainability. \nThroughout the day\, pupils will dive into discussions on \npromoting sustainable travel to schools\, managing \nwaste effectively\, reducing power consumption\, and \nprotecting our wildlife. With expert guest speakers \nsharing their insights\, we anticipate a wealth of \nvaluable knowledge and inspiration to empower our \nyoung learners. \nThis event promises to be not only informative but also \na thrilling experience that will encourage our pupils to \nbecome advocates for our planet. We look forward to \nwitnessing the enthusiasm and creativity that will \nundoubtedly arise from this collaborative celebration!
URL:https://barlowsprimary.co.uk/event/earth-day-2025-22-04-2025/
END:VEVENT
BEGIN:VEVENT
DTSTART;VALUE=DATE:20250422
DTEND;VALUE=DATE:20250423
DTSTAMP:20260421T052146
CREATED:20250326T100944Z
LAST-MODIFIED:20250326T100944Z
UID:12969-1745280000-1745366399@barlowsprimary.co.uk
SUMMARY:All pupils return to school
DESCRIPTION:
URL:https://barlowsprimary.co.uk/event/all-pupils-return-to-school/
END:VEVENT
BEGIN:VEVENT
DTSTART;VALUE=DATE:20250421
DTEND;VALUE=DATE:20250422
DTSTAMP:20260421T052146
CREATED:20250326T100903Z
LAST-MODIFIED:20250326T100903Z
UID:12967-1745193600-1745279999@barlowsprimary.co.uk
SUMMARY:Easter Monday - Bank Holiday
DESCRIPTION:
URL:https://barlowsprimary.co.uk/event/easter-monday-bank-holiday/
END:VEVENT
BEGIN:VEVENT
DTSTART;VALUE=DATE:20250407
DTEND;VALUE=DATE:20250419
DTSTAMP:20260421T052146
CREATED:20250326T100740Z
LAST-MODIFIED:20250326T100740Z
UID:12965-1743984000-1745020799@barlowsprimary.co.uk
SUMMARY:Easter Holiday
DESCRIPTION:
URL:https://barlowsprimary.co.uk/event/easter-holiday/
END:VEVENT
BEGIN:VEVENT
DTSTART;TZID=Europe/London:20250404T173000
DTEND;TZID=Europe/London:20250404T190000
DTSTAMP:20260421T052146
CREATED:20250325T164236Z
LAST-MODIFIED:20250325T164236Z
UID:12963-1743787800-1743793200@barlowsprimary.co.uk
SUMMARY:Easter Disco -Year 3\, Year 4\, Year 5 and Year 6
DESCRIPTION:As part of our fundraising activities we will be holding an Easter disco for Year 3\, Year 4\, Year 5 and Year 6 on Friday 04/04/25\, 5:30pm-7:00pm. \nEntry is £1 per pupil. A tuck shop will be available – maximum tuck shop spend £2
URL:https://barlowsprimary.co.uk/event/easter-disco-year-3-year-4-year-5-and-year-6/
END:VEVENT
BEGIN:VEVENT
DTSTART;TZID=Europe/London:20250404T163000
DTEND;TZID=Europe/London:20250404T170000
DTSTAMP:20260421T052146
CREATED:20250325T164105Z
LAST-MODIFIED:20250325T164105Z
UID:12961-1743784200-1743786000@barlowsprimary.co.uk
SUMMARY:Easter Disco - Reception\, Year 1\, Year 2 Friday 04/04/25
DESCRIPTION:As part of our fundraising activities we will be holding an Easter disco for: Reception\, Year 1 & Year 2 on Friday 04/04/25\, 4:30pm-5:30pm. \nEntry is £1 per pupil. A tuck shop will be available – maximum tuck shop spend £1
URL:https://barlowsprimary.co.uk/event/easter-disco-reception-year-1-year-2-friday-04-04-25/
END:VEVENT
BEGIN:VEVENT
DTSTART;VALUE=DATE:20250404
DTEND;VALUE=DATE:20250405
DTSTAMP:20260421T052146
CREATED:20250326T101043Z
LAST-MODIFIED:20250326T101043Z
UID:12971-1743724800-1743811199@barlowsprimary.co.uk
SUMMARY:Last Day for Pupils
DESCRIPTION:
URL:https://barlowsprimary.co.uk/event/last-day-for-pupils/
END:VEVENT
BEGIN:VEVENT
DTSTART;VALUE=DATE:20250404
DTEND;VALUE=DATE:20250405
DTSTAMP:20260421T052146
CREATED:20250325T163933Z
LAST-MODIFIED:20250325T163933Z
UID:12959-1743724800-1743811199@barlowsprimary.co.uk
SUMMARY:Royal Ballet and Opera ‘Everybody Sing: The Magic Flute’ Online Event Reception - Year 6
DESCRIPTION:During this online session\, our pupils from Reception to Year 6 will watch and sing along to Mozart’s ‘The Magic Flute’. \nOur pupils will have front row seats to the performance from the Royal Opera and meet the characters of Prince Tamino\, Princess Pamina and the Queen of the Night.
URL:https://barlowsprimary.co.uk/event/royal-ballet-and-opera-everybody-sing-the-magic-flute-online-event-reception-year-6/
END:VEVENT
BEGIN:VEVENT
DTSTART;VALUE=DATE:20250404
DTEND;VALUE=DATE:20250405
DTSTAMP:20260421T052146
CREATED:20250325T162032Z
LAST-MODIFIED:20250325T162032Z
UID:12948-1743724800-1743811199@barlowsprimary.co.uk
SUMMARY:Easter Raffle
DESCRIPTION:Tickets for our Easter Raffle will be available to purchase from Monday 31/03/25 to Friday 04/04/25. \nRaffle Tickets are priced at £1 each. For every £1 ticket purchased\, you will receive a second ticket free! (2 tickets for £1) Tickets will be available from the School Council during school hours. \nSpare tickets will also be available from the school office from Tuesday 01/04/25.
URL:https://barlowsprimary.co.uk/event/easter-raffle/
END:VEVENT
BEGIN:VEVENT
DTSTART;VALUE=DATE:20250402
DTEND;VALUE=DATE:20250403
DTSTAMP:20260421T052146
CREATED:20250325T163731Z
LAST-MODIFIED:20250325T163731Z
UID:12957-1743552000-1743638399@barlowsprimary.co.uk
SUMMARY:Royal Ballet and Opera ‘Everybody Make: The Magic Flute’ Online Event Nursery - Year 2
DESCRIPTION:During this creative session\, our pupils will be led by an experienced prop designer to create their own snake puppet from Mozart’s famous opera ‘The Magic Flute’. \nChildren will learn about the design process from the first model to the finished prop\, discover how set designers make giant creations for the performance of ‘The Magic Flute’\, create their own snake puppet and meet the designers and have the opportunity to ask questions.
URL:https://barlowsprimary.co.uk/event/royal-ballet-and-opera-everybody-make-the-magic-flute-online-event-nursery-year-2/
END:VEVENT
BEGIN:VEVENT
DTSTART;VALUE=DATE:20250402
DTEND;VALUE=DATE:20250403
DTSTAMP:20260421T052146
CREATED:20250325T162752Z
LAST-MODIFIED:20250325T162752Z
UID:12953-1743552000-1743638399@barlowsprimary.co.uk
SUMMARY:Egg Decorating Competition
DESCRIPTION:Our annual egg decorating competition is back for 2025! \nHow to enter: \nBring along a decorated egg or egg display to school on Wednesday 02/04/25. Please remember to hard boil or drain your egg prior.\nEntry into the competition is completely free.\nEach entry will be given a number so that voting is anonymous. \nIdeas: \nWe have included a selection of ideas over the page from a previous competition to get you started with ideas! \nViewing & Voting – Children \nChildren will have the opportunity to vote during the school day. \nViewing & Voting – Parents and Carers \nEntires will be available to view in the school hall on Wednesday 02/04/25 between 3:40pm-4:15pm.\nParents and Carers will be welcome to visit the school hall to view and place a vote on Wednesday 02/04/25 between 3:40pm-4:15pm. \nWinners \nCertificates will be awarded for each entry so remember to include your name or family name if it is a group effort! \n** Winners will be announced in our end of term assembly on Friday 04/04/25 **
URL:https://barlowsprimary.co.uk/event/egg-decorating-competition/
END:VEVENT
BEGIN:VEVENT
DTSTART;VALUE=DATE:20250401
DTEND;VALUE=DATE:20250402
DTSTAMP:20260421T052146
CREATED:20250325T163419Z
LAST-MODIFIED:20250325T163419Z
UID:12955-1743465600-1743551999@barlowsprimary.co.uk
SUMMARY:Royal Ballet and Opera ‘Everybody Make: Alice’s Adventures’ Online Event Year 3 - Year 6
DESCRIPTION:During this creative session\, our pupils will be led by an experienced stage designer to create their own tree for the set of the ballet ‘Alice’s Adventures in Wonderland’. \nChildren will learn about the design process from the first model to the finished set\, be introduced to set designs from the magical story of Alice’s Adventures and have the opportunity to meet the designers and ask questions.
URL:https://barlowsprimary.co.uk/event/royal-ballet-and-opera-everybody-make-alices-adventures-online-event-year-3-year-6/
END:VEVENT
BEGIN:VEVENT
DTSTART;TZID=Europe/London:20250331T171500
DTEND;TZID=Europe/London:20250331T174500
DTSTAMP:20260421T052146
CREATED:20250325T160144Z
LAST-MODIFIED:20250325T160144Z
UID:12935-1743441300-1743443100@barlowsprimary.co.uk
SUMMARY:Year 3 and Year 4 Parents' and Carers' Multiplication Tables Check Information Sessions
DESCRIPTION:Mrs Kirby-Foy\, will be holding sessions for parents and carers of pupils in Year 3 and Year 4 to explain the statutory Multiplication Tables Check that Year 4 pupils will take in June. \nMrs Kirby-Foy will be providing a range of fun multiplication tables activities for parents and carers to use at home to help pupils develop their knowledge.
URL:https://barlowsprimary.co.uk/event/year-3-and-year-4-parents-and-carers-multiplication-tables-check-information-sessions-2/
END:VEVENT
BEGIN:VEVENT
DTSTART;TZID=Europe/London:20250331T154500
DTEND;TZID=Europe/London:20250331T161500
DTSTAMP:20260421T052146
CREATED:20250325T155942Z
LAST-MODIFIED:20250325T155942Z
UID:12933-1743435900-1743437700@barlowsprimary.co.uk
SUMMARY:Year 3 and Year 4 Parents' and Carers' Multiplication Tables Check Information Sessions
DESCRIPTION:Mrs Kirby-Foy\, will be holding sessions for parents and carers of pupils in Year 3 and Year 4 to explain the statutory Multiplication Tables Check that Year 4 pupils will take in June. \nMrs Kirby-Foy will be providing a range of fun multiplication tables activities for parents and carers to use at home to help pupils develop their knowledge.
URL:https://barlowsprimary.co.uk/event/year-3-and-year-4-parents-and-carers-multiplication-tables-check-information-sessions/
END:VEVENT
BEGIN:VEVENT
DTSTART;VALUE=DATE:20250328
DTEND;VALUE=DATE:20250329
DTSTAMP:20260421T052146
CREATED:20250325T161706Z
LAST-MODIFIED:20250325T161706Z
UID:12946-1743120000-1743206399@barlowsprimary.co.uk
SUMMARY:Own Clothes Day - Bring an Easter Treat
DESCRIPTION:On Friday 28/03/25 we will be hosting an own clothes day with a voluntary donation for an Easter treat donation (Easter Egg\, Chocolate Easter Bunny\, Bag of £1 Haribo Easter Jellies etc.) \nThe donated Easter Treats will form part of our Easter Raffle during the week commencing 31/03/25
URL:https://barlowsprimary.co.uk/event/own-clothes-day-bring-an-easter-treat/
END:VEVENT
BEGIN:VEVENT
DTSTART;TZID=Europe/London:20250327T155000
DTEND;TZID=Europe/London:20250327T193000
DTSTAMP:20260421T052146
CREATED:20250325T161358Z
LAST-MODIFIED:20250325T161358Z
UID:12944-1743090600-1743103800@barlowsprimary.co.uk
SUMMARY:Parents' Evening
DESCRIPTION:The Spring Parents’ Evenings for Nursery – Year 5 will be as follows: Further information regarding how to book will follow via Arbor. \n\n\n\n\nAppointments available from 3:50pm – 7:30pm \n\n\n\n\nY5 – Mrs Clemson \nY4 – Mr Stevens \nY3 – Mrs Fox\nY2 – Miss Kelly\nY1 – Miss Hamilton \nRec – Miss Evans
URL:https://barlowsprimary.co.uk/event/parents-evening-4/
END:VEVENT
BEGIN:VEVENT
DTSTART;TZID=Europe/London:20250326T155000
DTEND;TZID=Europe/London:20250326T180000
DTSTAMP:20260421T052146
CREATED:20250325T161000Z
LAST-MODIFIED:20250325T161159Z
UID:12941-1743004200-1743012000@barlowsprimary.co.uk
SUMMARY:Parents' Evening
DESCRIPTION:The Spring Parents’ Evenings for Nursery – Year 5 will be as follows: Further information regarding how to book will follow via Arbor. \n\n\n\n\nAppointments available from 3:50pm – 6pm \n\n\n\n\nY5 – Mrs Clemson \nY4 – Mr Stevens \nY3 – Mrs Fox\nY2 – Miss Kelly\nY1 – Miss Hamilton \nRec – Miss Evans
URL:https://barlowsprimary.co.uk/event/parents-evening-3/
END:VEVENT
BEGIN:VEVENT
DTSTART;TZID=Europe/London:20250326T100000
DTEND;TZID=Europe/London:20250326T120000
DTSTAMP:20260421T052146
CREATED:20250325T155515Z
LAST-MODIFIED:20250325T155515Z
UID:12931-1742983200-1742990400@barlowsprimary.co.uk
SUMMARY:Year 3 Gaudi Swimming
DESCRIPTION:Swimming kit required
URL:https://barlowsprimary.co.uk/event/year-3-gaudi-swimming/
END:VEVENT
BEGIN:VEVENT
DTSTART;VALUE=DATE:20250326
DTEND;VALUE=DATE:20250327
DTSTAMP:20260421T052146
CREATED:20250325T162248Z
LAST-MODIFIED:20250326T100432Z
UID:12950-1742947200-1743033599@barlowsprimary.co.uk
SUMMARY:Sky Explorers: Exciting Jobs in Aviation Online Session Year 3 - Year 6
DESCRIPTION:As part of the Department for Transport’s ‘Reach for the Sky’ careers initiative\, our pupils will take part in an online session exploring potential careers in aviation. \nThis fun and interactive virtual event challenges pupils to guess the diverse jobs in aviation beyond pilots and cabin crew. Our pupils will learn about a wide range of exciting roles\, from ground staff to engineers and air traffic controllers\, helping them to see that aviation offers opportunities for everyone!
URL:https://barlowsprimary.co.uk/event/sky-explorers-exciting-jobs-in-aviation-online-session-year-3-year-6/
END:VEVENT
BEGIN:VEVENT
DTSTART;TZID=Europe/London:20250325T155000
DTEND;TZID=Europe/London:20250325T193000
DTSTAMP:20260421T052146
CREATED:20250325T160619Z
LAST-MODIFIED:20250325T160619Z
UID:12939-1742917800-1742931000@barlowsprimary.co.uk
SUMMARY:Parents' Evening
DESCRIPTION:The Spring Parents’ Evenings for Nursery – Year 5 will be as follows: Further information regarding how to book will follow via Arbor. \n\n\n\n\n\n\n\nAppointments available from 3:50pm – 7:30pm \n\n\n\n\n\n\n\n\n\nY5 – Miss Johnes \nY4 – Mr Kellett\nY3 – Mrs Lawrence \nY2 – Miss Kirkby \nY1 – Mr Wood \nRec – Miss Smith \nNursery – Miss Breeze
URL:https://barlowsprimary.co.uk/event/parents-evening-2/
END:VEVENT
BEGIN:VEVENT
DTSTART;TZID=Europe/London:20250324T155000
DTEND;TZID=Europe/London:20250324T180000
DTSTAMP:20260421T052146
CREATED:20250325T160520Z
LAST-MODIFIED:20250325T160520Z
UID:12937-1742831400-1742839200@barlowsprimary.co.uk
SUMMARY:Parents' Evening
DESCRIPTION:The Spring Parents’ Evenings for Nursery – Year 5 will be as follows: Further information regarding how to book will follow via Arbor. \n\n\n\n\n\n\n\nAppointments available from 3:50pm – 6pm \n\n\n\n\n\n\n\n\n\nY5 – Miss Johnes \nY4 – Mr Kellett\nY3 – Mrs Lawrence \nY2 – Miss Kirkby \nY1 – Mr Wood \nRec – Miss Smith \nNursery – Miss Breeze
URL:https://barlowsprimary.co.uk/event/parents-evening/
END:VEVENT
BEGIN:VEVENT
DTSTART;VALUE=DATE:20250217
DTEND;VALUE=DATE:20250222
DTSTAMP:20260421T052146
CREATED:20250402T100408Z
LAST-MODIFIED:20250402T100408Z
UID:13001-1739750400-1740182399@barlowsprimary.co.uk
SUMMARY:Half-term
DESCRIPTION:
URL:https://barlowsprimary.co.uk/event/half-term-2/
END:VEVENT
BEGIN:VEVENT
DTSTART;TZID=Europe/London:20241031T235900
DTEND;TZID=Europe/London:20241031T235900
DTSTAMP:20260421T052146
CREATED:20241017T171553Z
LAST-MODIFIED:20241017T171631Z
UID:12660-1730419140-1730419140@barlowsprimary.co.uk
SUMMARY:Year 6 Liverpool Secondary School Application Deadline
DESCRIPTION:Year 6 Liverpool Secondary School Application Deadline \nApplications are to be made using the link below: \nwww.liverpool.gov.uk/admissions
URL:https://barlowsprimary.co.uk/event/12660/
END:VEVENT
BEGIN:VEVENT
DTSTART;TZID=Europe/London:20241003T154500
DTEND;TZID=Europe/London:20241003T161500
DTSTAMP:20260421T052146
CREATED:20241018T090514Z
LAST-MODIFIED:20241018T090514Z
UID:12670-1727970300-1727972100@barlowsprimary.co.uk
SUMMARY:Phase 2 (Year 2 & 3) Meet the Team Session
DESCRIPTION:Phase 2 (Year 2 & 3) Meet the Team Session
URL:https://barlowsprimary.co.uk/event/phase-2-year-2-3-meet-the-team-session/
END:VEVENT
BEGIN:VEVENT
DTSTART;TZID=Europe/London:20240930T154500
DTEND;TZID=Europe/London:20240930T161500
DTSTAMP:20260421T052146
CREATED:20241018T090422Z
LAST-MODIFIED:20241018T090422Z
UID:12668-1727711100-1727712900@barlowsprimary.co.uk
SUMMARY:Phase 3 (Year 4\,5\,6) Meet the Team Session
DESCRIPTION:Phase 3 (Year 4\,5\,6) Meet the Team Session
URL:https://barlowsprimary.co.uk/event/phase-3-year-456-meet-the-team-session/
END:VEVENT
BEGIN:VEVENT
DTSTART;TZID=Europe/London:20240927T171500
DTEND;TZID=Europe/London:20240927T180000
DTSTAMP:20260421T052146
CREATED:20241018T090657Z
LAST-MODIFIED:20241018T090657Z
UID:12674-1727457300-1727460000@barlowsprimary.co.uk
SUMMARY:Phonics and Early Reading Sessions for Reception Parents and Carers
DESCRIPTION:Phonics and Early Reading Sessions for Reception Parents and Carers
URL:https://barlowsprimary.co.uk/event/phonics-and-early-reading-sessions-for-reception-parents-and-carers-2/
END:VEVENT
END:VCALENDAR