BEGIN:VCALENDAR
VERSION:2.0
PRODID:-//Barlows Primary School - ECPv6.15.20//NONSGML v1.0//EN
CALSCALE:GREGORIAN
METHOD:PUBLISH
X-WR-CALNAME:Barlows Primary School
X-ORIGINAL-URL:https://barlowsprimary.co.uk
X-WR-CALDESC:Events for Barlows Primary School
REFRESH-INTERVAL;VALUE=DURATION:PT1H
X-Robots-Tag:noindex
X-PUBLISHED-TTL:PT1H
BEGIN:VTIMEZONE
TZID:Europe/London
BEGIN:DAYLIGHT
TZOFFSETFROM:+0000
TZOFFSETTO:+0100
TZNAME:BST
DTSTART:20240331T010000
END:DAYLIGHT
BEGIN:STANDARD
TZOFFSETFROM:+0100
TZOFFSETTO:+0000
TZNAME:GMT
DTSTART:20241027T010000
END:STANDARD
BEGIN:DAYLIGHT
TZOFFSETFROM:+0000
TZOFFSETTO:+0100
TZNAME:BST
DTSTART:20250330T010000
END:DAYLIGHT
BEGIN:STANDARD
TZOFFSETFROM:+0100
TZOFFSETTO:+0000
TZNAME:GMT
DTSTART:20251026T010000
END:STANDARD
BEGIN:DAYLIGHT
TZOFFSETFROM:+0000
TZOFFSETTO:+0100
TZNAME:BST
DTSTART:20260329T010000
END:DAYLIGHT
BEGIN:STANDARD
TZOFFSETFROM:+0100
TZOFFSETTO:+0000
TZNAME:GMT
DTSTART:20261025T010000
END:STANDARD
END:VTIMEZONE
BEGIN:VEVENT
DTSTART;TZID=Europe/London:20251211T154000
DTEND;TZID=Europe/London:20251211T180000
DTSTAMP:20260419T154333
CREATED:20251014T081606Z
LAST-MODIFIED:20251021T152332Z
UID:13628-1765467600-1765476000@barlowsprimary.co.uk
SUMMARY:IEP Parents' Meetings - End of Autumn Term Review
DESCRIPTION:Parents of pupils on the SEND register will have the opportunity to meet with our school SENDCO\, Mrs Berry\, and class teacher to review their child’s Individual Education Plan (IEP) and set targets for the new term. Details of how to book the meeting will follow in due course. \n  \nAppointments available between 3:40pm – 6:00pm \n2 Potter (Mrs Fox’s Class) \n2 Dahl (Mrs Lawrence’s Class)
URL:https://barlowsprimary.co.uk/event/iep-parents-meetings-end-of-autumn-term-review-7/
END:VEVENT
BEGIN:VEVENT
DTSTART;TZID=Europe/London:20251211T144500
DTEND;TZID=Europe/London:20251211T151500
DTSTAMP:20260419T154333
CREATED:20251014T082327Z
LAST-MODIFIED:20251021T154336Z
UID:13646-1765464300-1765466100@barlowsprimary.co.uk
SUMMARY:Nursery 2 Christmas Performance
DESCRIPTION:We are delighted to announce this year’s Christmas Performance dates. Year groups will perform as individual year groups. This should enable more pupils to have speaking and performance parts\, should they wish. There will be one performance per year group as follows: \n  \nNursery 2 Performance: Thursday 11th December 2:45pm – 3:15pm
URL:https://barlowsprimary.co.uk/event/nursery-2-christmas-performance/
END:VEVENT
BEGIN:VEVENT
DTSTART;TZID=Europe/London:20251211T110000
DTEND;TZID=Europe/London:20251211T113000
DTSTAMP:20260419T154333
CREATED:20251014T082206Z
LAST-MODIFIED:20251021T154427Z
UID:13644-1765450800-1765452600@barlowsprimary.co.uk
SUMMARY:Nursery 1 Christmas Performance
DESCRIPTION:We are delighted to announce this year’s Christmas Performance dates. Year groups will perform as individual year groups. This should enable more pupils to have speaking and performance parts\, should they wish. There will be one performance per year group as follows: \n  \nNursery 1 Performance: Thursday 11th December 11:00am – 11:30am
URL:https://barlowsprimary.co.uk/event/nursery-1-christmas-performance/
END:VEVENT
BEGIN:VEVENT
DTSTART;VALUE=DATE:20251211
DTEND;VALUE=DATE:20251212
DTSTAMP:20260419T154333
CREATED:20251014T082049Z
LAST-MODIFIED:20251021T153154Z
UID:13640-1765411200-1765497599@barlowsprimary.co.uk
SUMMARY:Christmas Dinner Day & Christmas Jumper Day & Own Clothes Day
DESCRIPTION:Our school Christmas Dinner Day will take place on Thursday 11th December 2025. This is the same date as Christmas Jumper Day. All pupils are invited to wear a Christmas Jumper\, Christmas hat or headband or their own clothes for Christmas Dinner Day. We hope that by combining our own clothes day\, Christmas dinner day and Christmas Jumper Day\, that families don’t feel under pressure to purchase expensive jumpers. Further details regarding the booking of Christmas dinner will be sent out by the
URL:https://barlowsprimary.co.uk/event/christmas-dinner-day-christmas-jumper-day-own-clothes-day/
END:VEVENT
BEGIN:VEVENT
DTSTART;TZID=Europe/London:20251210T154000
DTEND;TZID=Europe/London:20251210T180000
DTSTAMP:20260419T154333
CREATED:20251014T081535Z
LAST-MODIFIED:20251021T151928Z
UID:13626-1765381200-1765389600@barlowsprimary.co.uk
SUMMARY:IEP Parents' Meetings - End of Autumn Term Review
DESCRIPTION:Parents of pupils on the SEND register will have the opportunity to meet with our school SENDCO\, Mrs Berry\, and class teacher to review their child’s Individual Education Plan (IEP) and set targets for the new term. Details of how to book the meeting will follow in due course. \n  \nAppointments available between 3:40pm – 6:00pm \n5 Parks (Mr Kellett’s Class) \n5 Wilberforce (Mr Steven’s Class)
URL:https://barlowsprimary.co.uk/event/iep-parents-meetings-end-of-autumn-term-review-6/
END:VEVENT
BEGIN:VEVENT
DTSTART;VALUE=DATE:20251210
DTEND;VALUE=DATE:20251211
DTSTAMP:20260419T154333
CREATED:20251013T142452Z
LAST-MODIFIED:20251014T104017Z
UID:13546-1765324800-1765411199@barlowsprimary.co.uk
SUMMARY:LSSP Balanceability Session - Reception McKee (Miss Bradshaw's Class)
DESCRIPTION:Reception Classes will be engaging in a series of Balanceability Sessions as part of their PE lessons. These sessions\, expertly delivered by coaches from LSSP\, aim to enhance children’s essential balance skills. \n  \nBalanceability is a foundational programme designed to prepare young learners for riding a bicycle. During these dynamic lessons\, children will develop not only their physical coordination but also their confidence as they encounter various balancing activities. By mastering these skills early on\, our students will significantly improve their readiness for cycling.
URL:https://barlowsprimary.co.uk/event/lssp-balanceability-session-reception-mckee-miss-bradshaws-class-3/
END:VEVENT
BEGIN:VEVENT
DTSTART;TZID=Europe/London:20251208T154000
DTEND;TZID=Europe/London:20251208T180000
DTSTAMP:20260419T154333
CREATED:20251014T081503Z
LAST-MODIFIED:20251021T151755Z
UID:13624-1765208400-1765216800@barlowsprimary.co.uk
SUMMARY:IEP Parents' Meetings - End of Autumn Term Review
DESCRIPTION:Parents of pupils on the SEND register will have the opportunity to meet with our school SENDCO\, Mrs Berry\, and class teacher to review their child’s Individual Education Plan (IEP) and set targets for the new term. Details of how to book the meeting will follow in due course. \n  \nAppointments available between 3:40pm – 6:00pm \n6 Gandhi (Miss Ward’s Class) \n6 Churchill (Miss Hughes’ Class)
URL:https://barlowsprimary.co.uk/event/iep-parents-meetings-end-of-autumn-term-review-5/
END:VEVENT
BEGIN:VEVENT
DTSTART;VALUE=DATE:20251208
DTEND;VALUE=DATE:20251209
DTSTAMP:20260419T154333
CREATED:20251014T081936Z
LAST-MODIFIED:20251014T081936Z
UID:13638-1765152000-1765238399@barlowsprimary.co.uk
SUMMARY:Musical Mondays
DESCRIPTION:
URL:https://barlowsprimary.co.uk/event/musical-mondays/
END:VEVENT
BEGIN:VEVENT
DTSTART;VALUE=DATE:20251205
DTEND;VALUE=DATE:20251206
DTSTAMP:20260419T154333
CREATED:20251014T081857Z
LAST-MODIFIED:20251021T153016Z
UID:13636-1764892800-1764979199@barlowsprimary.co.uk
SUMMARY:Year 5 Discover Ancient Greece and Ancient Rome Educational Visit
DESCRIPTION:We are delighted that our Year 5 pupils will visiting the World Museum in Liverpool to ‘Discover Ancient Greece and Ancient Rome’ workshop. \nBecoming junior archeologists for the day\, the children will handle artefacts\, asking and answering questions\, to enhance their knowledge of two of the most successful civilisations in history. \nThis is an exciting opportunity that we are sure the children will enjoy! \nPlease look out for further information on Arbor.
URL:https://barlowsprimary.co.uk/event/year-5-discover-ancient-greece-and-ancient-rome-educational-visit/
END:VEVENT
BEGIN:VEVENT
DTSTART;TZID=Europe/London:20251204T154000
DTEND;TZID=Europe/London:20251204T180000
DTSTAMP:20260419T154333
CREATED:20251014T080850Z
LAST-MODIFIED:20251021T151532Z
UID:13622-1764862800-1764871200@barlowsprimary.co.uk
SUMMARY:IEP Parents' Meetings - End of Autumn Term Review
DESCRIPTION:Parents of pupils on the SEND register will have the opportunity to meet with our school SENDCO\, Mrs Berry\, and class teacher to review their child’s Individual Education Plan (IEP) and set targets for the new term. Details of how to book the meeting will follow in due course. \n  \nAppointments available between 3:50pm – 6:00pm \n4 Newton (Mrs Clemson’s Class) \n4 Curie (Miss Johnes’ Class)
URL:https://barlowsprimary.co.uk/event/iep-parents-meetings-end-of-autumn-term-review-4/
END:VEVENT
BEGIN:VEVENT
DTSTART;TZID=Europe/London:20251203T154000
DTEND;TZID=Europe/London:20251203T163000
DTSTAMP:20260419T154333
CREATED:20251014T081722Z
LAST-MODIFIED:20251021T152647Z
UID:13632-1764776400-1764779400@barlowsprimary.co.uk
SUMMARY:Usborne Book Fair
DESCRIPTION:Usborne Book Fair is coming to Barlows! \nWe are excited to welcome Osborne Books to Barlows Primary School on: \nTuesday 02/12/25 and Wednesday 03/12/25 \nThe Book Fair will be available to families after school in the school hall. \nFurther information will follow via Arbor
URL:https://barlowsprimary.co.uk/event/usborne-book-fair-4/
END:VEVENT
BEGIN:VEVENT
DTSTART;TZID=Europe/London:20251203T153000
DTEND;TZID=Europe/London:20251203T180000
DTSTAMP:20260419T154333
CREATED:20251014T080758Z
LAST-MODIFIED:20251014T155009Z
UID:13620-1764775800-1764784800@barlowsprimary.co.uk
SUMMARY:IEP Parents' Meetings - End of Autumn Term Review
DESCRIPTION:Parents of pupils on the SEND register will have the opportunity to meet with our school SENDCO\, Mrs Berry\, and class teacher to review their child’s Individual Education Plan (IEP) and set targets for the new term. Details of how to book the meeting will follow in due course. \n  \nAppointments available between 3:40pm – 6:00pm \nNursery Rosen (Miss Watts’ Class) \n3 Monet (Mr James’ Class)
URL:https://barlowsprimary.co.uk/event/iep-parents-meetings-end-of-autumn-term-review-3/
END:VEVENT
BEGIN:VEVENT
DTSTART;VALUE=DATE:20251203
DTEND;VALUE=DATE:20251204
DTSTAMP:20260419T154333
CREATED:20251014T081812Z
LAST-MODIFIED:20251021T152852Z
UID:13634-1764720000-1764806399@barlowsprimary.co.uk
SUMMARY:Children's University Masterclass - Christmas Storytelling - Reception to Year 3
DESCRIPTION:The Christmas Elves from The Storybarn at The Reader are back to share their festive tales from their very own virtual grotto! The virtual session aims to develop children’s enjoyment of reading whilst sharing traditional tales of the festive period.
URL:https://barlowsprimary.co.uk/event/childrens-university-masterclass-christmas-storytelling-reception-to-year-3/
END:VEVENT
BEGIN:VEVENT
DTSTART;VALUE=DATE:20251203
DTEND;VALUE=DATE:20251204
DTSTAMP:20260419T154333
CREATED:20251013T142409Z
LAST-MODIFIED:20251014T103959Z
UID:13544-1764720000-1764806399@barlowsprimary.co.uk
SUMMARY:LSSP Balanceability Session - Reception McKee (Miss Bradshaw's Class)
DESCRIPTION:Reception Classes will be engaging in a series of Balanceability Sessions as part of their PE lessons. These sessions\, expertly delivered by coaches from LSSP\, aim to enhance children’s essential balance skills. \n  \nBalanceability is a foundational programme designed to prepare young learners for riding a bicycle. During these dynamic lessons\, children will develop not only their physical coordination but also their confidence as they encounter various balancing activities. By mastering these skills early on\, our students will significantly improve their readiness for cycling.
URL:https://barlowsprimary.co.uk/event/lssp-balanceability-session-reception-mckee-miss-bradshaws-class-2/
END:VEVENT
BEGIN:VEVENT
DTSTART;TZID=Europe/London:20251202T154000
DTEND;TZID=Europe/London:20251202T180000
DTSTAMP:20260419T154333
CREATED:20251014T080727Z
LAST-MODIFIED:20251021T150953Z
UID:13618-1764690000-1764698400@barlowsprimary.co.uk
SUMMARY:IEP Parents' Meetings - End of Autumn Term Review
DESCRIPTION:Parents of pupils on the SEND register will have the opportunity to meet with our school SENDCO\, Mrs Berry\, and class teacher to review their child’s Individual Education Plan (IEP) and set targets for the new term. Details of how to book the meeting will follow in due course. \n  \nAppointments available between 3:40pm – 6:00pm \n1 Carle (Mr Allinson’s Class) \n3 Gaudi (Miss Hamilton’s Class)
URL:https://barlowsprimary.co.uk/event/iep-parents-meetings-end-of-autumn-term-review-2/
END:VEVENT
BEGIN:VEVENT
DTSTART;TZID=Europe/London:20251202T154000
DTEND;TZID=Europe/London:20251202T163000
DTSTAMP:20260419T154333
CREATED:20251014T081654Z
LAST-MODIFIED:20251021T152540Z
UID:13630-1764690000-1764693000@barlowsprimary.co.uk
SUMMARY:Usborne Book Fair
DESCRIPTION:Usborne Book Fair is coming to Barlows! \nWe are excited to welcome Osborne Books to Barlows Primary School on: \nTuesday 02/12/25 and Wednesday 03/12/25 \nThe Book Fair will be available to families after school in the school hall. \nFurther information will follow via Arbor
URL:https://barlowsprimary.co.uk/event/usborne-book-fair-3/
END:VEVENT
BEGIN:VEVENT
DTSTART;TZID=Europe/London:20251201T154000
DTEND;TZID=Europe/London:20251201T180000
DTSTAMP:20260419T154333
CREATED:20251014T080654Z
LAST-MODIFIED:20251014T154805Z
UID:13616-1764603600-1764612000@barlowsprimary.co.uk
SUMMARY:IEP Parents' Meetings - End of Autumn Term Review
DESCRIPTION:Parents of pupils on the SEND register will have the opportunity to meet with our school SENDCO\, Mrs Berry\, and class teacher to review their child’s Individual Education Plan (IEP) and set targets for the new term. Details of how to book the meeting will follow in due course. \n  \nAppointments available between 3:40pm – 6:00pm \nReception Donaldson (Miss Evans’ Class) \nReception McKee (Miss Bradshaw’s Class) \n1 Kerr (Miss Kelly’s Class)
URL:https://barlowsprimary.co.uk/event/iep-parents-meetings-end-of-autumn-term-review/
END:VEVENT
BEGIN:VEVENT
DTSTART;TZID=Europe/London:20251201T093000
DTEND;TZID=Europe/London:20251201T113000
DTSTAMP:20260419T154333
CREATED:20251014T095723Z
LAST-MODIFIED:20251014T095723Z
UID:13698-1764581400-1764588600@barlowsprimary.co.uk
SUMMARY:Help Your Child Thrive Parent and Carer Programme
DESCRIPTION:The ‘Help Your Child Thrive’ programme is coming to Barlows Primary School from Monday 3rd November to help you to support your child with their learning and development at home. This course runs every Monday morning in school for 5 sessions just after you drop your child off at the start of the school day. \nThe course gives you an insight into what your child will be learning in Reception and KS1. Each week you’ll receive lots of practical tips and ideas as to how to help your child develop skills in communication and language\, personal\, social and emotional wellbeing\, physical development\, literacy and maths. You will be given a booklet full of resources and ideas for fun games to play with your child at home which will help them to thrive in school. The course is also a good chance to meet other parents and get to know a bit more about school. \nSessions will run from 9:30am – 11:30am on the following dates: \nMonday 03/11/25 \nMonday 10/11/25 \nMonday 17/11/25 \nMonday 24/11/25 \nMonday 02/12/25 \nPlaces are limited so please keep an eye out on Arbor for sign up details.
URL:https://barlowsprimary.co.uk/event/help-your-child-thrive-parent-and-carer-programme-5/
END:VEVENT
BEGIN:VEVENT
DTSTART;VALUE=DATE:20251127
DTEND;VALUE=DATE:20251128
DTSTAMP:20260419T154333
CREATED:20251014T080343Z
LAST-MODIFIED:20251014T154211Z
UID:13610-1764201600-1764287999@barlowsprimary.co.uk
SUMMARY:Year 5 & 6 Parents & Carers 'How to...' Mathematics Workshop
DESCRIPTION:We are excited to share with you that this academic year\, we have introduce a new mathematics curriculum across our school – the My Mastery Mathematics Curriculum. \nTo introduce this curriculum to parents and carers and share important learning strategies for Autumn Term\, we will be holding Parent and Carer ‘How to..’ Mathematics sessions\, led by our maths leads Mr Allinson and Miss Hughes. \nParents and carers are invited to attend\, with their child\, on the following dates to learn about the techniques we use in the classroom and different ways you can help your child with mathematics at home: \nReception – Monday 17/11/25 \nYear 1 – Wednesday 19/11/25 \nYear 2 – Thursday 20/11/25 \nYear 3 – Monday 24/11/25 \nYear 4 – Wednesday 26/11/25 \nYear 5 & Year 6 -Thursday 27/11/25 \nWe hope you will be able to join us!
URL:https://barlowsprimary.co.uk/event/year-5-6-parents-carers-how-to-mathematics-workshop/
END:VEVENT
BEGIN:VEVENT
DTSTART;VALUE=DATE:20251127
DTEND;VALUE=DATE:20251128
DTSTAMP:20260419T154333
CREATED:20251014T075018Z
LAST-MODIFIED:20251014T153403Z
UID:13590-1764201600-1764287999@barlowsprimary.co.uk
SUMMARY:Year 3 IntoFilm Festival Cinema Trip - Missing Link - New Brighton Light Cinema
DESCRIPTION:We have been fortunate enough to secure some free cinema trips for for our pupils as part of the IntoFilm Festival. The festival is a fantastic initiative aimed at inspiring students through film\, helping to enhance their creativity\, and fostering a love for storytelling. \nAs part of the festival\, our Year 3 classes will be attending screenings designed to engage their imaginations and will link to work back in school. The children will attend the screening of Missing Link. This visually stunning animation explores themes of displacement and loneliness whilst proving that sometimes family can be found in the most unlikely of places. \nYear 3  \nThursday 27/11/25 \nWe have some spaces for parents and carers to join us on the trip\, details will follow via Arbor.
URL:https://barlowsprimary.co.uk/event/year-3-intofilm-festival-cinema-trip-missing-link-new-brighton-light-cinema/
END:VEVENT
BEGIN:VEVENT
DTSTART;TZID=Europe/London:20251126T080000
DTEND;TZID=Europe/London:20251126T170000
DTSTAMP:20260419T154333
CREATED:20251014T075249Z
LAST-MODIFIED:20251014T153439Z
UID:13592-1764144000-1764176400@barlowsprimary.co.uk
SUMMARY:Canals and Rivers Trust Collingwood Dock and Stanley Lock
DESCRIPTION:We are excited to announce that our Year 6 pupils will be visiting Collingwood Dock and Stanley Lock in Liverpool on Thursday 26/11/25. \nThe excursion will provide students with a practical understanding of mechanical principles\, such as cogs\, pulleys\, and levers\, in the real-life context of locks and docks in local area. This experience will not only enhance the children’s learning in Design Technology but also foster an appreciation for the engineering behind the waterways that have shaped our industrial history. \nMore information will follow on Arbor.
URL:https://barlowsprimary.co.uk/event/canals-and-rivers-trust-collingwood-dock-and-stanley-lock/
END:VEVENT
BEGIN:VEVENT
DTSTART;VALUE=DATE:20251126
DTEND;VALUE=DATE:20251127
DTSTAMP:20260419T154333
CREATED:20251014T080243Z
LAST-MODIFIED:20251014T154155Z
UID:13608-1764115200-1764201599@barlowsprimary.co.uk
SUMMARY:Year 4 Parents & Carers 'How to...' Mathematics Workshop
DESCRIPTION:We are excited to share with you that this academic year\, we have introduce a new mathematics curriculum across our school – the My Mastery Mathematics Curriculum. \nTo introduce this curriculum to parents and carers and share important learning strategies for Autumn Term\, we will be holding Parent and Carer ‘How to..’ Mathematics sessions\, led by our maths leads Mr Allinson and Miss Hughes. \nParents and carers are invited to attend\, with their child\, on the following dates to learn about the techniques we use in the classroom and different ways you can help your child with mathematics at home: \nReception – Monday 17/11/25 \nYear 1 – Wednesday 19/11/25 \nYear 2 – Thursday 20/11/25 \nYear 3 – Monday 24/11/25 \nYear 4 – Wednesday 26/11/25 \nYear 5 & Year 6 -Thursday 27/11/25 \nWe hope you will be able to join us!
URL:https://barlowsprimary.co.uk/event/year-4-parents-carers-how-to-mathematics-workshop/
END:VEVENT
BEGIN:VEVENT
DTSTART;VALUE=DATE:20251126
DTEND;VALUE=DATE:20251127
DTSTAMP:20260419T154333
CREATED:20251014T074840Z
LAST-MODIFIED:20251014T153305Z
UID:13588-1764115200-1764201599@barlowsprimary.co.uk
SUMMARY:Year 4 IntoFilm Festival Cinema Trip - Sonic the Hedgehog 3 - Odeon Cinema\, Liverpool One
DESCRIPTION:We have been fortunate enough to secure some free cinema trips for for our pupils as part of the IntoFilm Festival. The festival is a fantastic initiative aimed at inspiring students through film\, helping to enhance their creativity\, and fostering a love for storytelling. \nAs part of the festival\, our Year 4 classes will be attending screenings designed to engage their imaginations and will link to work back in school. This thrilling action adventure explores themes including teamwork\, friendship and family. \nYear 4  \nWednesday 26/11/25 \nWe have some spaces for parents and carers to join us on the trip\, details will follow via Arbor.
URL:https://barlowsprimary.co.uk/event/year-4-intofilm-festival-cinema-trip-sonic-the-hedgehog-3-odeon-cinema-liverpool-one/
END:VEVENT
BEGIN:VEVENT
DTSTART;VALUE=DATE:20251126
DTEND;VALUE=DATE:20251127
DTSTAMP:20260419T154333
CREATED:20251014T074635Z
LAST-MODIFIED:20251014T153113Z
UID:13584-1764115200-1764201599@barlowsprimary.co.uk
SUMMARY:Year 5 IntoFilm Festival Cinema Trip - Ocean - FACT Cinema\, Liverpool
DESCRIPTION:We have been fortunate enough to secure some free cinema trips for for our pupils as part of the IntoFilm Festival. The festival is a fantastic initiative aimed at inspiring students through film\, helping to enhance their creativity\, and fostering a love for storytelling. As part of the festival\, our Year 5 classes will be attending screenings designed to engage their imaginations and will link to work back in school. \n“Legendary broadcaster Sir David Attenborough has spent over 70 years filming the natural world\, leading him to a passionate belief that the ocean plays a critical role in sustaining life on Earth. This visually stunning and deeply moving documentary takes audiences on a journey through the planet’s most extraordinary marine environments\, from vibrant coral reefs and expansive kelp forests to the mysterious open ocean. Attenborough reflects on the remarkable ocean discoveries made during his lifetime\, while highlighting the pressing threats facing marine ecosystems today\, including overfishing\, pollution\, and climate-driven coral bleaching. Yet\, amidst these challenges\, the film delivers a powerful message of hope. Through inspiring stories of conservation and restoration from around the world\, Attenborough shows that with urgent action and global cooperation\, the ocean’s health can be revived – leading our entire planet to thrive.” \nYear 5  \nWednesday 26/11/25 – Ocean \nWe have some spaces for parents and carers to join us on the trip\, details will follow via Arbor.
URL:https://barlowsprimary.co.uk/event/year-5-intofilm-festival-cinema-trip-ocean-fact-cinema-liverpool/
END:VEVENT
BEGIN:VEVENT
DTSTART;VALUE=DATE:20251126
DTEND;VALUE=DATE:20251127
DTSTAMP:20260419T154333
CREATED:20251013T142347Z
LAST-MODIFIED:20251014T103942Z
UID:13542-1764115200-1764201599@barlowsprimary.co.uk
SUMMARY:LSSP Balanceability Session - Reception McKee (Miss Bradshaw's Class)
DESCRIPTION:Reception Classes will be engaging in a series of Balanceability Sessions as part of their PE lessons. These sessions\, expertly delivered by coaches from LSSP\, aim to enhance children’s essential balance skills. \n  \nBalanceability is a foundational programme designed to prepare young learners for riding a bicycle. During these dynamic lessons\, children will develop not only their physical coordination but also their confidence as they encounter various balancing activities. By mastering these skills early on\, our students will significantly improve their readiness for cycling.
URL:https://barlowsprimary.co.uk/event/lssp-balanceability-session-reception-mckee-miss-bradshaws-class/
END:VEVENT
BEGIN:VEVENT
DTSTART;VALUE=DATE:20251125
DTEND;VALUE=DATE:20251126
DTSTAMP:20260419T154333
CREATED:20251014T080507Z
LAST-MODIFIED:20251014T154504Z
UID:13614-1764028800-1764115199@barlowsprimary.co.uk
SUMMARY:CUSP Spoken Word Festival
DESCRIPTION:In November\, our children will be taking part in the CUSP Spoken Word Festival. the Festival will celebrate and enhance their work on Oracy through live online assemblies\, insights from industry professionals and using a host of exciting resources and activities throughout the day. \nChildren will share their work with other schools from the CUSP partnership in the closing live online assembly.
URL:https://barlowsprimary.co.uk/event/cusp-spoken-word-festival/
END:VEVENT
BEGIN:VEVENT
DTSTART;VALUE=DATE:20251125
DTEND;VALUE=DATE:20251126
DTSTAMP:20260419T154333
CREATED:20251014T074745Z
LAST-MODIFIED:20251014T153212Z
UID:13586-1764028800-1764115199@barlowsprimary.co.uk
SUMMARY:Year 2 IntoFilm Festival Cinema Trip - Wild Robot - Odeon Cinema\, Liverpool One
DESCRIPTION:We have been fortunate enough to secure some free cinema trips for for our pupils as part of the IntoFilm Festival. The festival is a fantastic initiative aimed at inspiring students through film\, helping to enhance their creativity\, and fostering a love for storytelling. \nAs part of the festival\, our Year 2 classes will be attending screenings designed to engage their imaginations and will link to work back in school. The children will attend the screening of Wild Robot. Based on an acclaimed children’s book\, this gorgeous animation explores what happens when nature and technology collide. \n Year 2  \nTuesday 25/11/25 \nWe have some spaces for parents and carers to join us on the trip\, details will follow via Arbor.
URL:https://barlowsprimary.co.uk/event/year-2-intofilm-festival-cinema-trip-wild-robot-odeon-cinema-liverpool-one/
END:VEVENT
BEGIN:VEVENT
DTSTART;VALUE=DATE:20251125
DTEND;VALUE=DATE:20251126
DTSTAMP:20260419T154333
CREATED:20251014T072516Z
LAST-MODIFIED:20251014T151449Z
UID:13560-1764028800-1764115199@barlowsprimary.co.uk
SUMMARY:Children's University Masterclass Titanic: Travelling in Time
DESCRIPTION:Children will take part in this virtual session\, exploring the story of the RMS Titanic on this ‘Travelling in Time’ workshop\, delivered by Liverpool Maritime Museum. Children will hear stories about the passengers of the Titanic\, learn about the timeline of the fateful journey and discover what artefacts can tell us about the past.
URL:https://barlowsprimary.co.uk/event/childrens-university-masterclass-titanic-travelling-in-time/
END:VEVENT
BEGIN:VEVENT
DTSTART;TZID=Europe/London:20251124T093000
DTEND;TZID=Europe/London:20251124T113000
DTSTAMP:20260419T154333
CREATED:20251014T095544Z
LAST-MODIFIED:20251014T095544Z
UID:13696-1763976600-1763983800@barlowsprimary.co.uk
SUMMARY:Help Your Child Thrive Parent and Carer Programme
DESCRIPTION:The ‘Help Your Child Thrive’ programme is coming to Barlows Primary School from Monday 3rd November to help you to support your child with their learning and development at home. This course runs every Monday morning in school for 5 sessions just after you drop your child off at the start of the school day. \nThe course gives you an insight into what your child will be learning in Reception and KS1. Each week you’ll receive lots of practical tips and ideas as to how to help your child develop skills in communication and language\, personal\, social and emotional wellbeing\, physical development\, literacy and maths. You will be given a booklet full of resources and ideas for fun games to play with your child at home which will help them to thrive in school. The course is also a good chance to meet other parents and get to know a bit more about school. \nSessions will run from 9:30am – 11:30am on the following dates: \nMonday 03/11/25 \nMonday 10/11/25 \nMonday 17/11/25 \nMonday 24/11/25 \nMonday 02/12/25 \nPlaces are limited so please keep an eye out on Arbor for sign up details.
URL:https://barlowsprimary.co.uk/event/help-your-child-thrive-parent-and-carer-programme-4/
END:VEVENT
BEGIN:VEVENT
DTSTART;VALUE=DATE:20251124
DTEND;VALUE=DATE:20251129
DTSTAMP:20260419T154333
CREATED:20251014T080438Z
LAST-MODIFIED:20251014T154420Z
UID:13612-1763942400-1764374399@barlowsprimary.co.uk
SUMMARY:UK Parliament Week
DESCRIPTION:“UK Parliament Week (UKPW) is an annual event\, spreading the word about what Parliament is\, what it does and how you can get involved. It’s a great way to find out new things about UK Parliament or be reminded of things you might’ve forgotten!” \nOur School Council will be leading our UK Parliament Week Celebrations to learn more about Parliament\, democracy and law. The children will learn about how laws were created in the past compared to today and how our British History has led to the way laws and democracy take place in modern day Britain. \nThe children will participate in debating topics and understand what it means to have the right to vote.
URL:https://barlowsprimary.co.uk/event/uk-parliament-week/
END:VEVENT
END:VCALENDAR